BEGIN:VCALENDAR
VERSION:2.0
PRODID:-//4 Horsemen Publications - ECPv6.15.20//NONSGML v1.0//EN
CALSCALE:GREGORIAN
METHOD:PUBLISH
X-WR-CALNAME:4 Horsemen Publications
X-ORIGINAL-URL:https://4horsemenpublications.com
X-WR-CALDESC:Events for 4 Horsemen Publications
REFRESH-INTERVAL;VALUE=DURATION:PT1H
X-Robots-Tag:noindex
X-PUBLISHED-TTL:PT1H
BEGIN:VTIMEZONE
TZID:America/New_York
BEGIN:DAYLIGHT
TZOFFSETFROM:-0500
TZOFFSETTO:-0400
TZNAME:EDT
DTSTART:20240310T070000
END:DAYLIGHT
BEGIN:STANDARD
TZOFFSETFROM:-0400
TZOFFSETTO:-0500
TZNAME:EST
DTSTART:20241103T060000
END:STANDARD
BEGIN:DAYLIGHT
TZOFFSETFROM:-0500
TZOFFSETTO:-0400
TZNAME:EDT
DTSTART:20250309T070000
END:DAYLIGHT
BEGIN:STANDARD
TZOFFSETFROM:-0400
TZOFFSETTO:-0500
TZNAME:EST
DTSTART:20251102T060000
END:STANDARD
BEGIN:DAYLIGHT
TZOFFSETFROM:-0500
TZOFFSETTO:-0400
TZNAME:EDT
DTSTART:20260308T070000
END:DAYLIGHT
BEGIN:STANDARD
TZOFFSETFROM:-0400
TZOFFSETTO:-0500
TZNAME:EST
DTSTART:20261101T060000
END:STANDARD
END:VTIMEZONE
BEGIN:VEVENT
DTSTART;VALUE=DATE:20250808
DTEND;VALUE=DATE:20250810
DTSTAMP:20260425T163642
CREATED:20250731T141234Z
LAST-MODIFIED:20250731T141749Z
UID:11178-1754668800-1754841599@4horsemenpublications.com
SUMMARY:Deep South Para-Comi-Con
DESCRIPTION:Deep South Para-Comi-Con\, a two-day event at the Ozark Civic Center\, offers an affordable\, family-friendly experience featuring a wide array of guests\, vendors\, artists\, and fan communities \nAttending author: \n\nAmanda Fasciano
URL:https://4horsemenpublications.com/event/deep-south-para-comi-con/
LOCATION:Ozark Civic Center\, 320 E College St\, Ozark\, AL\, 36360\, United States
CATEGORIES:Conventions,Author Signing,Imprint,4 Horsemen Publications
ATTACH;FMTTYPE=image/png:https://4horsemenpublications.com/wp-content/uploads/2025/07/Screenshot-2025-07-31-201039.png
END:VEVENT
END:VCALENDAR