BEGIN:VCALENDAR
VERSION:2.0
PRODID:-//4 Horsemen Publications - ECPv6.15.20//NONSGML v1.0//EN
CALSCALE:GREGORIAN
METHOD:PUBLISH
X-ORIGINAL-URL:https://4horsemenpublications.com
X-WR-CALDESC:Events for 4 Horsemen Publications
REFRESH-INTERVAL;VALUE=DURATION:PT1H
X-Robots-Tag:noindex
X-PUBLISHED-TTL:PT1H
BEGIN:VTIMEZONE
TZID:America/New_York
BEGIN:DAYLIGHT
TZOFFSETFROM:-0500
TZOFFSETTO:-0400
TZNAME:EDT
DTSTART:20240310T070000
END:DAYLIGHT
BEGIN:STANDARD
TZOFFSETFROM:-0400
TZOFFSETTO:-0500
TZNAME:EST
DTSTART:20241103T060000
END:STANDARD
BEGIN:DAYLIGHT
TZOFFSETFROM:-0500
TZOFFSETTO:-0400
TZNAME:EDT
DTSTART:20250309T070000
END:DAYLIGHT
BEGIN:STANDARD
TZOFFSETFROM:-0400
TZOFFSETTO:-0500
TZNAME:EST
DTSTART:20251102T060000
END:STANDARD
BEGIN:DAYLIGHT
TZOFFSETFROM:-0500
TZOFFSETTO:-0400
TZNAME:EDT
DTSTART:20260308T070000
END:DAYLIGHT
BEGIN:STANDARD
TZOFFSETFROM:-0400
TZOFFSETTO:-0500
TZNAME:EST
DTSTART:20261101T060000
END:STANDARD
END:VTIMEZONE
BEGIN:VEVENT
DTSTART;VALUE=DATE:20250926
DTEND;VALUE=DATE:20250928
DTSTAMP:20260424T170454
CREATED:20250903T102626Z
LAST-MODIFIED:20250903T102654Z
UID:11392-1758902400-1759075199@4horsemenpublications.com
SUMMARY:Incredible Con
DESCRIPTION:A two-day anime experience with stars from your favorite anime shows and films. Join the thousands of fans that have already discovered the Incredible Con experience. \nAttending author: \n\nRobert Lewis
URL:https://4horsemenpublications.com/event/incredible-con-2/
LOCATION:Charleston Area Convention Center\, North Charleston\, SC\, United States
CATEGORIES:Conventions,Author Signing,4 Horsemen Publications
ATTACH;FMTTYPE=image/jpeg:https://4horsemenpublications.com/wp-content/uploads/2025/09/IMG_36FA32A5E96D-1-Robert-Lewis.jpeg
END:VEVENT
BEGIN:VEVENT
DTSTART;TZID=America/New_York:20250927T020000
DTEND;TZID=America/New_York:20250927T090000
DTSTAMP:20260424T170454
CREATED:20250903T102225Z
LAST-MODIFIED:20250903T102225Z
UID:11388-1758938400-1758963600@4horsemenpublications.com
SUMMARY:Fall Festival
DESCRIPTION:Come shop with over 150 local vendors indoors and kick the fall season off at Arizona Athletic Grounds! INDOORS! \nAttending author: \n\nMimi Francis
URL:https://4horsemenpublications.com/event/fall-festival/
LOCATION:Arizona Athletic Grounds\, 6321 S Ellsworth Rd\, Mesa\, AZ\, United States
CATEGORIES:Festival,Author Signing,4 Horsemen Publications
ATTACH;FMTTYPE=image/jpeg:https://4horsemenpublications.com/wp-content/uploads/2025/09/Fall-Festival-927-Mimi-Francis.jpg
END:VEVENT
BEGIN:VEVENT
DTSTART;TZID=America/New_York:20250927T030000
DTEND;TZID=America/New_York:20250927T040000
DTSTAMP:20260424T170454
CREATED:20250128T124000Z
LAST-MODIFIED:20250128T124000Z
UID:10310-1758942000-1758945600@4horsemenpublications.com
SUMMARY:Webinar: The Muses on Research
DESCRIPTION:Join the Muses for tips on research.
URL:https://4horsemenpublications.com/event/webinar-the-muses-on-research/
LOCATION:Accountable Authors Community Discord Events Room
CATEGORIES:Webinar
END:VEVENT
END:VCALENDAR