BEGIN:VCALENDAR
VERSION:2.0
PRODID:-//4 Horsemen Publications - ECPv6.15.20//NONSGML v1.0//EN
CALSCALE:GREGORIAN
METHOD:PUBLISH
X-WR-CALNAME:4 Horsemen Publications
X-ORIGINAL-URL:https://4horsemenpublications.com
X-WR-CALDESC:Events for 4 Horsemen Publications
REFRESH-INTERVAL;VALUE=DURATION:PT1H
X-Robots-Tag:noindex
X-PUBLISHED-TTL:PT1H
BEGIN:VTIMEZONE
TZID:America/New_York
BEGIN:DAYLIGHT
TZOFFSETFROM:-0500
TZOFFSETTO:-0400
TZNAME:EDT
DTSTART:20240310T070000
END:DAYLIGHT
BEGIN:STANDARD
TZOFFSETFROM:-0400
TZOFFSETTO:-0500
TZNAME:EST
DTSTART:20241103T060000
END:STANDARD
BEGIN:DAYLIGHT
TZOFFSETFROM:-0500
TZOFFSETTO:-0400
TZNAME:EDT
DTSTART:20250309T070000
END:DAYLIGHT
BEGIN:STANDARD
TZOFFSETFROM:-0400
TZOFFSETTO:-0500
TZNAME:EST
DTSTART:20251102T060000
END:STANDARD
BEGIN:DAYLIGHT
TZOFFSETFROM:-0500
TZOFFSETTO:-0400
TZNAME:EDT
DTSTART:20260308T070000
END:DAYLIGHT
BEGIN:STANDARD
TZOFFSETFROM:-0400
TZOFFSETTO:-0500
TZNAME:EST
DTSTART:20261101T060000
END:STANDARD
END:VTIMEZONE
BEGIN:VEVENT
DTSTART;VALUE=DATE:20251002
DTEND;VALUE=DATE:20251005
DTSTAMP:20260424T115904
CREATED:20250924T115229Z
LAST-MODIFIED:20251001T025503Z
UID:11484-1759420800-1759679999@4horsemenpublications.com
SUMMARY:Scaradise
DESCRIPTION:SCARADISE! FLORIDA’S HORROR CONVENTION! \nAttending Authors: \n\nSteve Altier\nMaria DeVivo\nNick Savage
URL:https://4horsemenpublications.com/event/scaradise/
LOCATION:Florida State Fairgrounds\, 4800 US-301\, Tampa\, FL\, 33610\, United States
CATEGORIES:Conventions,Imprint,4 Horsemen Publications
ATTACH;FMTTYPE=image/jpeg:https://4horsemenpublications.com/wp-content/uploads/2025/09/HEADER-Nick-Savage.jpg
END:VEVENT
END:VCALENDAR