BEGIN:VCALENDAR
VERSION:2.0
PRODID:-//4 Horsemen Publications - ECPv6.15.20//NONSGML v1.0//EN
CALSCALE:GREGORIAN
METHOD:PUBLISH
X-WR-CALNAME:4 Horsemen Publications
X-ORIGINAL-URL:https://4horsemenpublications.com
X-WR-CALDESC:Events for 4 Horsemen Publications
REFRESH-INTERVAL;VALUE=DURATION:PT1H
X-Robots-Tag:noindex
X-PUBLISHED-TTL:PT1H
BEGIN:VTIMEZONE
TZID:America/New_York
BEGIN:DAYLIGHT
TZOFFSETFROM:-0500
TZOFFSETTO:-0400
TZNAME:EDT
DTSTART:20240310T070000
END:DAYLIGHT
BEGIN:STANDARD
TZOFFSETFROM:-0400
TZOFFSETTO:-0500
TZNAME:EST
DTSTART:20241103T060000
END:STANDARD
BEGIN:DAYLIGHT
TZOFFSETFROM:-0500
TZOFFSETTO:-0400
TZNAME:EDT
DTSTART:20250309T070000
END:DAYLIGHT
BEGIN:STANDARD
TZOFFSETFROM:-0400
TZOFFSETTO:-0500
TZNAME:EST
DTSTART:20251102T060000
END:STANDARD
BEGIN:DAYLIGHT
TZOFFSETFROM:-0500
TZOFFSETTO:-0400
TZNAME:EDT
DTSTART:20260308T070000
END:DAYLIGHT
BEGIN:STANDARD
TZOFFSETFROM:-0400
TZOFFSETTO:-0500
TZNAME:EST
DTSTART:20261101T060000
END:STANDARD
END:VTIMEZONE
BEGIN:VEVENT
DTSTART;VALUE=DATE:20251005
DTEND;VALUE=DATE:20251102
DTSTAMP:20260424T152542
CREATED:20251006T091232Z
LAST-MODIFIED:20251006T091232Z
UID:11607-1759680000-1762099199@4horsemenpublications.com
SUMMARY:Spooky Empire
DESCRIPTION:Central Florida’s biggest Horror convention is running Halloween weekend for the biggest\, Spookiest bash of the year!\nVendors\, celebrities\, film festival\, tattoos\, panels\, live music\, shows\, and more! \nAuthor Jackie Sonnenberg is a frequent guest and will be on the Spooky Empire Creator’s Track as a guest author doing signings\, Q&A and panels.\nYou can also catch her in costume on the show floor… \nAttending author: \n\nJackie Sonnenberg
URL:https://4horsemenpublications.com/event/spooky-empire-2/
LOCATION:Hyatt Regency Orlando\, 9801 International Dr.\, Orlando\, FL\, 32819
CATEGORIES:Conventions,Author Signing,Imprint,4 Horsemen Publications
ATTACH;FMTTYPE=image/jpeg:https://4horsemenpublications.com/wp-content/uploads/2025/10/20250622_115904-Jackie-Sonnenberg-scaled.jpg
END:VEVENT
BEGIN:VEVENT
DTSTART;VALUE=DATE:20251016
DTEND;VALUE=DATE:20251019
DTSTAMP:20260424T152542
CREATED:20251006T013637Z
LAST-MODIFIED:20251006T013637Z
UID:11591-1760630400-1760889599@4horsemenpublications.com
SUMMARY:Florida WritersCon 2025
DESCRIPTION:Keynote Address from Kristen Arnett\nFlorida based writer Kristen Arnett’s work has appeared in Guernica\, The Guardian\, McSweeney’s\, and other publications. She was a finalist for the 2020 Lambda Literary award and won the Ninth Letter Literary and the Coil Book awards. Her new book\, Stop Me if You’ve Heard This One\, has garnered high praise. \nNEW – Curated Workshop Tracks\nWe’ve organized our diverse workshop offerings into Curated Tracks—themed collections of sessions designed to guide you through the aspects of writing and publishing that matter most to you. Including craft\, publishing\, marketing\, and legal. \nNEW – Writers Connect (Thoughtful Networking)\nJoin us on Friday afternoon for 2 hours of thoughtful networking. Instead of milling about a large room and handing out business cards\, attendees will participate in guided activities designed to encourage authentic connection and inspire a sense of fun. Activities include deep conversation tables\, a pitch storm group activity\, and matching games. Connect with other writers and leave with a few new friends. \nNEW – Your FWA Membership Benefits\nOur new Executive Director\, Ginnye Cubel\, will lead a session on how to maximize your FWA membership benefits based on your specific writing and career goals. PLUS\, we’ll reveal new membership benefits coming in 2026. Be the first to see what’s in store for the coming year! \n23 Workshops Designed for Writers\nChoose from 23 different workshops\, over Friday and Saturday\, that are focused on helping emerging and established writers sharpen their craft\, discover new publishing paths\, and level up their writing business. Lead by experts and industry professionals\, you’ll leave feeling inspired and empowered! \nCelebrate Exceptional Writing\nJoin us at the Royal Palm Literary Awards banquet and celebrate exceptional member writing! Awards will be presented alongside an elegant dinner.\n \nDon’t miss out on this incredible opportunity to enhance your writing career. Secure your spot at Florida WritersCon 2025 and take the next step towards writing success! \nhttps://www.floridawriters.org/florida-writerscon
URL:https://4horsemenpublications.com/event/florida-writerscon-2025/
LOCATION:Hilton Orlando/Alamonte Springs\, 350 Northlake Blvd\, Altamonte Springs\, FL\, 32701\, United States
CATEGORIES:Imprint,4 Horsemen Publications
ATTACH;FMTTYPE=image/png:https://4horsemenpublications.com/wp-content/uploads/2025/10/Screenshot-2025-09-11-at-12.49.57-AM-Author-Valerie-Willis.png
END:VEVENT
BEGIN:VEVENT
DTSTART;TZID=America/New_York:20251018T030000
DTEND;TZID=America/New_York:20251018T040000
DTSTAMP:20260424T152542
CREATED:20250128T124148Z
LAST-MODIFIED:20250128T124148Z
UID:10313-1760756400-1760760000@4horsemenpublications.com
SUMMARY:Webinar: The Muses on Genre
DESCRIPTION:Join the Muses for tips on genre.
URL:https://4horsemenpublications.com/event/webinar-the-muses-on-genre/
LOCATION:Accountable Authors Community Discord Events Room
CATEGORIES:Webinar
END:VEVENT
BEGIN:VEVENT
DTSTART;TZID=America/New_York:20251018T030000
DTEND;TZID=America/New_York:20251018T060000
DTSTAMP:20260424T152542
CREATED:20251006T012442Z
LAST-MODIFIED:20251006T012442Z
UID:11586-1760756400-1760767200@4horsemenpublications.com
SUMMARY:Florida Gothic Halloween
DESCRIPTION:Local Author Signing Event \nAttending author: \n\nMaria DeVivo
URL:https://4horsemenpublications.com/event/florida-gothic-halloween/
LOCATION:Barnes & Noble St. Petersburg
CATEGORIES:Imprint,4 Horsemen Publications
ATTACH;FMTTYPE=image/jpeg:https://4horsemenpublications.com/wp-content/uploads/2025/10/Appearances-2025-17-Maria-DeVivo.jpg
END:VEVENT
BEGIN:VEVENT
DTSTART;TZID=America/New_York:20251018T030000
DTEND;TZID=America/New_York:20251018T130000
DTSTAMP:20260424T152542
CREATED:20251006T012025Z
LAST-MODIFIED:20251006T012025Z
UID:11581-1760756400-1760792400@4horsemenpublications.com
SUMMARY:Jekyll & Hyde Festival
DESCRIPTION:The ultimate Halloween street festival—family-friendly frights and delights! \nAttending author: \n\nSteve Altier
URL:https://4horsemenpublications.com/event/jekyll-hyde-festival/
LOCATION:Brunswick-Glynn County Library\, 208 Gloucester Street\, Brunswick\, GA\, United States
CATEGORIES:Imprint,4 Horsemen Publications
ATTACH;FMTTYPE=image/png:https://4horsemenpublications.com/wp-content/uploads/2025/10/Oct-18-Author-Steve-Altier.png
END:VEVENT
BEGIN:VEVENT
DTSTART;TZID=America/New_York:20251018T040000
DTEND;TZID=America/New_York:20251018T140000
DTSTAMP:20260424T152542
CREATED:20251015T072617Z
LAST-MODIFIED:20251015T072617Z
UID:11682-1760760000-1760796000@4horsemenpublications.com
SUMMARY:Pride Orlando 2025
DESCRIPTION:Dominic N. Ashen will be selling and signing books as part of Orlando’s annual Come Out With Pride Festival. Come see him and several other smutty authors on Saturday\, October 18\, 2025 starting at 12 noon in the vendors area! Full schedule below. \n\n12:00 PM – Festival Opens – SponsorWalk\, Marketplace\, Family Spot\, Food Vendors\, Trans Pride & Sober Space\n1:00 PM – Trans Rally at Trans Pride\, presented by Crew Health\n2:00 PM – 7:00 PM – SONIC BLOOM FIELD\, presented by BlueLaLa Entertainment. Feel the rhythm\, unite with community\, and celebrate Pride like never before!\n4:00 PM – The Most Colorful Parade\n6:30 PM – Pride Rally & Awards Presentation\n7:00 PM – 9:30 PM – Diva Stage\, presented by Show Imaging Featuring JORGEOUS\, the unstoppable superstar from RuPaul’s Drag Race\, alongside TS Madison\, Drag Race judge\, and local legend Anjelica Sanchez. Jaw-dropping drag and burlesque performances all evening!\n9:30 PM – Fireworks Grand Finale\, presented by Delta\, produced by BlueLaLa Entertainment with fireworks by Santore.
URL:https://4horsemenpublications.com/event/pride-orlando-2025/
LOCATION:Lake Eola Park\, 512 E Washington St\, Orlando\, FL\, 32801\, United States
CATEGORIES:Festival,Author Signing
ATTACH;FMTTYPE=image/jpeg:https://4horsemenpublications.com/wp-content/uploads/2025/10/We-are-so-honored-to-share-that-we-were-selected-as-one-of-the-2025-🏳️_🌈-Pride-Orlando🏳️_🌈-v.jpg
END:VEVENT
END:VCALENDAR