BEGIN:VCALENDAR
VERSION:2.0
PRODID:-//4 Horsemen Publications - ECPv6.15.20//NONSGML v1.0//EN
CALSCALE:GREGORIAN
METHOD:PUBLISH
X-ORIGINAL-URL:https://4horsemenpublications.com
X-WR-CALDESC:Events for 4 Horsemen Publications
REFRESH-INTERVAL;VALUE=DURATION:PT1H
X-Robots-Tag:noindex
X-PUBLISHED-TTL:PT1H
BEGIN:VTIMEZONE
TZID:America/New_York
BEGIN:DAYLIGHT
TZOFFSETFROM:-0500
TZOFFSETTO:-0400
TZNAME:EDT
DTSTART:20240310T070000
END:DAYLIGHT
BEGIN:STANDARD
TZOFFSETFROM:-0400
TZOFFSETTO:-0500
TZNAME:EST
DTSTART:20241103T060000
END:STANDARD
BEGIN:DAYLIGHT
TZOFFSETFROM:-0500
TZOFFSETTO:-0400
TZNAME:EDT
DTSTART:20250309T070000
END:DAYLIGHT
BEGIN:STANDARD
TZOFFSETFROM:-0400
TZOFFSETTO:-0500
TZNAME:EST
DTSTART:20251102T060000
END:STANDARD
BEGIN:DAYLIGHT
TZOFFSETFROM:-0500
TZOFFSETTO:-0400
TZNAME:EDT
DTSTART:20260308T070000
END:DAYLIGHT
BEGIN:STANDARD
TZOFFSETFROM:-0400
TZOFFSETTO:-0500
TZNAME:EST
DTSTART:20261101T060000
END:STANDARD
END:VTIMEZONE
BEGIN:VEVENT
DTSTART;VALUE=DATE:20251104
DTEND;VALUE=DATE:20251105
DTSTAMP:20260424T070317
CREATED:20251015T030033Z
LAST-MODIFIED:20251015T030033Z
UID:11665-1762272000-1762358399@4horsemenpublications.com
SUMMARY:Whiskers in Fredonia
DESCRIPTION:Bestselling author Nick Smith will read and sign copies of his “Whiskers in the Dark” series of shaggy dog mystery novels! \nAttending Author: \n\nNick Smith
URL:https://4horsemenpublications.com/event/whiskers-in-fredonia/
LOCATION:Fredonia Bookstore\, 1 University Commons\, Fredonia\, NY\, 14063\, United States
CATEGORIES:Author Signing
ATTACH;FMTTYPE=image/png:https://4horsemenpublications.com/wp-content/uploads/2025/10/Milk-Treading-signing-11.5.25-Nick-Smith-scaled.png
END:VEVENT
END:VCALENDAR