BEGIN:VCALENDAR
VERSION:2.0
PRODID:-//4 Horsemen Publications - ECPv6.15.20//NONSGML v1.0//EN
CALSCALE:GREGORIAN
METHOD:PUBLISH
X-WR-CALNAME:4 Horsemen Publications
X-ORIGINAL-URL:https://4horsemenpublications.com
X-WR-CALDESC:Events for 4 Horsemen Publications
REFRESH-INTERVAL;VALUE=DURATION:PT1H
X-Robots-Tag:noindex
X-PUBLISHED-TTL:PT1H
BEGIN:VTIMEZONE
TZID:America/New_York
BEGIN:DAYLIGHT
TZOFFSETFROM:-0500
TZOFFSETTO:-0400
TZNAME:EDT
DTSTART:20240310T070000
END:DAYLIGHT
BEGIN:STANDARD
TZOFFSETFROM:-0400
TZOFFSETTO:-0500
TZNAME:EST
DTSTART:20241103T060000
END:STANDARD
BEGIN:DAYLIGHT
TZOFFSETFROM:-0500
TZOFFSETTO:-0400
TZNAME:EDT
DTSTART:20250309T070000
END:DAYLIGHT
BEGIN:STANDARD
TZOFFSETFROM:-0400
TZOFFSETTO:-0500
TZNAME:EST
DTSTART:20251102T060000
END:STANDARD
BEGIN:DAYLIGHT
TZOFFSETFROM:-0500
TZOFFSETTO:-0400
TZNAME:EDT
DTSTART:20260308T070000
END:DAYLIGHT
BEGIN:STANDARD
TZOFFSETFROM:-0400
TZOFFSETTO:-0500
TZNAME:EST
DTSTART:20261101T060000
END:STANDARD
END:VTIMEZONE
BEGIN:VEVENT
DTSTART;VALUE=DATE:20251121
DTEND;VALUE=DATE:20251122
DTSTAMP:20260425T095000
CREATED:20251028T040937Z
LAST-MODIFIED:20251028T040956Z
UID:11746-1763740800-1763827199@4horsemenpublications.com
SUMMARY:Plymouth Meeting Mall BookFest
DESCRIPTION:Meet 40 authors and find your next great read (or book to give) at the Plymouth Meeting Mall from 11 to 5 on Saturday\, November 22nd. We welcome adults and kids alike to celebrate reading and explore local fiction. Browse books\, engage with authors\, and shop for signed books! FREE to attend!\nHosted by the Norristown / Norriton Authors Alliance.
URL:https://4horsemenpublications.com/event/plymouth-meeting-mall-bookfest/
LOCATION:Plymouth Meeting Mall\, 500 W Germantown Pike\, Plymouth Meeting\, PA\, 19462\, United States
CATEGORIES:Author Signing,4 Horsemen Publications
ATTACH;FMTTYPE=image/jpeg:https://4horsemenpublications.com/wp-content/uploads/2025/10/Plymouth-Meeting-Book-FEST-Eskay-Kabba.jpg
END:VEVENT
BEGIN:VEVENT
DTSTART;TZID=America/New_York:20251122T060000
DTEND;TZID=America/New_York:20251122T100000
DTSTAMP:20260425T095000
CREATED:20251007T073655Z
LAST-MODIFIED:20251007T073655Z
UID:11628-1763791200-1763805600@4horsemenpublications.com
SUMMARY:The Boozy Bookworm Holiday Market
DESCRIPTION:All genre book fair and craft beers.  \nAttending authors: \n\nSteve Altier
URL:https://4horsemenpublications.com/event/the-boozy-bookworm-holiday-market/
LOCATION:Craft Life Brewing\, 6810 Tower Drive\, Hudson\, FL\, United States
CATEGORIES:Festival,Author Signing,4 Horsemen Publications
ATTACH;FMTTYPE=image/jpeg:https://4horsemenpublications.com/wp-content/uploads/2025/10/IMG_20250826_074524-Author-Steve-Altier.jpg
END:VEVENT
END:VCALENDAR