BEGIN:VCALENDAR
VERSION:2.0
PRODID:-//4 Horsemen Publications - ECPv6.15.20//NONSGML v1.0//EN
CALSCALE:GREGORIAN
METHOD:PUBLISH
X-WR-CALNAME:4 Horsemen Publications
X-ORIGINAL-URL:https://4horsemenpublications.com
X-WR-CALDESC:Events for 4 Horsemen Publications
REFRESH-INTERVAL;VALUE=DURATION:PT1H
X-Robots-Tag:noindex
X-PUBLISHED-TTL:PT1H
BEGIN:VTIMEZONE
TZID:America/New_York
BEGIN:DAYLIGHT
TZOFFSETFROM:-0500
TZOFFSETTO:-0400
TZNAME:EDT
DTSTART:20250309T070000
END:DAYLIGHT
BEGIN:STANDARD
TZOFFSETFROM:-0400
TZOFFSETTO:-0500
TZNAME:EST
DTSTART:20251102T060000
END:STANDARD
BEGIN:DAYLIGHT
TZOFFSETFROM:-0500
TZOFFSETTO:-0400
TZNAME:EDT
DTSTART:20260308T070000
END:DAYLIGHT
BEGIN:STANDARD
TZOFFSETFROM:-0400
TZOFFSETTO:-0500
TZNAME:EST
DTSTART:20261101T060000
END:STANDARD
BEGIN:DAYLIGHT
TZOFFSETFROM:-0500
TZOFFSETTO:-0400
TZNAME:EDT
DTSTART:20270314T070000
END:DAYLIGHT
BEGIN:STANDARD
TZOFFSETFROM:-0400
TZOFFSETTO:-0500
TZNAME:EST
DTSTART:20271107T060000
END:STANDARD
END:VTIMEZONE
BEGIN:VTIMEZONE
TZID:America/New_York
BEGIN:DAYLIGHT
TZOFFSETFROM:-0500
TZOFFSETTO:-0400
TZNAME:EDT
DTSTART:20250309T070000
END:DAYLIGHT
BEGIN:STANDARD
TZOFFSETFROM:-0400
TZOFFSETTO:-0500
TZNAME:EST
DTSTART:20251102T060000
END:STANDARD
BEGIN:DAYLIGHT
TZOFFSETFROM:-0500
TZOFFSETTO:-0400
TZNAME:EDT
DTSTART:20260308T070000
END:DAYLIGHT
BEGIN:STANDARD
TZOFFSETFROM:-0400
TZOFFSETTO:-0500
TZNAME:EST
DTSTART:20261101T060000
END:STANDARD
BEGIN:DAYLIGHT
TZOFFSETFROM:-0500
TZOFFSETTO:-0400
TZNAME:EDT
DTSTART:20270314T070000
END:DAYLIGHT
BEGIN:STANDARD
TZOFFSETFROM:-0400
TZOFFSETTO:-0500
TZNAME:EST
DTSTART:20271107T060000
END:STANDARD
END:VTIMEZONE
BEGIN:VEVENT
DTSTART;VALUE=DATE:20260130
DTEND;VALUE=DATE:20260201
DTSTAMP:20260424T063612
CREATED:20251230T075756Z
LAST-MODIFIED:20251230T075756Z
UID:12782-1769788800-1769961599@4horsemenpublications.com
SUMMARY:Feel The Heat Book Bash
DESCRIPTION:Multi-genre book fair with a concentration on romance. \nAttending Author: \n\nMaria DeVivo
URL:https://4horsemenpublications.com/event/feel-the-heat-book-bash/
LOCATION:Hyatt Place Orlando/Lake Buena Vista\, 8688 Palm Parkway\, Orlando\, FL\, 32836\, United States
CATEGORIES:Festival,4 Horsemen Publications
ATTACH;FMTTYPE=image/jpeg:https://4horsemenpublications.com/wp-content/uploads/2025/12/Appearances-2026-1-Maria-DeVivo.jpg
END:VEVENT
BEGIN:VEVENT
DTSTART;TZID=America/New_York:20260131T040000
DTEND;TZID=America/New_York:20260131T080000
DTSTAMP:20260424T063612
CREATED:20260130T110308Z
LAST-MODIFIED:20260130T110424Z
UID:12895-1769832000-1769846400@4horsemenpublications.com
SUMMARY:Love Can be Scary Book Fair
DESCRIPTION:Event by Southgate Media Group\nDes Plaines Theatre\nDuration: 4 hr\nPublic · Anyone on or off Facebook\n❤️🖤 LOVE CAN BE SCARY BOOK FAIR 🖤❤️\nMeet Authors\, Buy Books\nJust in time for Valentine’s Day\, fall in love with stories that make your heart race—and maybe skip a beat. Love Can Be Scary Book Fair is a one-day pop-up romance and horror book fair taking over the historic Des Plaines Theatre for an afternoon of passion\, suspense\, and thrills.\nFrom swoon-worthy romance to dark\, twisted horror\, this event brings together authors signing their books\, along with vendors offering bookish goods and gifts perfect for Valentine’s season. Whether you’re shopping for a partner\, a friend\, or yourself\, you’ll find something unforgettable.\n💘 Why You’ll Love It:\nMeet and chat with romance & horror authors\nSigned books you can’t get anywhere else\nVendors with unique bookish gifts\nThe perfect pre-Valentine’s Day outing\n🗓 January 31\, 2026\n🕛 Noon – 4:00 PM\n📍 Des Plaines Theatre\nWhether you believe love is sweet\, terrifying\, or a little of both—this is the book fair for you.\nLove Can Be Scary. Come find your next obsession.\n*Oh yeah\, there are other books there too!
URL:https://4horsemenpublications.com/event/love-can-be-scary-book-fair/
LOCATION:Des Plaines Theatre\, 1476 Miner St.\, Des Plaines\, IL\, 60016\, United States
CATEGORIES:Festival,Author Signing,4 Horsemen Publications
ATTACH;FMTTYPE=image/jpeg:https://4horsemenpublications.com/wp-content/uploads/2026/01/617662997_1543606090529825_3651242794562928593_n-Morgan-Moreau.jpg
END:VEVENT
END:VCALENDAR