BEGIN:VCALENDAR
VERSION:2.0
PRODID:-//4 Horsemen Publications - ECPv6.15.20//NONSGML v1.0//EN
CALSCALE:GREGORIAN
METHOD:PUBLISH
X-ORIGINAL-URL:https://4horsemenpublications.com
X-WR-CALDESC:Events for 4 Horsemen Publications
REFRESH-INTERVAL;VALUE=DURATION:PT1H
X-Robots-Tag:noindex
X-PUBLISHED-TTL:PT1H
BEGIN:VTIMEZONE
TZID:America/New_York
BEGIN:DAYLIGHT
TZOFFSETFROM:-0500
TZOFFSETTO:-0400
TZNAME:EDT
DTSTART:20250309T070000
END:DAYLIGHT
BEGIN:STANDARD
TZOFFSETFROM:-0400
TZOFFSETTO:-0500
TZNAME:EST
DTSTART:20251102T060000
END:STANDARD
BEGIN:DAYLIGHT
TZOFFSETFROM:-0500
TZOFFSETTO:-0400
TZNAME:EDT
DTSTART:20260308T070000
END:DAYLIGHT
BEGIN:STANDARD
TZOFFSETFROM:-0400
TZOFFSETTO:-0500
TZNAME:EST
DTSTART:20261101T060000
END:STANDARD
BEGIN:DAYLIGHT
TZOFFSETFROM:-0500
TZOFFSETTO:-0400
TZNAME:EDT
DTSTART:20270314T070000
END:DAYLIGHT
BEGIN:STANDARD
TZOFFSETFROM:-0400
TZOFFSETTO:-0500
TZNAME:EST
DTSTART:20271107T060000
END:STANDARD
END:VTIMEZONE
BEGIN:VTIMEZONE
TZID:America/New_York
BEGIN:DAYLIGHT
TZOFFSETFROM:-0500
TZOFFSETTO:-0400
TZNAME:EDT
DTSTART:20250309T070000
END:DAYLIGHT
BEGIN:STANDARD
TZOFFSETFROM:-0400
TZOFFSETTO:-0500
TZNAME:EST
DTSTART:20251102T060000
END:STANDARD
BEGIN:DAYLIGHT
TZOFFSETFROM:-0500
TZOFFSETTO:-0400
TZNAME:EDT
DTSTART:20260308T070000
END:DAYLIGHT
BEGIN:STANDARD
TZOFFSETFROM:-0400
TZOFFSETTO:-0500
TZNAME:EST
DTSTART:20261101T060000
END:STANDARD
BEGIN:DAYLIGHT
TZOFFSETFROM:-0500
TZOFFSETTO:-0400
TZNAME:EDT
DTSTART:20270314T070000
END:DAYLIGHT
BEGIN:STANDARD
TZOFFSETFROM:-0400
TZOFFSETTO:-0500
TZNAME:EST
DTSTART:20271107T060000
END:STANDARD
END:VTIMEZONE
BEGIN:VEVENT
DTSTART;VALUE=DATE:20260326
DTEND;VALUE=DATE:20260329
DTSTAMP:20260423T194856
CREATED:20251218T085600Z
LAST-MODIFIED:20260319T051142Z
UID:12719-1774540800-1774799999@4horsemenpublications.com
SUMMARY:Collective Con
DESCRIPTION:Northeast Florida’s Premier Anime\, Comic Book\, Sci-Fi/Fantasy\, & Pop Culture Event returns for Year 11! Collective Con will be located at the PRIME F OSBORN III CONVENTION CENTER in Jacksonville\, FL. Children 10 and under are FREE!  \nAttending Author: \n\nSteve Altier
URL:https://4horsemenpublications.com/event/collective-con-2/
LOCATION:Prime F. Osborn III Convention Center\, 1000 Water St\, Jacksonville\, FL\, 32204\, United States
CATEGORIES:Conventions,4 Horsemen Publications
ATTACH;FMTTYPE=image/png:https://4horsemenpublications.com/wp-content/uploads/2025/12/March-27-Author-Steve-Altier.png
END:VEVENT
BEGIN:VEVENT
DTSTART;VALUE=DATE:20260326
DTEND;VALUE=DATE:20260329
DTSTAMP:20260423T194856
CREATED:20260109T095519Z
LAST-MODIFIED:20260319T051140Z
UID:12850-1774540800-1774799999@4horsemenpublications.com
SUMMARY:Pages and Pines Book retreat
DESCRIPTION:Come re-experience (or for the first time!) the magic of summer camp\, but with no permission slip required! Pages & Pines is a cozy\, bookish retreat for adults who crave connection\, creativity\, and a touch of nostalgia. \nNestled in nature\, our themed weekend getaways and events bring book lovers together for campfire conversations\, author panels\, late-night slumber parties\, cozy crafts\, and unforgettable community. Each session is packed with amazing activities\, curated just for you \nSaturday March 28th is the book fair with a variety of attending authors!\nAttending 4HP author Jackie Sonnenberg. \n4HP author Jackie Sonnenberg will have a signing table. \nAttending Author: \n\nJackie Sonnenberg
URL:https://4horsemenpublications.com/event/pages-and-pines-book-retreat/
LOCATION:Orange Springs\, FL
CATEGORIES:Festival,Author Signing,4 Horsemen Publications
ATTACH;FMTTYPE=image/jpeg:https://4horsemenpublications.com/wp-content/uploads/2026/01/Screenshot_20260105_101605_Instagram-Jackie-Sonnenberg.jpg
END:VEVENT
BEGIN:VEVENT
DTSTART;VALUE=DATE:20260326
DTEND;VALUE=DATE:20260329
DTSTAMP:20260423T194856
CREATED:20260226T074210Z
LAST-MODIFIED:20260319T051138Z
UID:13119-1774540800-1774799999@4horsemenpublications.com
SUMMARY:Read Freely Fest
DESCRIPTION:Read Freely Fest is South Carolina’s newest book festival\, celebrating stories and ideas with bestselling author talks\, panels featuring fresh voices\, performances and interactive activities. Each spring at Richland Library Main in downtown Columbia\, you can meet favorite authors\, discover new reads and connect with readers and writers who share inspiring perspectives. Author meet and greet March 28\, 2026 from 1:00 PM to 1:30 PM \nAttending Author: \n\nRobert J. Lewis
URL:https://4horsemenpublications.com/event/read-freely-fest-2/
LOCATION:Richland Library\, 1431 Assembly Street\, Columbia\, SC\, 29201\, United States
CATEGORIES:Festival,4 Horsemen Publications
ATTACH;FMTTYPE=image/jpeg:https://4horsemenpublications.com/wp-content/uploads/2026/02/IMG_8720-Robert-Lewis.jpg
END:VEVENT
BEGIN:VEVENT
DTSTART;VALUE=DATE:20260327
DTEND;VALUE=DATE:20260329
DTSTAMP:20260423T194856
CREATED:20260226T074121Z
LAST-MODIFIED:20260319T051135Z
UID:13118-1774627200-1774799999@4horsemenpublications.com
SUMMARY:Fairy and Fantasy Faire
DESCRIPTION:Step with us into a world of enchantment and imagination at the Faerie & Fantasy Faire! Hosted by 4 Wands Faerie Events\, this magical event is your portal to the Faerie Realm. Join us for an unforgettable day where whimsy and wonder come to life.\nWorkshop Title: Keeping going: Creative Writing Workshop\nDate: Saturday\, March 28\, 2026\nTime: 11:30am – 12:15pm\nLocation: Mary Winspear Centre\, Sidney\, BC (ACTIVITY ROOM 3) \n \nAttending Author: \n\nD. Lambert\n\n 
URL:https://4horsemenpublications.com/event/fairy-and-fantasy-faire/
LOCATION:Mary Winspear Centre\, 223 Beacon Ave.\, Sidney\, BC\, Canada
CATEGORIES:Conventions,Festival,4 Horsemen Publications
ATTACH;FMTTYPE=image/jpeg:https://4horsemenpublications.com/wp-content/uploads/2026/02/Faerie-Fantasy-Faire-2026-1-Dee-Lambert.jpg
END:VEVENT
END:VCALENDAR