BEGIN:VCALENDAR
VERSION:2.0
PRODID:-//4 Horsemen Publications - ECPv6.15.20//NONSGML v1.0//EN
CALSCALE:GREGORIAN
METHOD:PUBLISH
X-WR-CALNAME:4 Horsemen Publications
X-ORIGINAL-URL:https://4horsemenpublications.com
X-WR-CALDESC:Events for 4 Horsemen Publications
REFRESH-INTERVAL;VALUE=DURATION:PT1H
X-Robots-Tag:noindex
X-PUBLISHED-TTL:PT1H
BEGIN:VTIMEZONE
TZID:America/New_York
BEGIN:DAYLIGHT
TZOFFSETFROM:-0500
TZOFFSETTO:-0400
TZNAME:EDT
DTSTART:20250309T070000
END:DAYLIGHT
BEGIN:STANDARD
TZOFFSETFROM:-0400
TZOFFSETTO:-0500
TZNAME:EST
DTSTART:20251102T060000
END:STANDARD
BEGIN:DAYLIGHT
TZOFFSETFROM:-0500
TZOFFSETTO:-0400
TZNAME:EDT
DTSTART:20260308T070000
END:DAYLIGHT
BEGIN:STANDARD
TZOFFSETFROM:-0400
TZOFFSETTO:-0500
TZNAME:EST
DTSTART:20261101T060000
END:STANDARD
BEGIN:DAYLIGHT
TZOFFSETFROM:-0500
TZOFFSETTO:-0400
TZNAME:EDT
DTSTART:20270314T070000
END:DAYLIGHT
BEGIN:STANDARD
TZOFFSETFROM:-0400
TZOFFSETTO:-0500
TZNAME:EST
DTSTART:20271107T060000
END:STANDARD
END:VTIMEZONE
BEGIN:VEVENT
DTSTART;VALUE=DATE:20260425
DTEND;VALUE=DATE:20260426
DTSTAMP:20260423T124417
CREATED:20260205T092308Z
LAST-MODIFIED:20260319T051126Z
UID:12934-1777132800-1777219199@4horsemenpublications.com
SUMMARY:Forward/Slash Popup Market - Winter Park
DESCRIPTION:Step into the heart of Winter Park and immerse yourself in a vibrant celebration of creativity! The ForwardSlash Popup Market brings together local artists\, makers\, and small businesses for an unforgettable afternoon. Discover unique crafts\, art\, and specialty goods\, enjoy live entertainment\, and connect with the community. Whether you’re a family looking for a fun outing\, an art lover seeking inspiration\, or simply in search of one-of-a-kind treasures\, this event promises something special for everyone. Don’t miss your chance to experience the best of Winter Park’s creative spirit—register now and be part of this exciting market!
URL:https://4horsemenpublications.com/event/forward-slash-popup-market-winter-park/
LOCATION:Forward/Slash\, 650 S Capen Ave.\, Winter Park\, FL\, 32789\, United States
CATEGORIES:Festival,4 Horsemen Publications
ATTACH;FMTTYPE=image/avif:https://4horsemenpublications.com/wp-content/uploads/2026/02/ForwardSlash-Author-Valerie-Willis.avif
END:VEVENT
END:VCALENDAR