BEGIN:VCALENDAR
VERSION:2.0
PRODID:-//4 Horsemen Publications - ECPv6.15.20//NONSGML v1.0//EN
CALSCALE:GREGORIAN
METHOD:PUBLISH
X-WR-CALNAME:4 Horsemen Publications
X-ORIGINAL-URL:https://4horsemenpublications.com
X-WR-CALDESC:Events for 4 Horsemen Publications
REFRESH-INTERVAL;VALUE=DURATION:PT1H
X-Robots-Tag:noindex
X-PUBLISHED-TTL:PT1H
BEGIN:VTIMEZONE
TZID:America/New_York
BEGIN:DAYLIGHT
TZOFFSETFROM:-0500
TZOFFSETTO:-0400
TZNAME:EDT
DTSTART:20250309T070000
END:DAYLIGHT
BEGIN:STANDARD
TZOFFSETFROM:-0400
TZOFFSETTO:-0500
TZNAME:EST
DTSTART:20251102T060000
END:STANDARD
BEGIN:DAYLIGHT
TZOFFSETFROM:-0500
TZOFFSETTO:-0400
TZNAME:EDT
DTSTART:20260308T070000
END:DAYLIGHT
BEGIN:STANDARD
TZOFFSETFROM:-0400
TZOFFSETTO:-0500
TZNAME:EST
DTSTART:20261101T060000
END:STANDARD
BEGIN:DAYLIGHT
TZOFFSETFROM:-0500
TZOFFSETTO:-0400
TZNAME:EDT
DTSTART:20270314T070000
END:DAYLIGHT
BEGIN:STANDARD
TZOFFSETFROM:-0400
TZOFFSETTO:-0500
TZNAME:EST
DTSTART:20271107T060000
END:STANDARD
END:VTIMEZONE
BEGIN:VTIMEZONE
TZID:America/New_York
BEGIN:DAYLIGHT
TZOFFSETFROM:-0500
TZOFFSETTO:-0400
TZNAME:EDT
DTSTART:20250309T070000
END:DAYLIGHT
BEGIN:STANDARD
TZOFFSETFROM:-0400
TZOFFSETTO:-0500
TZNAME:EST
DTSTART:20251102T060000
END:STANDARD
BEGIN:DAYLIGHT
TZOFFSETFROM:-0500
TZOFFSETTO:-0400
TZNAME:EDT
DTSTART:20260308T070000
END:DAYLIGHT
BEGIN:STANDARD
TZOFFSETFROM:-0400
TZOFFSETTO:-0500
TZNAME:EST
DTSTART:20261101T060000
END:STANDARD
BEGIN:DAYLIGHT
TZOFFSETFROM:-0500
TZOFFSETTO:-0400
TZNAME:EDT
DTSTART:20270314T070000
END:DAYLIGHT
BEGIN:STANDARD
TZOFFSETFROM:-0400
TZOFFSETTO:-0500
TZNAME:EST
DTSTART:20271107T060000
END:STANDARD
END:VTIMEZONE
BEGIN:VEVENT
DTSTART;TZID=America/New_York:20260111T060000
DTEND;TZID=America/New_York:20260111T080000
DTSTAMP:20260424T065948
CREATED:20251218T085124Z
LAST-MODIFIED:20251218T085124Z
UID:12716-1768111200-1768118400@4horsemenpublications.com
SUMMARY:Author Event at River House Books in Carmel\, California
DESCRIPTION:From 2-4 p.m. Ann Shepphird will be at River House Books in Carmel\, California\, discussing the fourth book in the Carmel-based Destination Murder Mystery series\, Destination New York City. The book is scheduled for publication on February 28\, but there will be pre-release copies available for purchase. \nAttending Author: \n\nAnn Shepphird
URL:https://4horsemenpublications.com/event/author-event-at-river-house-books-in-carmel-california/
LOCATION:River House Books\, 208 Crossroads Blvd\, Carmel-By-The-Sea\, CA\, United States
CATEGORIES:Author Signing,4 Horsemen Publications
ATTACH;FMTTYPE=image/png:https://4horsemenpublications.com/wp-content/uploads/2025/12/Screenshot-2025-12-18-164532.png
END:VEVENT
BEGIN:VEVENT
DTSTART;VALUE=DATE:20260123
DTEND;VALUE=DATE:20260124
DTSTAMP:20260424T065948
CREATED:20260115T072019Z
LAST-MODIFIED:20260115T072019Z
UID:12871-1769184000-1769270399@4horsemenpublications.com
SUMMARY:Silent Hill Party in Vault 5421
DESCRIPTION:Join us in VAULT 5421 Saturday 1/24/26 to celebrate our love for the Silent Hill franchise! FREE EVENT! \nSilent Hill content on our screens with dark tunes\, themed drink S.P.E.C.I.A.L.\, cosplay bartenders & cage performances! Come dressed in Silent Hill related cosplay to get a free shot\, soda or mocktail with your first bar purchase! \nPLUS! Horror Author\, Jackie Sonnenberg will be on hand for a meet and greet\, book signing! www.facebook.com/AuthorJackieSonnenberg \n(Please note that although our store\, Gods & Monsters is all-ages\, Vault 5421 is 21+ during operating https://facebook.com/events/s/silent-hill-party-in-vault-542/880001095204314/hours.)
URL:https://4horsemenpublications.com/event/silent-hill-party-in-vault-5421/
LOCATION:Vault 5421 inside Gods and Monsters\, 5421 International Drive\, Orlando\, FL\, 32819\, United States
CATEGORIES:Author Signing,4 Horsemen Publications
END:VEVENT
BEGIN:VEVENT
DTSTART;TZID=America/New_York:20260131T040000
DTEND;TZID=America/New_York:20260131T080000
DTSTAMP:20260424T065948
CREATED:20260130T110308Z
LAST-MODIFIED:20260130T110424Z
UID:12895-1769832000-1769846400@4horsemenpublications.com
SUMMARY:Love Can be Scary Book Fair
DESCRIPTION:Event by Southgate Media Group\nDes Plaines Theatre\nDuration: 4 hr\nPublic · Anyone on or off Facebook\n❤️🖤 LOVE CAN BE SCARY BOOK FAIR 🖤❤️\nMeet Authors\, Buy Books\nJust in time for Valentine’s Day\, fall in love with stories that make your heart race—and maybe skip a beat. Love Can Be Scary Book Fair is a one-day pop-up romance and horror book fair taking over the historic Des Plaines Theatre for an afternoon of passion\, suspense\, and thrills.\nFrom swoon-worthy romance to dark\, twisted horror\, this event brings together authors signing their books\, along with vendors offering bookish goods and gifts perfect for Valentine’s season. Whether you’re shopping for a partner\, a friend\, or yourself\, you’ll find something unforgettable.\n💘 Why You’ll Love It:\nMeet and chat with romance & horror authors\nSigned books you can’t get anywhere else\nVendors with unique bookish gifts\nThe perfect pre-Valentine’s Day outing\n🗓 January 31\, 2026\n🕛 Noon – 4:00 PM\n📍 Des Plaines Theatre\nWhether you believe love is sweet\, terrifying\, or a little of both—this is the book fair for you.\nLove Can Be Scary. Come find your next obsession.\n*Oh yeah\, there are other books there too!
URL:https://4horsemenpublications.com/event/love-can-be-scary-book-fair/
LOCATION:Des Plaines Theatre\, 1476 Miner St.\, Des Plaines\, IL\, 60016\, United States
CATEGORIES:Festival,Author Signing,4 Horsemen Publications
ATTACH;FMTTYPE=image/jpeg:https://4horsemenpublications.com/wp-content/uploads/2026/01/617662997_1543606090529825_3651242794562928593_n-Morgan-Moreau.jpg
END:VEVENT
END:VCALENDAR