BEGIN:VCALENDAR
VERSION:2.0
PRODID:-//4 Horsemen Publications - ECPv6.15.20//NONSGML v1.0//EN
CALSCALE:GREGORIAN
METHOD:PUBLISH
X-ORIGINAL-URL:https://4horsemenpublications.com
X-WR-CALDESC:Events for 4 Horsemen Publications
REFRESH-INTERVAL;VALUE=DURATION:PT1H
X-Robots-Tag:noindex
X-PUBLISHED-TTL:PT1H
BEGIN:VTIMEZONE
TZID:America/New_York
BEGIN:DAYLIGHT
TZOFFSETFROM:-0500
TZOFFSETTO:-0400
TZNAME:EDT
DTSTART:20250309T070000
END:DAYLIGHT
BEGIN:STANDARD
TZOFFSETFROM:-0400
TZOFFSETTO:-0500
TZNAME:EST
DTSTART:20251102T060000
END:STANDARD
BEGIN:DAYLIGHT
TZOFFSETFROM:-0500
TZOFFSETTO:-0400
TZNAME:EDT
DTSTART:20260308T070000
END:DAYLIGHT
BEGIN:STANDARD
TZOFFSETFROM:-0400
TZOFFSETTO:-0500
TZNAME:EST
DTSTART:20261101T060000
END:STANDARD
BEGIN:DAYLIGHT
TZOFFSETFROM:-0500
TZOFFSETTO:-0400
TZNAME:EDT
DTSTART:20270314T070000
END:DAYLIGHT
BEGIN:STANDARD
TZOFFSETFROM:-0400
TZOFFSETTO:-0500
TZNAME:EST
DTSTART:20271107T060000
END:STANDARD
END:VTIMEZONE
BEGIN:VEVENT
DTSTART;VALUE=DATE:20260424
DTEND;VALUE=DATE:20260425
DTSTAMP:20260423T074144
CREATED:20260413T043427Z
LAST-MODIFIED:20260413T043427Z
UID:13425-1777046400-1777132799@4horsemenpublications.com
SUMMARY:Book Signing at Tecolote Book Shop in Montecito\, California
DESCRIPTION:On April 25 (aka Independent Bookstore Day) starting at 3 p.m.\, Ann Shepphird will be at one of my favorite independent bookstores — Tecolote Book Shop in Montecito\, California — to sign the latest book in the Destination Murder Mystery series\, “Destination New York City.” Copies of her other books will be available to sign as well.
URL:https://4horsemenpublications.com/event/book-signing-at-tecolote-book-shop-in-montecito-california/
LOCATION:Tecolote Book Shop\, 1470 E Valley Rd #52\, Santa Barbara\, CA\, 93108\, United States
CATEGORIES:Author Signing,4 Horsemen Publications
ATTACH;FMTTYPE=image/jpeg:https://4horsemenpublications.com/wp-content/uploads/2026/04/C9EE6C83-760F-4746-A77F-5909C2EE83BC-Ann-Shepphird.jpg
END:VEVENT
BEGIN:VEVENT
DTSTART;TZID=America/New_York:20260425T020000
DTEND;TZID=America/New_York:20260425T080000
DTSTAMP:20260423T074144
CREATED:20260413T043710Z
LAST-MODIFIED:20260413T043710Z
UID:13424-1777082400-1777104000@4horsemenpublications.com
SUMMARY:Independent Bookstore Day
DESCRIPTION:It’s a national celebration of indie bookstores! \nOne Day. Fifty States. Hundreds of Bookstores. \n\nMeet the Authors! Patrice McDonough (Murder by Lamplight and A Slash of Emerald) and A. R. Farina (Welcome To Mansfield and That Other Dashwood Girl) will be here to chat with you and sign copies of their books 11 am – 12:30 pm.\nEnjoy a mimosa! While they last! We’ll also have water and treats.\nSpin the prize wheel! Make a purchase and spin the wheel for a gift!\nBook Stack Drawings! We’ll have several stacks of new books to win!\n\nAnd much more in-store fun for everyone!
URL:https://4horsemenpublications.com/event/independent-bookstore-day-2/
LOCATION:Copperfish Books\, 212 W Virginia Ave #112\, Punta Gorda\, FL\, 33950\, United States
CATEGORIES:Author Signing,4 Horsemen Publications
ATTACH;FMTTYPE=image/jpeg:https://4horsemenpublications.com/wp-content/uploads/2026/04/Indie-Bookstore-Day-Ar-Farina_page-0001.jpg
END:VEVENT
BEGIN:VEVENT
DTSTART;VALUE=DATE:20260501
DTEND;VALUE=DATE:20260502
DTSTAMP:20260423T074144
CREATED:20260331T065839Z
LAST-MODIFIED:20260331T065839Z
UID:13328-1777651200-1777737599@4horsemenpublications.com
SUMMARY:The Mannequin Queen Release Day - Streamathon
DESCRIPTION:The author\, K.N. Fitzwater\, will be hosting a stream event through her twitch and youtube channels to celebrate upcoming release of her new book\, The Mannequin Queen. There will be Q&A sessions\, tarot\, and playing a game: Signalis. You can be there on Twitch: ArduousSpark912 or YouTube: @K.N. Fitzwater
URL:https://4horsemenpublications.com/event/the-mannequin-queen-release-day-streamathon/
LOCATION:FL
CATEGORIES:Author Signing,4 Horsemen Publications
END:VEVENT
BEGIN:VEVENT
DTSTART;VALUE=DATE:20260523
DTEND;VALUE=DATE:20260524
DTSTAMP:20260423T074144
CREATED:20260325T044821Z
LAST-MODIFIED:20260325T044821Z
UID:13242-1779552000-1779638399@4horsemenpublications.com
SUMMARY:4 Horsemen Book Signing at Barnes & Noble UTC
DESCRIPTION:4 Horsemen Authors will be Signing at Barnes and Noble University Town Center Sarasota. Meet Steve Altier\, Maria DeVivo\, Morgan DeVivo\, Jackie Sonnenberg\, and Nick Savage\n \nAttending Author: \n\nSteve Altier\nMaria DeVivo\nMorgan DeVivo\nJackie Sonnenberg\nNick Savage
URL:https://4horsemenpublications.com/event/4-horsemen-book-signing-at-barnes-noble-utc/
LOCATION:Barnes & Noble Sarasota at University Town Center\, FL\, 200 N Cattlemen Rd.\, Sarasota\, FL\, 34243\, United States
CATEGORIES:Author Signing,4 Horsemen Publications
END:VEVENT
BEGIN:VEVENT
DTSTART;VALUE=DATE:20260612
DTEND;VALUE=DATE:20260613
DTSTAMP:20260423T074144
CREATED:20260331T065953Z
LAST-MODIFIED:20260331T065953Z
UID:13326-1781280000-1781366399@4horsemenpublications.com
SUMMARY:Dragon's Den Bookstore Signing
DESCRIPTION:All Genre
URL:https://4horsemenpublications.com/event/dragons-den-bookstore-signing/
LOCATION:Dragon’s Den Books\, 101 W. Oak St\, Arcadia\, FL\, 34266\, United States
CATEGORIES:Author Signing,4 Horsemen Publications
ATTACH;FMTTYPE=image/jpeg:https://4horsemenpublications.com/wp-content/uploads/2026/03/Capture-Author-Steve-Altier.jpg
END:VEVENT
END:VCALENDAR