BEGIN:VCALENDAR
VERSION:2.0
PRODID:-//4 Horsemen Publications - ECPv6.15.20//NONSGML v1.0//EN
CALSCALE:GREGORIAN
METHOD:PUBLISH
X-WR-CALNAME:4 Horsemen Publications
X-ORIGINAL-URL:https://4horsemenpublications.com
X-WR-CALDESC:Events for 4 Horsemen Publications
REFRESH-INTERVAL;VALUE=DURATION:PT1H
X-Robots-Tag:noindex
X-PUBLISHED-TTL:PT1H
BEGIN:VTIMEZONE
TZID:America/New_York
BEGIN:DAYLIGHT
TZOFFSETFROM:-0500
TZOFFSETTO:-0400
TZNAME:EDT
DTSTART:20230312T070000
END:DAYLIGHT
BEGIN:STANDARD
TZOFFSETFROM:-0400
TZOFFSETTO:-0500
TZNAME:EST
DTSTART:20231105T060000
END:STANDARD
BEGIN:DAYLIGHT
TZOFFSETFROM:-0500
TZOFFSETTO:-0400
TZNAME:EDT
DTSTART:20240310T070000
END:DAYLIGHT
BEGIN:STANDARD
TZOFFSETFROM:-0400
TZOFFSETTO:-0500
TZNAME:EST
DTSTART:20241103T060000
END:STANDARD
BEGIN:DAYLIGHT
TZOFFSETFROM:-0500
TZOFFSETTO:-0400
TZNAME:EDT
DTSTART:20250309T070000
END:DAYLIGHT
BEGIN:STANDARD
TZOFFSETFROM:-0400
TZOFFSETTO:-0500
TZNAME:EST
DTSTART:20251102T060000
END:STANDARD
BEGIN:DAYLIGHT
TZOFFSETFROM:-0500
TZOFFSETTO:-0400
TZNAME:EDT
DTSTART:20260308T070000
END:DAYLIGHT
BEGIN:STANDARD
TZOFFSETFROM:-0400
TZOFFSETTO:-0500
TZNAME:EST
DTSTART:20261101T060000
END:STANDARD
END:VTIMEZONE
BEGIN:VEVENT
DTSTART;VALUE=DATE:20250718
DTEND;VALUE=DATE:20250720
DTSTAMP:20260425T100348
CREATED:20250206T024212Z
LAST-MODIFIED:20250206T024212Z
UID:10386-1752854400-1753027199@4horsemenpublications.com
SUMMARY:The Write Woman's Bookfest
DESCRIPTION:The Write Women Book Fest was created to lift up and amplify women authors and publishing professionals. The festival welcomes all literary organizations and publishing professionals that are either owned or run by women or believes in lifting up women publishing professionals. Join us om July 19th and July 20th in Bowie\, Maryland.\n \nAttending Author: \n\nEskay Kabba
URL:https://4horsemenpublications.com/event/the-write-womans-bookfest/
LOCATION:Bowie Comfort Inn & Conference Center\, 4500 Crain Hwy.\, Bowie\, MD\, 20716\, United States
CATEGORIES:Conventions,Author Signing,Imprint,4 Horsemen Publications
ATTACH;FMTTYPE=image/png:https://4horsemenpublications.com/wp-content/uploads/2025/02/WWBF-Eskay-Kabba.png
END:VEVENT
BEGIN:VEVENT
DTSTART;TZID=America/New_York:20250621T020000
DTEND;TZID=America/New_York:20250621T050000
DTSTAMP:20260425T100348
CREATED:20250618T055950Z
LAST-MODIFIED:20250618T055950Z
UID:11082-1750471200-1750482000@4horsemenpublications.com
SUMMARY:Spicy Librarian PRIDE Group Signing
DESCRIPTION:This is a group signing event at The Spicy Librarian in Denver. 4HP author\, Lyra R. Saenz will be with a group of other queer authors signing books and giving out swag. \nAttending author: \n\nLyra R. Saenz
URL:https://4horsemenpublications.com/event/spicy-librarian-pride-group-signing/
LOCATION:The Spicy Librarian\, 3040 Blake St #110\, Denver\, CO\, 80205\, United States
CATEGORIES:Author Signing,4 Horsemen Publications
ATTACH;FMTTYPE=image/jpeg:https://4horsemenpublications.com/wp-content/uploads/2025/06/unnamed.jpg
END:VEVENT
BEGIN:VEVENT
DTSTART;TZID=America/New_York:20250619T100000
DTEND;TZID=America/New_York:20250619T113000
DTSTAMP:20260425T100348
CREATED:20250618T055103Z
LAST-MODIFIED:20250618T055103Z
UID:11076-1750327200-1750332600@4horsemenpublications.com
SUMMARY:Cassadaga Branch Library Author Event
DESCRIPTION:Meet local authors and hear about their work. We’re featuring Erin Gray\, Trenton Lutes\, Nick Smith\, Jason Bussman\, & Joan Wahl to name a few. \nAttending author: \n\nNick Smith
URL:https://4horsemenpublications.com/event/cassadaga-branch-library-author-event/
LOCATION:Cassadaga Branch Library\, 18 Maple Ave\, Cassaga\, NY\, United States
CATEGORIES:Author Signing,4 Horsemen Publications
ATTACH;FMTTYPE=image/png:https://4horsemenpublications.com/wp-content/uploads/2025/06/Cassadaga-event-Nick-Smith.png
END:VEVENT
BEGIN:VEVENT
DTSTART;VALUE=DATE:20250613
DTEND;VALUE=DATE:20250614
DTSTAMP:20260425T100348
CREATED:20250403T022818Z
LAST-MODIFIED:20250403T022818Z
UID:10752-1749830400-1749916799@4horsemenpublications.com
SUMMARY:Read It\, Write It\, Book Festival
DESCRIPTION:Author Talks & Book Signings: Meet renowned authors and gain insight into their creative processes. Get your books signed and engage in thought-provoking discussions. \nAttending Author: \n\nSteve Altier
URL:https://4horsemenpublications.com/event/read-it-write-it-book-festival/
LOCATION:Wellington\, FL\, Wellington\, FL\, United States
CATEGORIES:Author Signing,Imprint,4 Horsemen Publications
ATTACH;FMTTYPE=image/jpeg:https://4horsemenpublications.com/wp-content/uploads/2025/04/June-14-Author-Steve-Altier.jpg
END:VEVENT
BEGIN:VEVENT
DTSTART;TZID=America/New_York:20250607T030000
DTEND;TZID=America/New_York:20250607T080000
DTSTAMP:20260425T100348
CREATED:20250403T022408Z
LAST-MODIFIED:20250403T022408Z
UID:10748-1749265200-1749283200@4horsemenpublications.com
SUMMARY:SRQCon
DESCRIPTION:All fandom con at the Sarasota Library  \nAttending Author: \n\nSteve Altier
URL:https://4horsemenpublications.com/event/srqcon/
LOCATION:Selby Public Library\, 1331 First St.\, Sarasota\, FL\, 34236\, United States
CATEGORIES:Author Signing,Imprint,4 Horsemen Publications
ATTACH;FMTTYPE=image/jpeg:https://4horsemenpublications.com/wp-content/uploads/2025/04/Selby-Library-presents-SRQ-Con-Author-Steve-Altier.jpg
END:VEVENT
BEGIN:VEVENT
DTSTART;TZID=America/New_York:20250531T030000
DTEND;TZID=America/New_York:20250531T050000
DTSTAMP:20260425T100348
CREATED:20250506T062009Z
LAST-MODIFIED:20250506T062009Z
UID:10906-1748660400-1748667600@4horsemenpublications.com
SUMMARY:Whiskers in the Dark Series Launch
DESCRIPTION:Launch of book series “Whiskers in the Dark” at The Next Chapter Bookstore with author Nick Smith
URL:https://4horsemenpublications.com/event/whiskers-in-the-dark-series-launch/
LOCATION:The Next Chapter Bookstore\, 12 Park Place\, Fredonia\, New York\, 14063
CATEGORIES:Author Signing,Imprint,4 Horsemen Publications
ATTACH;FMTTYPE=image/png:https://4horsemenpublications.com/wp-content/uploads/2025/05/Screenshot-2025-05-06-121707.png
END:VEVENT
BEGIN:VEVENT
DTSTART;VALUE=DATE:20250516
DTEND;VALUE=DATE:20250517
DTSTAMP:20260425T100348
CREATED:20250220T021717Z
LAST-MODIFIED:20250220T021717Z
UID:10514-1747411200-1747497599@4horsemenpublications.com
SUMMARY:SyFy Florida - Zephyrhills
DESCRIPTION:Science Fiction fan fest \nAttending Author: \n\nSteve Altier
URL:https://4horsemenpublications.com/event/syfy-florida-zephyrhills/
LOCATION:Zephyrhills Lions Club\, 5827 Dean Dairy Rd\, Zephyrhills\, FL\, 33541\, United States
CATEGORIES:Conventions,Author Signing,4 Horsemen Publications
ATTACH;FMTTYPE=image/jpeg:https://4horsemenpublications.com/wp-content/uploads/2025/02/SyFy-Zephyrhills.jpg
END:VEVENT
BEGIN:VEVENT
DTSTART;VALUE=DATE:20250509
DTEND;VALUE=DATE:20250510
DTSTAMP:20260425T100348
CREATED:20250506T060539Z
LAST-MODIFIED:20250506T060539Z
UID:10894-1746806400-1746892799@4horsemenpublications.com
SUMMARY:The Rainbow Book Fair
DESCRIPTION:The Rainbow Book Fair is back! For our 13th Fair\, the theme is “Queer Resistance Now: No Stopping Us!” The Rainbow Book Fair celebrates LGBT culture and queer joy — nothing can get in the way of our commitment to justice\, access\, and great books.\n \nAttending author: \n\nEskay Kabba
URL:https://4horsemenpublications.com/event/the-rainbow-book-fair/
LOCATION:LGBT Center\, 208 West 13th Street\, New York\, New York
CATEGORIES:Festival,Author Signing,4 Horsemen Publications
ATTACH;FMTTYPE=image/png:https://4horsemenpublications.com/wp-content/uploads/2025/05/RBF-QueerResistance-Eskay-Kabba.png
END:VEVENT
BEGIN:VEVENT
DTSTART;TZID=America/New_York:20250501T100000
DTEND;TZID=America/New_York:20250501T140000
DTSTAMP:20260425T100348
CREATED:20250403T021516Z
LAST-MODIFIED:20250403T021516Z
UID:10745-1746093600-1746108000@4horsemenpublications.com
SUMMARY:11th Annual Oxford Exchange Adult Book Fair
DESCRIPTION:Don’t miss the 11th OE Annual Book Fair! Featuring over 40 local authors from a variety of genres! \nJoin us for a night of books! The Bookstore\, The Shop\, The Champagne Bar and The Coffee Bar will be open. \nOxford Exchange launched the Book Fair to provide an open platform for local authors to connect with the community face-to-face\, and occurs annually every spring. \nAttending Author: \n\nSteve Altier
URL:https://4horsemenpublications.com/event/11th-annual-oxford-exchange-adult-book-fair/
LOCATION:Oxford Exchange\, 420 West Kennedy Blvd.\, Tampa\, FL\, 33606\, United States
CATEGORIES:Author Signing,Imprint,4 Horsemen Publications
ATTACH;FMTTYPE=image/jpeg:https://4horsemenpublications.com/wp-content/uploads/2025/04/OE-Book-Fair-Author-Steve-Altier.jpg
END:VEVENT
BEGIN:VEVENT
DTSTART;TZID=America/New_York:20250430T040000
DTEND;TZID=America/New_York:20250430T051500
DTSTAMP:20260425T100348
CREATED:20250319T030001Z
LAST-MODIFIED:20250319T030025Z
UID:10637-1745985600-1745990100@4horsemenpublications.com
SUMMARY:Book Signing
DESCRIPTION:Nick Smith will be signing at Barnes & Noble College Bookstore\, Jamestown Community College\, from noon to 1:15 pm.
URL:https://4horsemenpublications.com/event/book-signing-3/
LOCATION:Jamestown Community College\, 525 Falconer St\, Jamestown\, NY\, 14701\, United States
CATEGORIES:Author Signing,Imprint,4 Horsemen Publications
ATTACH;FMTTYPE=image/jpeg:https://4horsemenpublications.com/wp-content/uploads/2025/03/Milk-Treading-signing-flyer-scaled.jpg
END:VEVENT
BEGIN:VEVENT
DTSTART;TZID=America/New_York:20250427T040000
DTEND;TZID=America/New_York:20250427T100000
DTSTAMP:20260425T100348
CREATED:20250421T053005Z
LAST-MODIFIED:20250421T053005Z
UID:10839-1745726400-1745748000@4horsemenpublications.com
SUMMARY:Atomic Horror Monster Mart
DESCRIPTION:This market is a reoccurring event that will feature a rotating lineup of vendors specializing in alternative\, horror\, and generally spooky wares 👻 \n \nAttending author: \n\nJackie Sonnenberg
URL:https://4horsemenpublications.com/event/atomic-horror-monster-mart/
LOCATION:Atomic Horror\, 4805 E. COLONIAL DR.\, Orlando\, FL\, United States
CATEGORIES:Author Signing,Imprint,4 Horsemen Publications
ATTACH;FMTTYPE=image/jpeg:https://4horsemenpublications.com/wp-content/uploads/2025/04/FB_IMG_1744830359274-Jackie-Sonnenberg.jpg
END:VEVENT
BEGIN:VEVENT
DTSTART;TZID=America/New_York:20250426T080000
DTEND;TZID=America/New_York:20250426T100000
DTSTAMP:20260425T100348
CREATED:20250421T053755Z
LAST-MODIFIED:20250421T053755Z
UID:10844-1745654400-1745661600@4horsemenpublications.com
SUMMARY:Independent Bookstore Day
DESCRIPTION:Celebrate Independent Bookstore Day at Literally A Bookshop Authorfest 2025! \nAttending Author: \n\nMimi Francis
URL:https://4horsemenpublications.com/event/independent-bookstore-day/
LOCATION:Literally A Bookshop\, 397 S Gilbert Rd\, #140\, Gilbert\, AZ\, 85296\, United States
CATEGORIES:Author Signing,Imprint,4 Horsemen Publications
ATTACH;FMTTYPE=image/jpeg:https://4horsemenpublications.com/wp-content/uploads/2025/04/Mimi-Francis-Stuff-new-ratio.jpg
END:VEVENT
BEGIN:VEVENT
DTSTART;VALUE=DATE:20250425
DTEND;VALUE=DATE:20250426
DTSTAMP:20260425T100348
CREATED:20250220T022942Z
LAST-MODIFIED:20250220T022942Z
UID:10524-1745596800-1745683199@4horsemenpublications.com
SUMMARY:THE ABL
DESCRIPTION:Meet and Greet with 4HP author Maria DeVivo
URL:https://4horsemenpublications.com/event/the-abl/
LOCATION:The ABL\, 14135 7th street\, Dade City\, FL\, United States
CATEGORIES:Author Signing,Imprint,4 Horsemen Publications
ATTACH;FMTTYPE=image/jpeg:https://4horsemenpublications.com/wp-content/uploads/2025/02/Appearances-2025-9-Maria-DeVivo.jpg
END:VEVENT
BEGIN:VEVENT
DTSTART;TZID=America/New_York:20250424T020000
DTEND;TZID=America/New_York:20250426T090000
DTSTAMP:20260425T100348
CREATED:20250306T045309Z
LAST-MODIFIED:20250306T045309Z
UID:10621-1745460000-1745658000@4horsemenpublications.com
SUMMARY:Lakeland Book Crawl
DESCRIPTION:The 4th annual Lakeland book crawl is a store wide event with many participating stores and authors every day\, happening April 24-26 from 10-5.\n4HP Author Jackie Sonnenberg will be at the Inklings Store with new copies of MY SOUL TO KEEP.
URL:https://4horsemenpublications.com/event/lakeland-book-crawl/
LOCATION:Inklings Book Shoppe\, 243 N Florida Ave.\, Lakeland\, FL\, 33801\, United States
CATEGORIES:Author Signing,Imprint,4 Horsemen Publications
ATTACH;FMTTYPE=image/jpeg:https://4horsemenpublications.com/wp-content/uploads/2025/03/Screenshot_20250306_111819_Instagram.jpg
END:VEVENT
BEGIN:VEVENT
DTSTART;TZID=America/New_York:20250412T020000
DTEND;TZID=America/New_York:20250412T070000
DTSTAMP:20260425T100348
CREATED:20250403T020844Z
LAST-MODIFIED:20250403T023015Z
UID:10740-1744423200-1744441200@4horsemenpublications.com
SUMMARY:Books & Brunch
DESCRIPTION:Join Mimi at the kickoff of Books & Brunch on Saturday\, April 12 from 10 am to 3 pm! This is an open-air market where literacy\, culture\, food\, and community come together in the heart of Phoenix\, Arizona! This is not just another market—it’s an immersive experience that merges the love of books\, food\, and vibrant local businesses to create a one-of-a-kind atmosphere. \nAttending Author: \n\nMimi Francis
URL:https://4horsemenpublications.com/event/books-brunch/
LOCATION:Arizona Center\, 455 N. 3rd St.\, Phoenix\, AZ\, 85004\, United States
CATEGORIES:Author Signing,Imprint,4 Horsemen Publications
ATTACH;FMTTYPE=image/jpeg:https://4horsemenpublications.com/wp-content/uploads/2025/04/BOOKS-BRUNCH-Mimi-Francis.jpg
END:VEVENT
BEGIN:VEVENT
DTSTART;VALUE=DATE:20250411
DTEND;VALUE=DATE:20250412
DTSTAMP:20260425T100348
CREATED:20250219T045215Z
LAST-MODIFIED:20250219T045215Z
UID:10490-1744387200-1744473599@4horsemenpublications.com
SUMMARY:The Book Shack
DESCRIPTION:Meet and Greet with Local Authors \nAttending Authors: \n\nMaria DeVivo\nSteve Altier
URL:https://4horsemenpublications.com/event/the-book-shack/
LOCATION:The Book Shack\, 37838 Pasco Ave\, Dade City\, FL\, 33525\, United States
CATEGORIES:Author Signing,4 Horsemen Publications
ATTACH;FMTTYPE=image/jpeg:https://4horsemenpublications.com/wp-content/uploads/2025/02/Book-Shack-April-Author-Steve-Altier.jpg
END:VEVENT
BEGIN:VEVENT
DTSTART;TZID=America/New_York:20250405T043000
DTEND;TZID=America/New_York:20250405T063000
DTSTAMP:20260425T100348
CREATED:20250306T044831Z
LAST-MODIFIED:20250306T044831Z
UID:10617-1743827400-1743834600@4horsemenpublications.com
SUMMARY:Book signing at Spellbound Bookstore
DESCRIPTION:Local Author Meet and Greet! \n Come meet 4HP author Jackie Sonnenberg right outside Spellbound books from 12:30 to 2:30!
URL:https://4horsemenpublications.com/event/book-signing-at-spellbound-bookstore/
LOCATION:Spellbound Books\, Sanford\, FL\, United States
CATEGORIES:Author Signing,Imprint,4 Horsemen Publications
ATTACH;FMTTYPE=image/jpeg:https://4horsemenpublications.com/wp-content/uploads/2025/03/Screenshot_20250306_111744_Instagram.jpg
END:VEVENT
BEGIN:VEVENT
DTSTART;TZID=America/New_York:20250329T000000
DTEND;TZID=America/New_York:20250329T040000
DTSTAMP:20260425T100348
CREATED:20250219T044209Z
LAST-MODIFIED:20250219T044209Z
UID:10477-1743206400-1743220800@4horsemenpublications.com
SUMMARY:Clearwater Writer's Block Party
DESCRIPTION:Local Author Showcase
URL:https://4horsemenpublications.com/event/clearwater-writers-block-party/
LOCATION:Aspirations Winery\, 22045 US-19 N\, Clearwater\, FL\, 33765\, United States
CATEGORIES:Author Signing,4 Horsemen Publications
ATTACH;FMTTYPE=image/jpeg:https://4horsemenpublications.com/wp-content/uploads/2025/02/Appearances-2025-5-Maria-DeVivo.jpg
END:VEVENT
BEGIN:VEVENT
DTSTART;VALUE=DATE:20250327
DTEND;VALUE=DATE:20250330
DTSTAMP:20260425T100348
CREATED:20250306T021711Z
LAST-MODIFIED:20250306T021711Z
UID:10612-1743091200-1743350399@4horsemenpublications.com
SUMMARY:Read Freely Fest
DESCRIPTION:Read Freely Fest is South Carolina’s new book festival\, featuring bestselling author talks\, panels with new voices\, performances\, and interactive activities. Our mission is to celebrate the delights of reading and foster community engagement by showcasing popular authors\, rising voices\, and diverse cultural activities. \nAttending Author: \n\nRobert J Lewis
URL:https://4horsemenpublications.com/event/read-freely-fest/
LOCATION:Richland Library\, 1431 Assembly Street\, Columbia\, SC\, 29201\, United States
CATEGORIES:Festival,Author Signing,4 Horsemen Publications
ATTACH;FMTTYPE=image/jpeg:https://4horsemenpublications.com/wp-content/uploads/2025/03/Readfreely-Robert-Lewis.jpeg
END:VEVENT
BEGIN:VEVENT
DTSTART;VALUE=DATE:20250327
DTEND;VALUE=DATE:20250330
DTSTAMP:20260425T100348
CREATED:20250206T022139Z
LAST-MODIFIED:20250206T022139Z
UID:10378-1743091200-1743350399@4horsemenpublications.com
SUMMARY:Island FanCon
DESCRIPTION:Island FanCon is bringing the ultimate celebration of pop culture to City Centre Park in Langford\, BC on March 28-30\, 2025. From exclusive panels and celebrity meet-and-greets to interactive activities and coveted merchandise\, Island FanCon offers something for every fan. \nAttending Author: \n\nDeborah Lambert
URL:https://4horsemenpublications.com/event/island-fancon-2/
LOCATION:CITY CENTRE PARK\, 1089 Langford Pkwy\, Langford\, BC\, V9B 0A5\, Canada
CATEGORIES:Conventions,Author Signing,Imprint,4 Horsemen Publications
ATTACH;FMTTYPE=image/png:https://4horsemenpublications.com/wp-content/uploads/2025/02/Island-Fancon.png
END:VEVENT
BEGIN:VEVENT
DTSTART;TZID=America/New_York:20250301T020000
DTEND;TZID=America/New_York:20250301T080000
DTSTAMP:20260425T100348
CREATED:20250206T021453Z
LAST-MODIFIED:20250219T042126Z
UID:10375-1740794400-1740816000@4horsemenpublications.com
SUMMARY:The Southwest Florida Reading Festival
DESCRIPTION:26 Years Celebrating the Power of Reading! There is something for all ages to experience at the Southwest Florida Reading Festival. Everyone enjoys the multiple stages with the celebrity authors who share “inside scoops” about their latest books or what makes a story idea click for them. You will be able to buy books and have the authors personalize and sign them too! Kids will be mesmerized by the storytellers. \nAttending Authors: \n\nSteve Altier\nMaria DeVivo
URL:https://4horsemenpublications.com/event/the-southwest-florida-reading-festival/
LOCATION:Fort Myers Regional Library\, 2450 First St\, FORT MYERS\, FL\, 33901\, United States
CATEGORIES:Festival,Author Signing,4 Horsemen Publications
ATTACH;FMTTYPE=image/jpeg:https://4horsemenpublications.com/wp-content/uploads/2025/02/Appearances-2025-2-Maria-DeVivo.jpg
END:VEVENT
BEGIN:VEVENT
DTSTART;TZID=America/New_York:20250222T010000
DTEND;TZID=America/New_York:20250222T050000
DTSTAMP:20260425T100348
CREATED:20250219T041635Z
LAST-MODIFIED:20250219T041635Z
UID:10453-1740186000-1740200400@4horsemenpublications.com
SUMMARY:Dragon's Den Books
DESCRIPTION:Meet and Greet with 4HP Authors Maria DeVivo and Nick Savage \n 
URL:https://4horsemenpublications.com/event/dragons-den-books-2/
LOCATION:Dragon’s Den Books\, 101 W. Oak St\, Arcadia\, FL\, 34266\, United States
CATEGORIES:Author Signing,4 Horsemen Publications
ATTACH;FMTTYPE=image/jpeg:https://4horsemenpublications.com/wp-content/uploads/2025/02/Appearances-2025-1-Maria-DeVivo.jpg
END:VEVENT
BEGIN:VEVENT
DTSTART;TZID=America/New_York:20250215T010000
DTEND;TZID=America/New_York:20250215T090000
DTSTAMP:20260425T100348
CREATED:20250206T040622Z
LAST-MODIFIED:20250206T040622Z
UID:10396-1739581200-1739610000@4horsemenpublications.com
SUMMARY:SyFy Bartow
DESCRIPTION:Syfy Bartow\n200 West Main Street Bartow Florida 33830 Think ComicCon meets Renaissance fair on a Main Street in a historic downtown in central Florida…\nThis outdoor event is sponsored by\nMain Street Bartow . \nAttending Author: \n\nSteve Altier\nJackie Sonnenberg
URL:https://4horsemenpublications.com/event/syfy-bartow-2/
LOCATION:Downtown Bartow\, FL\, United States
CATEGORIES:Festival,Author Signing,Imprint,4 Horsemen Publications
ATTACH;FMTTYPE=image/jpeg:https://4horsemenpublications.com/wp-content/uploads/2025/02/471978744_605683411844831_7503557879129255505_n-Steve-Altier.jpg
END:VEVENT
BEGIN:VEVENT
DTSTART;TZID=America/New_York:20241005T020000
DTEND;TZID=America/New_York:20241005T060000
DTSTAMP:20260425T100348
CREATED:20241002T044321Z
LAST-MODIFIED:20241002T044321Z
UID:9411-1728093600-1728108000@4horsemenpublications.com
SUMMARY:Friends of the Library Book Fest
DESCRIPTION:Regional Authors\, Children Activities\, Vendors Food\, Mini Canvas Art Show\, Raffle Baskets Door Prizes \nAttending authors: \n\nLeslie Sommers\nJanice Sommers
URL:https://4horsemenpublications.com/event/friends-of-the-library-book-fest/
LOCATION:William R. Outten Complex\, 114 E. Liberty St.\, Harrington\, DE\, United States
CATEGORIES:Festival,Author Signing,4 Horsemen Publications
ATTACH;FMTTYPE=image/png:https://4horsemenpublications.com/wp-content/uploads/2024/10/Screenshot-2024-10-02-103858.png
END:VEVENT
BEGIN:VEVENT
DTSTART;VALUE=DATE:20240927
DTEND;VALUE=DATE:20240928
DTSTAMP:20260425T100348
CREATED:20230920T034059Z
LAST-MODIFIED:20240202T011236Z
UID:6126-1727452800-1727539199@4horsemenpublications.com
SUMMARY:Authors in the Steel City
DESCRIPTION:  \nA day full of authors\, books\, signing and shenanigans\, followed up by an awesome afterparty event. \nAttending Authors: \n\nEskay Kabba\nT.S. Simons\n\nGet tickets here: https://www.eventbrite.com/e/authors-in-the-steel-city-2024-tickets-579236250217?aff=erelexpmlt
URL:https://4horsemenpublications.com/event/authors-in-the-steel-city/
LOCATION:DoubleTree by Hilton Hotel Pittsburgh – Monroeville Convention Center\, 101 Mall Boulevard\, Monroeville\, PA\, 15146\, United States
CATEGORIES:Conventions,Author Signing,4 Horsemen Publications
ATTACH;FMTTYPE=image/jpeg:https://4horsemenpublications.com/wp-content/uploads/2023/09/steel-city-2.jpg
END:VEVENT
BEGIN:VEVENT
DTSTART;VALUE=DATE:20240921
DTEND;VALUE=DATE:20240922
DTSTAMP:20260425T100348
CREATED:20240916T080401Z
LAST-MODIFIED:20240916T080401Z
UID:9303-1726934400-1727020799@4horsemenpublications.com
SUMMARY:Maryland Renaissance Festival
DESCRIPTION:A book signing at the Page After Page bookstore stage at the MDRF. Authors Leslie & Janice Sommers will be directly across from Jack the Whipper during Celtic Weekend.
URL:https://4horsemenpublications.com/event/maryland-renaissance-festival/
LOCATION:Maryland Renaissance Festival\, 1821 Crownsville Road\, Annapolis\, MD\, 21401\, United States
CATEGORIES:Festival,Author Signing,4 Horsemen Publications
ATTACH;FMTTYPE=image/jpeg:https://4horsemenpublications.com/wp-content/uploads/2024/09/Schedule-Leslie-Sommers.jpg
END:VEVENT
BEGIN:VEVENT
DTSTART;VALUE=DATE:20240917
DTEND;VALUE=DATE:20240924
DTSTAMP:20260425T100348
CREATED:20240904T022029Z
LAST-MODIFIED:20240909T095549Z
UID:9247-1726588800-1727193599@4horsemenpublications.com
SUMMARY:Smut Lovers Conference 2024
DESCRIPTION:Coming to Orlando on September 18th – September 22nd\, 2024 is the largest educational event for romance authors and readers you have ever seen. This multi day event will be filled with workshops\, panels\, demonstrations all about writing and reading Kink and BDSM. Our goal is to bring together the lovers of all things smutty\, in a safe and loving environment\, to learn from each other and share what we know. This is a 21 and up event. \nAttending Author: \n\nDominic N. Ashen\n 	Friday\, Sept. 20th\, 3-3:45PM: LGBTQIA+ Panel\n 	Saturday\, Sept. 21st Noon-5pm: Author Signing
URL:https://4horsemenpublications.com/event/smut-lovers-conference-2024/
LOCATION:The Doubletree Hotel by Hilton at The Entrance of Universal Studios\, 5780 Major Blvd\, Orlando\, FL\, 32819\, United States
CATEGORIES:Conventions,Author Signing,4 Horsemen Publications
ATTACH;FMTTYPE=image/jpeg:https://4horsemenpublications.com/wp-content/uploads/2024/09/smut-lovers-2024-Dominic-Ashen.jpg
END:VEVENT
BEGIN:VEVENT
DTSTART;TZID=America/New_York:20240913T110000
DTEND;TZID=America/New_York:20240913T150000
DTSTAMP:20260425T100348
CREATED:20240904T015612Z
LAST-MODIFIED:20240904T015612Z
UID:9236-1726225200-1726239600@4horsemenpublications.com
SUMMARY:Grown Up School Book Fair
DESCRIPTION:Grown Up School Book Fair\, Come celebrate Friday the 13th in style with some adult goolish libations and some book reading. 21 and up! \nAttending Author: \n\nJoe Davison
URL:https://4horsemenpublications.com/event/grown-up-school-book-fair/
LOCATION:Deviant Libation\, 3800 N. Nebraska Ave\, Tampa\, FL\, 33603\, United States
CATEGORIES:Author Signing,4 Horsemen Publications
ATTACH;FMTTYPE=image/jpeg:https://4horsemenpublications.com/wp-content/uploads/2024/09/82d8f6e6-405a-49e9-978f-b2852043e635-Joe-D.jpeg
END:VEVENT
BEGIN:VEVENT
DTSTART;VALUE=DATE:20240906
DTEND;VALUE=DATE:20240907
DTSTAMP:20260425T100348
CREATED:20231013T012818Z
LAST-MODIFIED:20231013T012818Z
UID:5994-1725638400-1725724799@4horsemenpublications.com
SUMMARY:Lexington Legendary Book Bash
DESCRIPTION:Going strong on its sixth year\, the Lexington Legendary Book Bash is an amazing author signing event where authors and readers can connect. It is an exciting day filled with books\, authors\, games\, and prizes that strives to bring readers an incredible experience where they can meet their favorite authors\, find new authors\, connect with other readers\, while celebrating all things books! \nAttending Author: \n\nT.S. Simons\n\nGet Tickets Here: https://www.eventbrite.com/e/lexington-legendary-book-bash-tickets-661890100107 \n 
URL:https://4horsemenpublications.com/event/lexington-legendary-book-bash/
LOCATION:Hyatt Regency Lexington\, 401 West High Street\, Lexington\, KY\, 40507\, United States
CATEGORIES:Festival,Author Signing,Imprint,4 Horsemen Publications
ATTACH;FMTTYPE=image/jpeg:https://4horsemenpublications.com/wp-content/uploads/2023/08/https___cdn.evbuc_.com_images_538167139_202434785144_1_original-T.S.-Simons.jpg
END:VEVENT
BEGIN:VEVENT
DTSTART;VALUE=DATE:20240828
DTEND;VALUE=DATE:20240902
DTSTAMP:20260425T100348
CREATED:20240124T040859Z
LAST-MODIFIED:20240124T040859Z
UID:6654-1724860800-1725292799@4horsemenpublications.com
SUMMARY:Dragon Con 2024
DESCRIPTION:Dragon Con is the largest multi-media\, pop culture convention focusing on science fiction & fantasy\, gaming\, comics\, literature\, art\, music\, and film in the universe. \nAttending Author: \n\nMegan Mackie\n\nPurchase Tickets Here: https://checkout.growtix.com/eh/Dragon_Con_2024/51912/419785
URL:https://4horsemenpublications.com/event/dragon-con-2024/
LOCATION:Downtown Atlanta\, Atlanta\, GA\, 30349\, United States
CATEGORIES:Conventions,Author Signing,4 Horsemen Publications
ATTACH;FMTTYPE=image/png:https://4horsemenpublications.com/wp-content/uploads/2024/01/dc-logo-type-160x60-2-Megan-Mackie.png
END:VEVENT
END:VCALENDAR