BEGIN:VCALENDAR
VERSION:2.0
PRODID:-//4 Horsemen Publications - ECPv6.15.20//NONSGML v1.0//EN
CALSCALE:GREGORIAN
METHOD:PUBLISH
X-ORIGINAL-URL:https://4horsemenpublications.com
X-WR-CALDESC:Events for 4 Horsemen Publications
REFRESH-INTERVAL;VALUE=DURATION:PT1H
X-Robots-Tag:noindex
X-PUBLISHED-TTL:PT1H
BEGIN:VTIMEZONE
TZID:America/New_York
BEGIN:DAYLIGHT
TZOFFSETFROM:-0500
TZOFFSETTO:-0400
TZNAME:EDT
DTSTART:20240310T070000
END:DAYLIGHT
BEGIN:STANDARD
TZOFFSETFROM:-0400
TZOFFSETTO:-0500
TZNAME:EST
DTSTART:20241103T060000
END:STANDARD
BEGIN:DAYLIGHT
TZOFFSETFROM:-0500
TZOFFSETTO:-0400
TZNAME:EDT
DTSTART:20250309T070000
END:DAYLIGHT
BEGIN:STANDARD
TZOFFSETFROM:-0400
TZOFFSETTO:-0500
TZNAME:EST
DTSTART:20251102T060000
END:STANDARD
BEGIN:DAYLIGHT
TZOFFSETFROM:-0500
TZOFFSETTO:-0400
TZNAME:EDT
DTSTART:20260308T070000
END:DAYLIGHT
BEGIN:STANDARD
TZOFFSETFROM:-0400
TZOFFSETTO:-0500
TZNAME:EST
DTSTART:20261101T060000
END:STANDARD
END:VTIMEZONE
BEGIN:VEVENT
DTSTART;TZID=America/New_York:20251206T030000
DTEND;TZID=America/New_York:20251206T060000
DTSTAMP:20260425T115359
CREATED:20251205T100645Z
LAST-MODIFIED:20251205T100645Z
UID:12594-1764990000-1765000800@4horsemenpublications.com
SUMMARY:Barnes & Noble Book Signing
DESCRIPTION:One more event to wrap up the year\, and it’s your final opportunity to grab a signed copy!\nSigned books make unforgettable holiday gifts\, so don’t miss out! \nJoin me on December 6 th from 11 a.m. to 2 p.m. at Barnes & Noble in Regency Square\,2428 W. Brandon Blvd.\, Brandon\, FL 33511
URL:https://4horsemenpublications.com/event/barnes-noble-book-signing-2/
LOCATION:Barnes and Noble – Regency Square\, 2428 W. Brandon Blvd.\, Brandon\, FL\, 33511\, United States
CATEGORIES:Author Signing,4 Horsemen Publications
ATTACH;FMTTYPE=image/png:https://4horsemenpublications.com/wp-content/uploads/2025/12/BookBrushImage-2025-11-30-19-566-Author-Steve-Altier.png
END:VEVENT
BEGIN:VEVENT
DTSTART;TZID=America/New_York:20251206T030000
DTEND;TZID=America/New_York:20251206T070000
DTSTAMP:20260425T115359
CREATED:20251205T100539Z
LAST-MODIFIED:20251205T100539Z
UID:12593-1764990000-1765004400@4horsemenpublications.com
SUMMARY:Bookmas Adult Book Fair and Toy Drive
DESCRIPTION:Enjoy a festive day filled with bookish fun and holiday sips! Shop local Authors\, bookshops and more! Bring a donation for a chance to win!
URL:https://4horsemenpublications.com/event/bookmas-adult-book-fair-and-toy-drive/
LOCATION:Roxy Theater\, 2549 Welton St.\, Denver\, CO\, 80205\, United States
CATEGORIES:Festival,4 Horsemen Publications
ATTACH;FMTTYPE=image/png:https://4horsemenpublications.com/wp-content/uploads/2025/12/Lyra-R.-Saenz_20251126_131904_0000-Mirannda-Lindberg.png
END:VEVENT
BEGIN:VEVENT
DTSTART;TZID=America/New_York:20251206T030000
DTEND;TZID=America/New_York:20251206T100000
DTSTAMP:20260425T115359
CREATED:20251007T072803Z
LAST-MODIFIED:20251007T072803Z
UID:11620-1764990000-1765015200@4horsemenpublications.com
SUMMARY:Enchanted Knights: Winter Bazaar
DESCRIPTION:It’s The Most Wonderful Time!\nCelebrate with the Kingdom! The holidays are coming and the Midwinter Faire is getting ready to begin! The magic of the season will be coursing through the marketplace\, carrying you from delightful find to delightful find. Discover amazing local artisans\, interact with incredible performers\, and embrace the holiday spirit! This Holiday Renaissance Faire will take place on December 6th\, from 11 am to 6 pm. Follow us at Wizards and Lizards Studio on FB and IG to stay up to date on everything that’s going on! \nIt is encouraged to dress up in your best ren faire\, medieval\, and/or fantasy outfits! \nDISCOVER MORE HERE: https://www.wizardsandlizardsstudio.com/winterbazaar \nAttending author: \n\nValerie Willis
URL:https://4horsemenpublications.com/event/enchanted-knights-winter-bazaar/
LOCATION:Oviedo Mall\, 1700 Oviedo Mall Blvd.\, Oviedo\, FL\, 32765\, United States
CATEGORIES:Festival,Imprint,4 Horsemen Publications
ATTACH;FMTTYPE=image/png:https://4horsemenpublications.com/wp-content/uploads/2025/10/Screenshot-2025-09-11-at-12.55.33-AM-Author-Valerie-Willis.png
END:VEVENT
BEGIN:VEVENT
DTSTART;VALUE=DATE:20251212
DTEND;VALUE=DATE:20251213
DTSTAMP:20260425T115359
CREATED:20251028T040447Z
LAST-MODIFIED:20251028T040447Z
UID:11748-1765555200-1765641599@4horsemenpublications.com
SUMMARY:The Best Bi Erotica of the Year\, Volume Two In-Person Reading Event
DESCRIPTION:Organized and edited by erotic author Christian Pan\, The Best Bi Erotica of the Year\, Volume Two features exclusive and sensual stories by different authors from across the United States and internationally\, broadening our understanding of bisexuality and the possibilities within the erotic imagination. Join some of the anthology’s contributing authors as they read excerpts from their stories\, followed by a signing. Copies of The Best Bi Erotica of the Year and other titles by the authors will be available for purchase at the Bureau. \nRegistration is not required. Seating is first come\, first served. \nThis event will take place in person at the Bureau of General Services—Queer Division\, on the second floor (room 210) of The LGBT Community Center\, 208 W. 13th St.\, NYC\, 10011.
URL:https://4horsemenpublications.com/event/the-best-bi-erotica-of-the-year-volume-two-in-person-reading-event/
LOCATION:The LGBT Community Center\, 208 W. 13th St.\, New York\, NY\, 10011\, United States
CATEGORIES:Author Signing,4 Horsemen Publications
ATTACH;FMTTYPE=image/webp:https://4horsemenpublications.com/wp-content/uploads/2025/10/BGSQD.webp
END:VEVENT
BEGIN:VEVENT
DTSTART;TZID=America/New_York:20251213T030000
DTEND;TZID=America/New_York:20251213T050000
DTSTAMP:20260425T115359
CREATED:20251205T100928Z
LAST-MODIFIED:20251205T100928Z
UID:12597-1765594800-1765602000@4horsemenpublications.com
SUMMARY:Next Chapter book signing
DESCRIPTION:Multi-Author Signing\, 11am – 1 pm
URL:https://4horsemenpublications.com/event/next-chapter-book-signing/
LOCATION:The Next Chapter Bookstore\, 12 Park Place\, Fredonia\, New York\, 14063
CATEGORIES:Author Signing,4 Horsemen Publications
ATTACH;FMTTYPE=image/jpeg:https://4horsemenpublications.com/wp-content/uploads/2025/12/Cat-City-Chapter-13-Nick-Smith-scaled.jpg
END:VEVENT
END:VCALENDAR