BEGIN:VCALENDAR
VERSION:2.0
PRODID:-//4 Horsemen Publications - ECPv6.15.20//NONSGML v1.0//EN
CALSCALE:GREGORIAN
METHOD:PUBLISH
X-ORIGINAL-URL:https://4horsemenpublications.com
X-WR-CALDESC:Events for 4 Horsemen Publications
REFRESH-INTERVAL;VALUE=DURATION:PT1H
X-Robots-Tag:noindex
X-PUBLISHED-TTL:PT1H
BEGIN:VTIMEZONE
TZID:America/New_York
BEGIN:DAYLIGHT
TZOFFSETFROM:-0500
TZOFFSETTO:-0400
TZNAME:EDT
DTSTART:20250309T070000
END:DAYLIGHT
BEGIN:STANDARD
TZOFFSETFROM:-0400
TZOFFSETTO:-0500
TZNAME:EST
DTSTART:20251102T060000
END:STANDARD
BEGIN:DAYLIGHT
TZOFFSETFROM:-0500
TZOFFSETTO:-0400
TZNAME:EDT
DTSTART:20260308T070000
END:DAYLIGHT
BEGIN:STANDARD
TZOFFSETFROM:-0400
TZOFFSETTO:-0500
TZNAME:EST
DTSTART:20261101T060000
END:STANDARD
BEGIN:DAYLIGHT
TZOFFSETFROM:-0500
TZOFFSETTO:-0400
TZNAME:EDT
DTSTART:20270314T070000
END:DAYLIGHT
BEGIN:STANDARD
TZOFFSETFROM:-0400
TZOFFSETTO:-0500
TZNAME:EST
DTSTART:20271107T060000
END:STANDARD
END:VTIMEZONE
BEGIN:VTIMEZONE
TZID:America/New_York
BEGIN:DAYLIGHT
TZOFFSETFROM:-0500
TZOFFSETTO:-0400
TZNAME:EDT
DTSTART:20250309T070000
END:DAYLIGHT
BEGIN:STANDARD
TZOFFSETFROM:-0400
TZOFFSETTO:-0500
TZNAME:EST
DTSTART:20251102T060000
END:STANDARD
BEGIN:DAYLIGHT
TZOFFSETFROM:-0500
TZOFFSETTO:-0400
TZNAME:EDT
DTSTART:20260308T070000
END:DAYLIGHT
BEGIN:STANDARD
TZOFFSETFROM:-0400
TZOFFSETTO:-0500
TZNAME:EST
DTSTART:20261101T060000
END:STANDARD
BEGIN:DAYLIGHT
TZOFFSETFROM:-0500
TZOFFSETTO:-0400
TZNAME:EDT
DTSTART:20270314T070000
END:DAYLIGHT
BEGIN:STANDARD
TZOFFSETFROM:-0400
TZOFFSETTO:-0500
TZNAME:EST
DTSTART:20271107T060000
END:STANDARD
END:VTIMEZONE
BEGIN:VEVENT
DTSTART;VALUE=DATE:20260130
DTEND;VALUE=DATE:20260201
DTSTAMP:20260423T234553
CREATED:20251230T075756Z
LAST-MODIFIED:20251230T075756Z
UID:12782-1769788800-1769961599@4horsemenpublications.com
SUMMARY:Feel The Heat Book Bash
DESCRIPTION:Multi-genre book fair with a concentration on romance. \nAttending Author: \n\nMaria DeVivo
URL:https://4horsemenpublications.com/event/feel-the-heat-book-bash/
LOCATION:Hyatt Place Orlando/Lake Buena Vista\, 8688 Palm Parkway\, Orlando\, FL\, 32836\, United States
CATEGORIES:Festival,4 Horsemen Publications
ATTACH;FMTTYPE=image/jpeg:https://4horsemenpublications.com/wp-content/uploads/2025/12/Appearances-2026-1-Maria-DeVivo.jpg
END:VEVENT
BEGIN:VEVENT
DTSTART;VALUE=DATE:20260206
DTEND;VALUE=DATE:20260207
DTSTAMP:20260423T234553
CREATED:20251216T043635Z
LAST-MODIFIED:20251216T043635Z
UID:12674-1770393600-1770479999@4horsemenpublications.com
SUMMARY:Book Signing at Dragon's Den Lair Bookstore
DESCRIPTION:Book Signing at Dragon’s Den Lair Bookstore. \nAttending Author: \n\nSteve Altier
URL:https://4horsemenpublications.com/event/book-signing-at-dragons-den-lair-bookstore/
LOCATION:The Bookdragon’s Lair LLC\, 1810 El Jobean Rd Ste 1\, Port Charlotte\, Florida\, 33948\, United States
CATEGORIES:Author Signing,4 Horsemen Publications
END:VEVENT
BEGIN:VEVENT
DTSTART;VALUE=DATE:20260206
DTEND;VALUE=DATE:20260207
DTSTAMP:20260423T234553
CREATED:20260130T110957Z
LAST-MODIFIED:20260130T110957Z
UID:12898-1770393600-1770479999@4horsemenpublications.com
SUMMARY:B&N Romance Panel
DESCRIPTION:Meet Janice and Leslie Sommers\, authors of the Amulet Series! Make great connections\, have amazing conversations\, and meet fellow romance bookish lovers!
URL:https://4horsemenpublications.com/event/bn-romance-panel/
LOCATION:Barnes and Noble – Exton\, PA\, 301 Main St.\, Exton\, PA\, 19341\, United States
CATEGORIES:Author Signing,4 Horsemen Publications
END:VEVENT
BEGIN:VEVENT
DTSTART;VALUE=DATE:20260207
DTEND;VALUE=DATE:20260208
DTSTAMP:20260423T234553
CREATED:20260205T092105Z
LAST-MODIFIED:20260205T092105Z
UID:12932-1770480000-1770566399@4horsemenpublications.com
SUMMARY:Henry's Depot February Market
DESCRIPTION:Step into Sanford’s favorite market event at Henry’s Depot! Shop unique creations from local artists\, makers\, and small businesses\, all in one vibrant space. Enjoy a lively atmosphere\, connect with the creative community\, and discover one-of-a-kind finds. Whether you’re looking for art\, crafts\, or specialty goods\, this event is the perfect place to mingle and support Central Florida’s talented vendors. Don’t miss out—reserve your tickets and be part of a memorable day celebrating local talent!
URL:https://4horsemenpublications.com/event/henrys-depot-february-market/
LOCATION:Henry’s Depot\, 212 W 1st St.\, Sanford\, FL\, 32771\, United States
CATEGORIES:Festival,4 Horsemen Publications
ATTACH;FMTTYPE=image/avif:https://4horsemenpublications.com/wp-content/uploads/2026/02/HenryDepot-Author-Valerie-Willis.avif
END:VEVENT
BEGIN:VEVENT
DTSTART;VALUE=DATE:20260213
DTEND;VALUE=DATE:20260214
DTSTAMP:20260423T234553
CREATED:20251216T043725Z
LAST-MODIFIED:20251216T043725Z
UID:12675-1770998400-1771084799@4horsemenpublications.com
SUMMARY:For the Love of Books Author Event
DESCRIPTION:Multi Author Books signing event. \nAttending Author: \n\nSteve Altier
URL:https://4horsemenpublications.com/event/for-the-love-of-books-author-event/
LOCATION:Beach House Bookstore\, 3210 Physicians Way\, Sebring\, FL\, 33870\, United States
CATEGORIES:Author Signing,4 Horsemen Publications
END:VEVENT
BEGIN:VEVENT
DTSTART;TZID=America/New_York:20260214T000000
DTEND;TZID=America/New_York:20260214T090000
DTSTAMP:20260423T234553
CREATED:20260210T084123Z
LAST-MODIFIED:20260211T081634Z
UID:12985-1771027200-1771059600@4horsemenpublications.com
SUMMARY:Tonya Todd & Wendy Wimmer sharing 52 Love: A Year of Romance (Volume One)
DESCRIPTION:Celebrate Valentine’s Day and a love-themed book launch all in one! Perfect for couples\, friends\, or anyone looking for some love-filled stories\, 52 Love: A Year of Romance is a short story collection inspired by the first thirteen tips in 52 Love: Weekly Love Lessons in Bite-Sized Pieces\, which will also be available for purchase. Sharing the collection will be podcaster\, screenwriter\, actor\, and author Tonya Todd\, as well as local author Wendy Wimmer\, whose work appears in this anthology.
URL:https://4horsemenpublications.com/event/tonya-todd-wendy-wimmer-sharing-52-love-a-year-of-romance-volume-one/
LOCATION:Lion’s Mouth Bookstore\, 211 N Washington Street\, Green Bay\, WI\, 54301\, United States
CATEGORIES:Author Signing,4 Horsemen Publications
ATTACH;FMTTYPE=image/jpeg:https://4horsemenpublications.com/wp-content/uploads/2026/02/52-Love-Short-Stories-Tonya-Todd-Wendy-Wimmer-Lions-Mouth-Tonya-Todd.jpeg
END:VEVENT
BEGIN:VEVENT
DTSTART;VALUE=DATE:20260220
DTEND;VALUE=DATE:20260221
DTSTAMP:20260423T234553
CREATED:20251216T043805Z
LAST-MODIFIED:20251216T043805Z
UID:12676-1771603200-1771689599@4horsemenpublications.com
SUMMARY:SYFY Bartow Family Event
DESCRIPTION:Think Comic Convention meets Renaissance fair in central Florida…This outdoor event is family friendly and hosted by Bartow Con LLC. \nAttending Author: \n\nSteve Altier
URL:https://4horsemenpublications.com/event/syfy-bartow-family-event/
LOCATION:Mosaic Park Fairgrounds\, 2250 S. Floral Ave.\, Bartow\, FL\, United States
CATEGORIES:Conventions,4 Horsemen Publications
END:VEVENT
BEGIN:VEVENT
DTSTART;VALUE=DATE:20260220
DTEND;VALUE=DATE:20260221
DTSTAMP:20260423T234553
CREATED:20260217T093050Z
LAST-MODIFIED:20260217T093050Z
UID:13079-1771603200-1771689599@4horsemenpublications.com
SUMMARY:Dragon's Den Books Grand Re-opening
DESCRIPTION:Celebrate the grand re-opening of Dragon’s Den Books in a new location in Arcadia\, FL \nAttending Author: \n\nMaria DeVivorr
URL:https://4horsemenpublications.com/event/dragons-den-books-grand-re-opening/
LOCATION:Dragon’s Den Books\, 101 W. Oak St\, Arcadia\, FL\, 34266\, United States
CATEGORIES:Author Signing,4 Horsemen Publications
ATTACH;FMTTYPE=image/jpeg:https://4horsemenpublications.com/wp-content/uploads/2026/02/Appearances-2026-Maria-DeVivo.jpg
END:VEVENT
BEGIN:VEVENT
DTSTART;VALUE=DATE:20260226
DTEND;VALUE=DATE:20260301
DTSTAMP:20260423T234553
CREATED:20251218T085223Z
LAST-MODIFIED:20260217T093143Z
UID:12717-1772121600-1772380799@4horsemenpublications.com
SUMMARY:Scaradise Horror Fest
DESCRIPTION:Anything Horror\, Sci Fi\, or down right spooky.  \nAttending Authors: \n\nSteve Altier\nMaria DeVivo
URL:https://4horsemenpublications.com/event/scaradise-horror-fest/
LOCATION:Florida State Fairgrounds\, 4800 US-301\, Tampa\, FL\, 33610\, United States
CATEGORIES:Festival,4 Horsemen Publications
ATTACH;FMTTYPE=image/png:https://4horsemenpublications.com/wp-content/uploads/2025/12/Feb-27-Author-Steve-Altier.png
END:VEVENT
BEGIN:VEVENT
DTSTART;VALUE=DATE:20260227
DTEND;VALUE=DATE:20260228
DTSTAMP:20260423T234553
CREATED:20260211T082110Z
LAST-MODIFIED:20260211T082110Z
UID:13004-1772208000-1772294399@4horsemenpublications.com
SUMMARY:In Conversation: Lessons in Love with Devora Gray\, Chanel Hardy\, Paul Atreides\, and Tonya Todd—Authors of 52 Love: A Year of Romance\, Volume One
DESCRIPTION:Four authors celebrate a new short story collection inspired by the love lessons of 52 Love. Through author-to-author conversation and audience Q&A\, they’ll explore how love shows up in unexpected forms\, be it friendly ghosts\, doomed immortals\, power-play dynamics\, or a supernatural courtship that defies expectations. Join us for an afternoon of heartfelt and swoony romance that proves the limitless possibilities of love.
URL:https://4horsemenpublications.com/event/in-conversation-lessons-in-love-with-devora-gray-chanel-hardy-paul-atreides-and-tonya-todd-authors-of-52-love-a-year-of-romance-volume-one/
LOCATION:XOXO Book Boutique\, 7400 S. Las Vegas Blvd\, Ste. 406\, Las Vegas\, NV\, 89123\, United States
CATEGORIES:Author Signing,4 Horsemen Publications
ATTACH;FMTTYPE=image/png:https://4horsemenpublications.com/wp-content/uploads/2026/02/A-Year-Of-Romance-Tonya-Todd-Chanel-Hardy-Devora-Gray-Paul-Atreides-Tonya-Todd.png
END:VEVENT
END:VCALENDAR