BEGIN:VCALENDAR
VERSION:2.0
PRODID:-//4 Horsemen Publications - ECPv6.15.20//NONSGML v1.0//EN
CALSCALE:GREGORIAN
METHOD:PUBLISH
X-ORIGINAL-URL:https://4horsemenpublications.com
X-WR-CALDESC:Events for 4 Horsemen Publications
REFRESH-INTERVAL;VALUE=DURATION:PT1H
X-Robots-Tag:noindex
X-PUBLISHED-TTL:PT1H
BEGIN:VTIMEZONE
TZID:America/New_York
BEGIN:DAYLIGHT
TZOFFSETFROM:-0500
TZOFFSETTO:-0400
TZNAME:EDT
DTSTART:20240310T070000
END:DAYLIGHT
BEGIN:STANDARD
TZOFFSETFROM:-0400
TZOFFSETTO:-0500
TZNAME:EST
DTSTART:20241103T060000
END:STANDARD
BEGIN:DAYLIGHT
TZOFFSETFROM:-0500
TZOFFSETTO:-0400
TZNAME:EDT
DTSTART:20250309T070000
END:DAYLIGHT
BEGIN:STANDARD
TZOFFSETFROM:-0400
TZOFFSETTO:-0500
TZNAME:EST
DTSTART:20251102T060000
END:STANDARD
BEGIN:DAYLIGHT
TZOFFSETFROM:-0500
TZOFFSETTO:-0400
TZNAME:EDT
DTSTART:20260308T070000
END:DAYLIGHT
BEGIN:STANDARD
TZOFFSETFROM:-0400
TZOFFSETTO:-0500
TZNAME:EST
DTSTART:20261101T060000
END:STANDARD
END:VTIMEZONE
BEGIN:VEVENT
DTSTART;TZID=America/New_York:20250322T020000
DTEND;TZID=America/New_York:20250322T090000
DTSTAMP:20260425T224400
CREATED:20250219T043739Z
LAST-MODIFIED:20250219T043739Z
UID:10471-1742608800-1742634000@4horsemenpublications.com
SUMMARY:Wizards\, Witches\, and the Weird
DESCRIPTION:Join us at Wizards Witches and the Weird for an enchanting experience filled with magic and wonder. Plus the opportunity to meet your favorite authors\, get autographed books and experience new adventures in their stories. \nAttending Authors: \n\nMaria DeVivo\nSteve Altier
URL:https://4horsemenpublications.com/event/wizards-witches-and-the-weird-4/
LOCATION:The Center at Deltona\, 1640 Dr. Martin Luther King Blvd.\, Deltona\, FL\, United States
CATEGORIES:Festival,4 Horsemen Publications
ATTACH;FMTTYPE=image/png:https://4horsemenpublications.com/wp-content/uploads/2025/02/Screenshot-2025-02-19-103627.png
END:VEVENT
END:VCALENDAR