BEGIN:VCALENDAR
VERSION:2.0
PRODID:-//4 Horsemen Publications - ECPv6.15.20//NONSGML v1.0//EN
CALSCALE:GREGORIAN
METHOD:PUBLISH
X-WR-CALNAME:4 Horsemen Publications
X-ORIGINAL-URL:https://4horsemenpublications.com
X-WR-CALDESC:Events for 4 Horsemen Publications
REFRESH-INTERVAL;VALUE=DURATION:PT1H
X-Robots-Tag:noindex
X-PUBLISHED-TTL:PT1H
BEGIN:VTIMEZONE
TZID:America/New_York
BEGIN:DAYLIGHT
TZOFFSETFROM:-0500
TZOFFSETTO:-0400
TZNAME:EDT
DTSTART:20240310T070000
END:DAYLIGHT
BEGIN:STANDARD
TZOFFSETFROM:-0400
TZOFFSETTO:-0500
TZNAME:EST
DTSTART:20241103T060000
END:STANDARD
BEGIN:DAYLIGHT
TZOFFSETFROM:-0500
TZOFFSETTO:-0400
TZNAME:EDT
DTSTART:20250309T070000
END:DAYLIGHT
BEGIN:STANDARD
TZOFFSETFROM:-0400
TZOFFSETTO:-0500
TZNAME:EST
DTSTART:20251102T060000
END:STANDARD
BEGIN:DAYLIGHT
TZOFFSETFROM:-0500
TZOFFSETTO:-0400
TZNAME:EDT
DTSTART:20260308T070000
END:DAYLIGHT
BEGIN:STANDARD
TZOFFSETFROM:-0400
TZOFFSETTO:-0500
TZNAME:EST
DTSTART:20261101T060000
END:STANDARD
END:VTIMEZONE
BEGIN:VEVENT
DTSTART;VALUE=DATE:20250409
DTEND;VALUE=DATE:20250412
DTSTAMP:20260425T122301
CREATED:20250206T023337Z
LAST-MODIFIED:20250206T023337Z
UID:10381-1744214400-1744473599@4horsemenpublications.com
SUMMARY:Apollycon
DESCRIPTION:ApollyCon is an annual multi-day author event owned by #1 New York Times and Internationally Best Selling author\, Jennifer L. Armentrout. Established in 2015\, ApollyCon features authors (who write Young Adult and Adult fiction)\, vendors\, publishers\, sponsors\, and hosts over 1\,000+ readers each year in Washington\, D.C.\n \nAttending Author: \n\nEskay Kabba
URL:https://4horsemenpublications.com/event/apollycon/
LOCATION:Gaylord National Resort & Convention Center\, 201 Waterfront St.\, National Harbor\, FL\, 20745
CATEGORIES:Conventions,Imprint,4 Horsemen Publications
ATTACH;FMTTYPE=image/jpeg:https://4horsemenpublications.com/wp-content/uploads/2025/02/ApollyCon-2025-Eskay-Kabba-2-scaled.jpg
END:VEVENT
END:VCALENDAR