BEGIN:VCALENDAR
VERSION:2.0
PRODID:-//4 Horsemen Publications - ECPv6.15.20//NONSGML v1.0//EN
CALSCALE:GREGORIAN
METHOD:PUBLISH
X-ORIGINAL-URL:https://4horsemenpublications.com
X-WR-CALDESC:Events for 4 Horsemen Publications
REFRESH-INTERVAL;VALUE=DURATION:PT1H
X-Robots-Tag:noindex
X-PUBLISHED-TTL:PT1H
BEGIN:VTIMEZONE
TZID:America/New_York
BEGIN:DAYLIGHT
TZOFFSETFROM:-0500
TZOFFSETTO:-0400
TZNAME:EDT
DTSTART:20240310T070000
END:DAYLIGHT
BEGIN:STANDARD
TZOFFSETFROM:-0400
TZOFFSETTO:-0500
TZNAME:EST
DTSTART:20241103T060000
END:STANDARD
BEGIN:DAYLIGHT
TZOFFSETFROM:-0500
TZOFFSETTO:-0400
TZNAME:EDT
DTSTART:20250309T070000
END:DAYLIGHT
BEGIN:STANDARD
TZOFFSETFROM:-0400
TZOFFSETTO:-0500
TZNAME:EST
DTSTART:20251102T060000
END:STANDARD
BEGIN:DAYLIGHT
TZOFFSETFROM:-0500
TZOFFSETTO:-0400
TZNAME:EDT
DTSTART:20260308T070000
END:DAYLIGHT
BEGIN:STANDARD
TZOFFSETFROM:-0400
TZOFFSETTO:-0500
TZNAME:EST
DTSTART:20261101T060000
END:STANDARD
END:VTIMEZONE
BEGIN:VEVENT
DTSTART;VALUE=DATE:20250717
DTEND;VALUE=DATE:20250720
DTSTAMP:20260424T194818
CREATED:20250619T032716Z
LAST-MODIFIED:20250619T032716Z
UID:11121-1752768000-1753027199@4horsemenpublications.com
SUMMARY:Atlanta Comic Convention
DESCRIPTION:All fandom con including celebrities\, cosplayers and much\, much more. \nAttending author: \n\nSteve Altier
URL:https://4horsemenpublications.com/event/atlanta-comic-convention/
LOCATION:World Congress Center\, 285 Andrew Young International Blvd NW\, Atlanta\, GA\, 30313\, United States
CATEGORIES:Conventions,4 Horsemen Publications
ATTACH;FMTTYPE=image/png:https://4horsemenpublications.com/wp-content/uploads/2025/06/1000020072.png
END:VEVENT
BEGIN:VEVENT
DTSTART;VALUE=DATE:20250718
DTEND;VALUE=DATE:20250720
DTSTAMP:20260424T194818
CREATED:20250206T024212Z
LAST-MODIFIED:20250206T024212Z
UID:10386-1752854400-1753027199@4horsemenpublications.com
SUMMARY:The Write Woman's Bookfest
DESCRIPTION:The Write Women Book Fest was created to lift up and amplify women authors and publishing professionals. The festival welcomes all literary organizations and publishing professionals that are either owned or run by women or believes in lifting up women publishing professionals. Join us om July 19th and July 20th in Bowie\, Maryland.\n \nAttending Author: \n\nEskay Kabba
URL:https://4horsemenpublications.com/event/the-write-womans-bookfest/
LOCATION:Bowie Comfort Inn & Conference Center\, 4500 Crain Hwy.\, Bowie\, MD\, 20716\, United States
CATEGORIES:Conventions,Author Signing,Imprint,4 Horsemen Publications
ATTACH;FMTTYPE=image/png:https://4horsemenpublications.com/wp-content/uploads/2025/02/WWBF-Eskay-Kabba.png
END:VEVENT
BEGIN:VEVENT
DTSTART;TZID=America/New_York:20250719T020000
DTEND;TZID=America/New_York:20250719T100000
DTSTAMP:20260424T194818
CREATED:20250715T145635Z
LAST-MODIFIED:20250715T145635Z
UID:11152-1752890400-1752919200@4horsemenpublications.com
SUMMARY:Behind the Book Festival
DESCRIPTION:A variety of local authors selling and signing their books as well as participating in panel discussions throughout the day. \nAttending author: \n\nAmanda Fasciano
URL:https://4horsemenpublications.com/event/behind-the-book-festival/
LOCATION:Fort Henry Mall\, 2101 Fort Henry Drive\, Kiingsport\, TN\, 37664\, United States
CATEGORIES:Author Signing,4 Horsemen Publications
ATTACH;FMTTYPE=image/png:https://4horsemenpublications.com/wp-content/uploads/2025/07/Behind-the-Book-Festival.png
END:VEVENT
END:VCALENDAR