BEGIN:VCALENDAR
VERSION:2.0
PRODID:-//4 Horsemen Publications - ECPv6.15.20//NONSGML v1.0//EN
CALSCALE:GREGORIAN
METHOD:PUBLISH
X-WR-CALNAME:4 Horsemen Publications
X-ORIGINAL-URL:https://4horsemenpublications.com
X-WR-CALDESC:Events for 4 Horsemen Publications
REFRESH-INTERVAL;VALUE=DURATION:PT1H
X-Robots-Tag:noindex
X-PUBLISHED-TTL:PT1H
BEGIN:VTIMEZONE
TZID:America/New_York
BEGIN:DAYLIGHT
TZOFFSETFROM:-0500
TZOFFSETTO:-0400
TZNAME:EDT
DTSTART:20240310T070000
END:DAYLIGHT
BEGIN:STANDARD
TZOFFSETFROM:-0400
TZOFFSETTO:-0500
TZNAME:EST
DTSTART:20241103T060000
END:STANDARD
BEGIN:DAYLIGHT
TZOFFSETFROM:-0500
TZOFFSETTO:-0400
TZNAME:EDT
DTSTART:20250309T070000
END:DAYLIGHT
BEGIN:STANDARD
TZOFFSETFROM:-0400
TZOFFSETTO:-0500
TZNAME:EST
DTSTART:20251102T060000
END:STANDARD
BEGIN:DAYLIGHT
TZOFFSETFROM:-0500
TZOFFSETTO:-0400
TZNAME:EDT
DTSTART:20260308T070000
END:DAYLIGHT
BEGIN:STANDARD
TZOFFSETFROM:-0400
TZOFFSETTO:-0500
TZNAME:EST
DTSTART:20261101T060000
END:STANDARD
END:VTIMEZONE
BEGIN:VEVENT
DTSTART;TZID=America/New_York:20250905T100000
DTEND;TZID=America/New_York:20250905T130000
DTSTAMP:20260424T130044
CREATED:20250820T104254Z
LAST-MODIFIED:20250820T104254Z
UID:11299-1757066400-1757077200@4horsemenpublications.com
SUMMARY:Author signing at Gilded Page Bookstore
DESCRIPTION:Author signing at the Gilded Page Bookstore \nAttending author: \n\nSteve Altier
URL:https://4horsemenpublications.com/event/author-signing-at-gilded-page-bookstore/
LOCATION:The Gilded Page Bookstore\, 123 E Court Street\, Tarpon Springs\, FL\, 34689\, United States
CATEGORIES:Author Signing,4 Horsemen Publications
ATTACH;FMTTYPE=image/png:https://4horsemenpublications.com/wp-content/uploads/2025/08/Sept-3-Author-Steve-Altier.png
END:VEVENT
END:VCALENDAR