BEGIN:VCALENDAR
VERSION:2.0
PRODID:-//4 Horsemen Publications - ECPv6.15.20//NONSGML v1.0//EN
CALSCALE:GREGORIAN
METHOD:PUBLISH
X-WR-CALNAME:4 Horsemen Publications
X-ORIGINAL-URL:https://4horsemenpublications.com
X-WR-CALDESC:Events for 4 Horsemen Publications
REFRESH-INTERVAL;VALUE=DURATION:PT1H
X-Robots-Tag:noindex
X-PUBLISHED-TTL:PT1H
BEGIN:VTIMEZONE
TZID:America/New_York
BEGIN:DAYLIGHT
TZOFFSETFROM:-0500
TZOFFSETTO:-0400
TZNAME:EDT
DTSTART:20240310T070000
END:DAYLIGHT
BEGIN:STANDARD
TZOFFSETFROM:-0400
TZOFFSETTO:-0500
TZNAME:EST
DTSTART:20241103T060000
END:STANDARD
BEGIN:DAYLIGHT
TZOFFSETFROM:-0500
TZOFFSETTO:-0400
TZNAME:EDT
DTSTART:20250309T070000
END:DAYLIGHT
BEGIN:STANDARD
TZOFFSETFROM:-0400
TZOFFSETTO:-0500
TZNAME:EST
DTSTART:20251102T060000
END:STANDARD
BEGIN:DAYLIGHT
TZOFFSETFROM:-0500
TZOFFSETTO:-0400
TZNAME:EDT
DTSTART:20260308T070000
END:DAYLIGHT
BEGIN:STANDARD
TZOFFSETFROM:-0400
TZOFFSETTO:-0500
TZNAME:EST
DTSTART:20261101T060000
END:STANDARD
END:VTIMEZONE
BEGIN:VEVENT
DTSTART;VALUE=DATE:20250916
DTEND;VALUE=DATE:20250921
DTSTAMP:20260424T110003
CREATED:20250206T030217Z
LAST-MODIFIED:20250916T020641Z
UID:10391-1758038400-1758470399@4horsemenpublications.com
SUMMARY:Smut Lovers
DESCRIPTION:Coming to Orlando on September 17th – September 21st\, 2025 is the largest educational event for romance authors and readers you have ever seen. This multi day event will be filled with workshops\, panels\, demonstrations all about writing and reading Kink and BDSM. Our goal is to bring together the lovers of all things smutty\, in a safe and loving environment\, to learn from each other and share what we know.  \nAttending Authors: \n\nEskay Kabba\nDominic N. Ashen
URL:https://4horsemenpublications.com/event/smut-lovers/
LOCATION:Doubletree Hotel by Hilton at SeaWorld\, 10100 International Drive\, Orlando\, FL\, 32821\, United States
CATEGORIES:Conventions,Imprint,4 Horsemen Publications
ATTACH;FMTTYPE=image/png:https://4horsemenpublications.com/wp-content/uploads/2025/02/Signing-Author-2025-Eskay-Kabba.png
END:VEVENT
BEGIN:VEVENT
DTSTART;VALUE=DATE:20250918
DTEND;VALUE=DATE:20250921
DTSTAMP:20260424T110003
CREATED:20250902T111049Z
LAST-MODIFIED:20250902T111049Z
UID:11384-1758211200-1758470399@4horsemenpublications.com
SUMMARY:UltraCon Comic Con
DESCRIPTION:UltraCon of South Florida is September 19-21 at the South Florida Expo Center. The long-running\, multi-genre events features comics\, anime\, gaming\, and more. Booth number yet unknown. \nAttending Author: \n\nNick Savage
URL:https://4horsemenpublications.com/event/ultracon-comic-con/
LOCATION:Expo Center at the South Florida Fairgrounds\, 9067 Southern Blvd\,\, West Palm Beach\, FL\, 33411
CATEGORIES:Conventions,Author Signing,4 Horsemen Publications
ATTACH;FMTTYPE=image/webp:https://4horsemenpublications.com/wp-content/uploads/2025/09/UC-LOGO-Con_1692222421-Nick-Savage.webp
END:VEVENT
BEGIN:VEVENT
DTSTART;VALUE=DATE:20250918
DTEND;VALUE=DATE:20250921
DTSTAMP:20260424T110003
CREATED:20250917T102918Z
LAST-MODIFIED:20250917T102918Z
UID:11435-1758211200-1758470399@4horsemenpublications.com
SUMMARY:Kaboom-Con!
DESCRIPTION:Tonya Todd is teaming up with Comics Lit contributor Seth Singleton for Kaboom-Con\, the ultimate Comic Con Convention for fans of all things pop culture entertainment. In adjacent booths A02 & A03\, Tonya and Seth will have copies of Comics Lit\, 52 Love\, The Austen Chronicles\, Comics Lit T-shirts\, as well as photos\, trading cards\, comics\, candy\, and cos-play cameos from some of your favorite characters.\nOn Saturday at 1:00\, Tonya will speak on the Hollywood to Nevada Panel\, and at 3:15\, Seth will speak on The Fantasy or Writing.\nKaboom-Con will be held in the Carson City Community Center at 851 East William Street\, Carson City\, Nevada\, 89701. Get ready to immerse yourself in a world of comics\, movies\, games\, and more!\n \nAttending authors: \n\nTonya Todd\nSeth Singleton
URL:https://4horsemenpublications.com/event/kaboom-con/
LOCATION:Carson City Community Center\, 851 East William Street\, Carson City\, NV\, 89701\, United States
CATEGORIES:Conventions,Author Signing,4 Horsemen Publications
ATTACH;FMTTYPE=image/png:https://4horsemenpublications.com/wp-content/uploads/2025/09/Screenshot-2025-09-17-162515.png
END:VEVENT
BEGIN:VEVENT
DTSTART;VALUE=DATE:20250919
DTEND;VALUE=DATE:20250921
DTSTAMP:20260424T110003
CREATED:20250902T104824Z
LAST-MODIFIED:20250902T104824Z
UID:11368-1758297600-1758470399@4horsemenpublications.com
SUMMARY:Ocala Comic-Con
DESCRIPTION:All Fandom con. All Genres welcome. \nAttending Author: \n\nSteve Altier
URL:https://4horsemenpublications.com/event/ocala-comic-con-3/
LOCATION:WORLD EQUESTRIAN CENTER\, 1284 NW 87th Court RD\, Ocala\, FL\, 34482\, United States
CATEGORIES:Conventions,Author Signing,4 Horsemen Publications
ATTACH;FMTTYPE=image/png:https://4horsemenpublications.com/wp-content/uploads/2025/09/Sept-20-21-Author-Steve-Altier.png
END:VEVENT
BEGIN:VEVENT
DTSTART;VALUE=DATE:20250919
DTEND;VALUE=DATE:20250921
DTSTAMP:20260424T110003
CREATED:20250903T103043Z
LAST-MODIFIED:20250903T103043Z
UID:11396-1758297600-1758470399@4horsemenpublications.com
SUMMARY:Ocala Comic Con
DESCRIPTION:All fandom event in Ocala\, FL.  \nMaria DeVivo will be speaking on a panel on Saturday\, 9/20 at 1pm with Steve Altier – “Writing Fantasy”
URL:https://4horsemenpublications.com/event/ocala-comic-con-4/
LOCATION:WORLD EQUESTRIAN CENTER\, 1284 NW 87th Court RD\, Ocala\, FL\, 34482\, United States
CATEGORIES:Conventions,Author Signing,4 Horsemen Publications
ATTACH;FMTTYPE=image/jpeg:https://4horsemenpublications.com/wp-content/uploads/2025/09/Appearances-2025-12-Maria-DeVivo.jpg
END:VEVENT
BEGIN:VEVENT
DTSTART;TZID=America/New_York:20250921T020000
DTEND;TZID=America/New_York:20250921T110000
DTSTAMP:20260424T110003
CREATED:20250917T102422Z
LAST-MODIFIED:20250917T102422Z
UID:11432-1758420000-1758452400@4horsemenpublications.com
SUMMARY:Maryland Renaissance Festival
DESCRIPTION:Visit Leslie and Janice Sommers at their booth outside the Page After Page Bookstore!
URL:https://4horsemenpublications.com/event/maryland-renaissance-festival-2/
LOCATION:Maryland Renaissance Festival\, 1821 Crownsville Road\, Annapolis\, MD\, 21401\, United States
CATEGORIES:Festival,Author Signing,4 Horsemen Publications
ATTACH;FMTTYPE=image/png:https://4horsemenpublications.com/wp-content/uploads/2025/09/Screenshot-2025-09-17-162318.png
END:VEVENT
END:VCALENDAR