BEGIN:VCALENDAR
VERSION:2.0
PRODID:-//4 Horsemen Publications - ECPv6.15.20//NONSGML v1.0//EN
CALSCALE:GREGORIAN
METHOD:PUBLISH
X-ORIGINAL-URL:https://4horsemenpublications.com
X-WR-CALDESC:Events for 4 Horsemen Publications
REFRESH-INTERVAL;VALUE=DURATION:PT1H
X-Robots-Tag:noindex
X-PUBLISHED-TTL:PT1H
BEGIN:VTIMEZONE
TZID:America/New_York
BEGIN:DAYLIGHT
TZOFFSETFROM:-0500
TZOFFSETTO:-0400
TZNAME:EDT
DTSTART:20240310T070000
END:DAYLIGHT
BEGIN:STANDARD
TZOFFSETFROM:-0400
TZOFFSETTO:-0500
TZNAME:EST
DTSTART:20241103T060000
END:STANDARD
BEGIN:DAYLIGHT
TZOFFSETFROM:-0500
TZOFFSETTO:-0400
TZNAME:EDT
DTSTART:20250309T070000
END:DAYLIGHT
BEGIN:STANDARD
TZOFFSETFROM:-0400
TZOFFSETTO:-0500
TZNAME:EST
DTSTART:20251102T060000
END:STANDARD
BEGIN:DAYLIGHT
TZOFFSETFROM:-0500
TZOFFSETTO:-0400
TZNAME:EDT
DTSTART:20260308T070000
END:DAYLIGHT
BEGIN:STANDARD
TZOFFSETFROM:-0400
TZOFFSETTO:-0500
TZNAME:EST
DTSTART:20261101T060000
END:STANDARD
END:VTIMEZONE
BEGIN:VEVENT
DTSTART;VALUE=DATE:20251113
DTEND;VALUE=DATE:20251116
DTSTAMP:20260424T111635
CREATED:20251106T062254Z
LAST-MODIFIED:20251106T062310Z
UID:12412-1763049600-1763308799@4horsemenpublications.com
SUMMARY:SuperStar Con
DESCRIPTION:The stars shine bright at SUPERSTAR COMIC CON Savannah\, powered by GalaxyCon\, Nightmare Weekend\, and Animate! We proudly present three days of out-of-this-world celebrities\, jam-packed parties\, unique vendors\, exciting gaming\, amazing cosplay contests\, and fun for EVERYONE! I’ll be in the DEEP SPACE BOUTIQUE 18+ ROOM. \nAttending Author: \n\nRobert J. Lewis
URL:https://4horsemenpublications.com/event/superstar-con/
LOCATION:Savannah Convention Center\, 1 International Dr.\, Savannah\, GA\, 31421\, United States
CATEGORIES:Conventions,Author Signing,4 Horsemen Publications
ATTACH;FMTTYPE=image/jpeg:https://4horsemenpublications.com/wp-content/uploads/2025/11/IMG_8652-Robert-Lewis.jpg
END:VEVENT
END:VCALENDAR