BEGIN:VCALENDAR
VERSION:2.0
PRODID:-//4 Horsemen Publications - ECPv6.15.20//NONSGML v1.0//EN
CALSCALE:GREGORIAN
METHOD:PUBLISH
X-WR-CALNAME:4 Horsemen Publications
X-ORIGINAL-URL:https://4horsemenpublications.com
X-WR-CALDESC:Events for 4 Horsemen Publications
REFRESH-INTERVAL;VALUE=DURATION:PT1H
X-Robots-Tag:noindex
X-PUBLISHED-TTL:PT1H
BEGIN:VTIMEZONE
TZID:America/New_York
BEGIN:DAYLIGHT
TZOFFSETFROM:-0500
TZOFFSETTO:-0400
TZNAME:EDT
DTSTART:20240310T070000
END:DAYLIGHT
BEGIN:STANDARD
TZOFFSETFROM:-0400
TZOFFSETTO:-0500
TZNAME:EST
DTSTART:20241103T060000
END:STANDARD
BEGIN:DAYLIGHT
TZOFFSETFROM:-0500
TZOFFSETTO:-0400
TZNAME:EDT
DTSTART:20250309T070000
END:DAYLIGHT
BEGIN:STANDARD
TZOFFSETFROM:-0400
TZOFFSETTO:-0500
TZNAME:EST
DTSTART:20251102T060000
END:STANDARD
BEGIN:DAYLIGHT
TZOFFSETFROM:-0500
TZOFFSETTO:-0400
TZNAME:EDT
DTSTART:20260308T070000
END:DAYLIGHT
BEGIN:STANDARD
TZOFFSETFROM:-0400
TZOFFSETTO:-0500
TZNAME:EST
DTSTART:20261101T060000
END:STANDARD
END:VTIMEZONE
BEGIN:VEVENT
DTSTART;VALUE=DATE:20251129
DTEND;VALUE=DATE:20251130
DTSTAMP:20260424T113026
CREATED:20251028T041205Z
LAST-MODIFIED:20251028T041205Z
UID:11747-1764432000-1764518399@4horsemenpublications.com
SUMMARY:Books and Brews
DESCRIPTION:Books & Brews @ Garden State Beer Company \nIt’s time to shop\, and what better gift for your avid reader than a book or two… or three! Please join LGBTQ authors Alexis\, Evie\, Jacey\, Eskay\, and Alexander for an afternoon of book signings while enjoying a range of amazing craft beers.
URL:https://4horsemenpublications.com/event/books-and-brews/
LOCATION:Garden State Beer Company\, 247 E White Horse Pike\, Galloway\, NJ\, 08205\, United States
CATEGORIES:Author Signing,4 Horsemen Publications
ATTACH;FMTTYPE=image/jpeg:https://4horsemenpublications.com/wp-content/uploads/2025/10/Books-and-Brews-Eskay-Kabba.jpg
END:VEVENT
END:VCALENDAR