BEGIN:VCALENDAR
VERSION:2.0
PRODID:-//4 Horsemen Publications - ECPv6.15.20//NONSGML v1.0//EN
CALSCALE:GREGORIAN
METHOD:PUBLISH
X-ORIGINAL-URL:https://4horsemenpublications.com
X-WR-CALDESC:Events for 4 Horsemen Publications
REFRESH-INTERVAL;VALUE=DURATION:PT1H
X-Robots-Tag:noindex
X-PUBLISHED-TTL:PT1H
BEGIN:VTIMEZONE
TZID:America/New_York
BEGIN:DAYLIGHT
TZOFFSETFROM:-0500
TZOFFSETTO:-0400
TZNAME:EDT
DTSTART:20250309T070000
END:DAYLIGHT
BEGIN:STANDARD
TZOFFSETFROM:-0400
TZOFFSETTO:-0500
TZNAME:EST
DTSTART:20251102T060000
END:STANDARD
BEGIN:DAYLIGHT
TZOFFSETFROM:-0500
TZOFFSETTO:-0400
TZNAME:EDT
DTSTART:20260308T070000
END:DAYLIGHT
BEGIN:STANDARD
TZOFFSETFROM:-0400
TZOFFSETTO:-0500
TZNAME:EST
DTSTART:20261101T060000
END:STANDARD
BEGIN:DAYLIGHT
TZOFFSETFROM:-0500
TZOFFSETTO:-0400
TZNAME:EDT
DTSTART:20270314T070000
END:DAYLIGHT
BEGIN:STANDARD
TZOFFSETFROM:-0400
TZOFFSETTO:-0500
TZNAME:EST
DTSTART:20271107T060000
END:STANDARD
END:VTIMEZONE
BEGIN:VEVENT
DTSTART;VALUE=DATE:20260116
DTEND;VALUE=DATE:20260118
DTSTAMP:20260424T060206
CREATED:20251216T043535Z
LAST-MODIFIED:20251230T075119Z
UID:12673-1768579200-1768751999@4horsemenpublications.com
SUMMARY:Central Florida Comic-Con
DESCRIPTION:Central Florida Comic Con is a celebration of comics\, toys\, TV\, film\, art\, cosplay\, games\, and all things nerdy! \nJoin us at the RP Funding Center in Lakeland to celebrate comics\, anime\, and pop culture with your favorite guest\, unique programming\, and amazing exhibitors/artists! \nCheck out the CFCC page bio for current discount codes! \nAuthor Jackie Sonnenberg returns as a guest for signings of new and established books as well as panels and photo opps at her booth. \nAttending Authors: \n\nSteve Altier\nJackie Sonnenberg
URL:https://4horsemenpublications.com/event/central-florida-comic-con-3/
LOCATION:RP Funding Center\, 701 West Lime Street\, Lakeland\, FL\, 33815\, United States
CATEGORIES:Conventions,4 Horsemen Publications
END:VEVENT
END:VCALENDAR