BEGIN:VCALENDAR
VERSION:2.0
PRODID:-//4 Horsemen Publications - ECPv6.15.20//NONSGML v1.0//EN
CALSCALE:GREGORIAN
METHOD:PUBLISH
X-WR-CALNAME:4 Horsemen Publications
X-ORIGINAL-URL:https://4horsemenpublications.com
X-WR-CALDESC:Events for 4 Horsemen Publications
REFRESH-INTERVAL;VALUE=DURATION:PT1H
X-Robots-Tag:noindex
X-PUBLISHED-TTL:PT1H
BEGIN:VTIMEZONE
TZID:America/New_York
BEGIN:DAYLIGHT
TZOFFSETFROM:-0500
TZOFFSETTO:-0400
TZNAME:EDT
DTSTART:20240310T070000
END:DAYLIGHT
BEGIN:STANDARD
TZOFFSETFROM:-0400
TZOFFSETTO:-0500
TZNAME:EST
DTSTART:20241103T060000
END:STANDARD
BEGIN:DAYLIGHT
TZOFFSETFROM:-0500
TZOFFSETTO:-0400
TZNAME:EDT
DTSTART:20250309T070000
END:DAYLIGHT
BEGIN:STANDARD
TZOFFSETFROM:-0400
TZOFFSETTO:-0500
TZNAME:EST
DTSTART:20251102T060000
END:STANDARD
BEGIN:DAYLIGHT
TZOFFSETFROM:-0500
TZOFFSETTO:-0400
TZNAME:EDT
DTSTART:20260308T070000
END:DAYLIGHT
BEGIN:STANDARD
TZOFFSETFROM:-0400
TZOFFSETTO:-0500
TZNAME:EST
DTSTART:20261101T060000
END:STANDARD
END:VTIMEZONE
BEGIN:VEVENT
DTSTART;TZID=America/New_York:20251213T030000
DTEND;TZID=America/New_York:20251213T040000
DTSTAMP:20260425T063635
CREATED:20250128T125032Z
LAST-MODIFIED:20250128T125032Z
UID:10318-1765594800-1765598400@4horsemenpublications.com
SUMMARY:Webinar: The Muses on Self Care
DESCRIPTION:Join the Muses for tips on self care!
URL:https://4horsemenpublications.com/event/webinar-the-muses-on-self-care/
LOCATION:Accountable Authors Community Discord Events Room
CATEGORIES:Webinar
END:VEVENT
BEGIN:VEVENT
DTSTART;TZID=America/New_York:20251115T030000
DTEND;TZID=America/New_York:20251115T040000
DTSTAMP:20260425T063635
CREATED:20250128T124725Z
LAST-MODIFIED:20250128T124725Z
UID:10316-1763175600-1763179200@4horsemenpublications.com
SUMMARY:Webinar: The Muses on the Writing Habit
DESCRIPTION:Join the Muses for tips on the writing habit!
URL:https://4horsemenpublications.com/event/webinar-the-muses-on-the-writing-habit/
LOCATION:Accountable Authors Community Discord Events Room
CATEGORIES:Webinar
END:VEVENT
BEGIN:VEVENT
DTSTART;TZID=America/New_York:20251018T030000
DTEND;TZID=America/New_York:20251018T040000
DTSTAMP:20260425T063635
CREATED:20250128T124148Z
LAST-MODIFIED:20250128T124148Z
UID:10313-1760756400-1760760000@4horsemenpublications.com
SUMMARY:Webinar: The Muses on Genre
DESCRIPTION:Join the Muses for tips on genre.
URL:https://4horsemenpublications.com/event/webinar-the-muses-on-genre/
LOCATION:Accountable Authors Community Discord Events Room
CATEGORIES:Webinar
END:VEVENT
BEGIN:VEVENT
DTSTART;TZID=America/New_York:20250927T030000
DTEND;TZID=America/New_York:20250927T040000
DTSTAMP:20260425T063635
CREATED:20250128T124000Z
LAST-MODIFIED:20250128T124000Z
UID:10310-1758942000-1758945600@4horsemenpublications.com
SUMMARY:Webinar: The Muses on Research
DESCRIPTION:Join the Muses for tips on research.
URL:https://4horsemenpublications.com/event/webinar-the-muses-on-research/
LOCATION:Accountable Authors Community Discord Events Room
CATEGORIES:Webinar
END:VEVENT
BEGIN:VEVENT
DTSTART;TZID=America/New_York:20250823T030000
DTEND;TZID=America/New_York:20250823T040000
DTSTAMP:20260425T063635
CREATED:20250128T123733Z
LAST-MODIFIED:20250128T123753Z
UID:10306-1755918000-1755921600@4horsemenpublications.com
SUMMARY:Webinar: The Muses on Revision and Editing
DESCRIPTION:Join the Muses for tips on revision and editing!
URL:https://4horsemenpublications.com/event/webinar-the-muses-on-revision-and-editing/
LOCATION:Accountable Authors Community Discord Events Room
CATEGORIES:Webinar
END:VEVENT
BEGIN:VEVENT
DTSTART;TZID=America/New_York:20250726T030000
DTEND;TZID=America/New_York:20250726T040000
DTSTAMP:20260425T063635
CREATED:20250128T123446Z
LAST-MODIFIED:20250128T123446Z
UID:10304-1753498800-1753502400@4horsemenpublications.com
SUMMARY:Webinar: The Muses on Learning the Craft
DESCRIPTION:Join the Muses for tips on learning the craft.
URL:https://4horsemenpublications.com/event/webinar-the-muses-on-learning-the-craft/
LOCATION:Accountable Authors Community Discord Events Room
CATEGORIES:Webinar
END:VEVENT
BEGIN:VEVENT
DTSTART;TZID=America/New_York:20250621T030000
DTEND;TZID=America/New_York:20250621T040000
DTSTAMP:20260425T063635
CREATED:20250128T123106Z
LAST-MODIFIED:20250128T123106Z
UID:10302-1750474800-1750478400@4horsemenpublications.com
SUMMARY:Webinar: The Muses on Shameless Self Promotion
DESCRIPTION:Join the Muses for tips on shameless self promotion.
URL:https://4horsemenpublications.com/event/webinar-the-muses-on-shameless-self-promotion/
LOCATION:Accountable Authors Community Discord Events Room
CATEGORIES:Webinar
END:VEVENT
BEGIN:VEVENT
DTSTART;TZID=America/New_York:20250524T030000
DTEND;TZID=America/New_York:20250524T040000
DTSTAMP:20260425T063635
CREATED:20250128T122458Z
LAST-MODIFIED:20250128T122458Z
UID:10300-1748055600-1748059200@4horsemenpublications.com
SUMMARY:Webinar: The Muses on Author Motivation
DESCRIPTION:Join the Muses for tips on staying motivated.
URL:https://4horsemenpublications.com/event/webinar-the-muses-on-author-motivation/
LOCATION:Accountable Authors Community Discord Events Room
CATEGORIES:Webinar
END:VEVENT
BEGIN:VEVENT
DTSTART;TZID=America/New_York:20250419T030000
DTEND;TZID=America/New_York:20250419T040000
DTSTAMP:20260425T063635
CREATED:20250128T121707Z
LAST-MODIFIED:20250128T121707Z
UID:10296-1745031600-1745035200@4horsemenpublications.com
SUMMARY:Webinar: The Muses on Worldbuilding
DESCRIPTION:Join the Muses for tips on worldbuilding.
URL:https://4horsemenpublications.com/event/webinar-the-muses-on-worldbuilding/
LOCATION:Accountable Authors Community Discord Events Room
CATEGORIES:Webinar
END:VEVENT
BEGIN:VEVENT
DTSTART;TZID=America/New_York:20250322T030000
DTEND;TZID=America/New_York:20250322T040000
DTSTAMP:20260425T063635
CREATED:20250128T121336Z
LAST-MODIFIED:20250128T121913Z
UID:10292-1742612400-1742616000@4horsemenpublications.com
SUMMARY:Webinar: The Muses on Character
DESCRIPTION:Join the Muses for tips on character.
URL:https://4horsemenpublications.com/event/webinar-the-muses-on-plot-2/
LOCATION:Accountable Authors Community Discord Events Room
CATEGORIES:Webinar
END:VEVENT
BEGIN:VEVENT
DTSTART;TZID=America/New_York:20250222T030000
DTEND;TZID=America/New_York:20250222T040000
DTSTAMP:20260425T063635
CREATED:20250128T121037Z
LAST-MODIFIED:20250128T121824Z
UID:10290-1740193200-1740196800@4horsemenpublications.com
SUMMARY:Webinar: The Muses on Plot
DESCRIPTION:Join the Muses for tips on Plot! \n 
URL:https://4horsemenpublications.com/event/webinar-the-muses-on-plot/
LOCATION:Accountable Authors Community Discord Events Room
CATEGORIES:Webinar
END:VEVENT
END:VCALENDAR