BEGIN:VCALENDAR
VERSION:2.0
PRODID:-//4 Horsemen Publications - ECPv6.15.20//NONSGML v1.0//EN
CALSCALE:GREGORIAN
METHOD:PUBLISH
X-WR-CALNAME:4 Horsemen Publications
X-ORIGINAL-URL:https://4horsemenpublications.com
X-WR-CALDESC:Events for 4 Horsemen Publications
REFRESH-INTERVAL;VALUE=DURATION:PT1H
X-Robots-Tag:noindex
X-PUBLISHED-TTL:PT1H
BEGIN:VTIMEZONE
TZID:America/New_York
BEGIN:DAYLIGHT
TZOFFSETFROM:-0500
TZOFFSETTO:-0400
TZNAME:EDT
DTSTART:20230312T070000
END:DAYLIGHT
BEGIN:STANDARD
TZOFFSETFROM:-0400
TZOFFSETTO:-0500
TZNAME:EST
DTSTART:20231105T060000
END:STANDARD
BEGIN:DAYLIGHT
TZOFFSETFROM:-0500
TZOFFSETTO:-0400
TZNAME:EDT
DTSTART:20240310T070000
END:DAYLIGHT
BEGIN:STANDARD
TZOFFSETFROM:-0400
TZOFFSETTO:-0500
TZNAME:EST
DTSTART:20241103T060000
END:STANDARD
BEGIN:DAYLIGHT
TZOFFSETFROM:-0500
TZOFFSETTO:-0400
TZNAME:EDT
DTSTART:20250309T070000
END:DAYLIGHT
BEGIN:STANDARD
TZOFFSETFROM:-0400
TZOFFSETTO:-0500
TZNAME:EST
DTSTART:20251102T060000
END:STANDARD
END:VTIMEZONE
BEGIN:VEVENT
DTSTART;TZID=America/New_York:20240727T050000
DTEND;TZID=America/New_York:20240727T080000
DTSTAMP:20260425T195209
CREATED:20240702T025532Z
LAST-MODIFIED:20240702T025532Z
UID:8872-1722056400-1722067200@4horsemenpublications.com
SUMMARY:Local Author Showcase
DESCRIPTION:Meet 4 Horsemen Authors Maria DeVivo\, Steve Altier\, and Nick Savage! \n  \nUpdate: Unfortunately\, Sarah Seado will no longer be attending.
URL:https://4horsemenpublications.com/event/local-author-showcase-2/
LOCATION:The Gilded Page Bookstore\, 123 E Court Street\, Tarpon Springs\, FL\, 34689\, United States
CATEGORIES:Author Signing,4 Horsemen Publications
ATTACH;FMTTYPE=image/jpeg:https://4horsemenpublications.com/wp-content/uploads/2024/07/Appearances-here-28-Maria-DeVivo.jpg
END:VEVENT
BEGIN:VEVENT
DTSTART;TZID=America/New_York:20240727T023000
DTEND;TZID=America/New_York:20240727T053000
DTSTAMP:20260425T195209
CREATED:20240723T020753Z
LAST-MODIFIED:20240723T020753Z
UID:9000-1722047400-1722058200@4horsemenpublications.com
SUMMARY:Local Arizona Author Crawl
DESCRIPTION:Meet local Arizona Authors at the Mesa Barnes & Noble! \nAttending Author: \n\nMimi Francis
URL:https://4horsemenpublications.com/event/local-arizona-author-crawl/
LOCATION:Barnes & Noble Village Square at Dana Park\, 1758 South Val Vista Drive\, Mesa\, AZ\, 85204\, United States
CATEGORIES:Author Signing,4 Horsemen Publications
ATTACH;FMTTYPE=image/jpeg:https://4horsemenpublications.com/wp-content/uploads/2024/07/1-Mimi-Francis.jpg
END:VEVENT
BEGIN:VEVENT
DTSTART;VALUE=DATE:20240724
DTEND;VALUE=DATE:20240728
DTSTAMP:20260425T195209
CREATED:20240718T053639Z
LAST-MODIFIED:20240718T053639Z
UID:8972-1721836800-1722182399@4horsemenpublications.com
SUMMARY:GalaxyCon Raleigh
DESCRIPTION:GalaxyCon Raleigh is a 4-Day FESTIVAL OF FANDOM with celebrities\, artists\, writers\, voice actors\, cosplayers\, entertainers\, creators\, wrestlers\, fan groups\, panelists\, and PEOPLE LIKE YOU!\nJoin fans from across the galaxy and celebrate Comic Books\, Pop Culture\, Sci-Fi\, Fantasy\, Anime\, Gaming\, Cosplay\, and more! \nAttending Authors: \n\nLeslie and Janice Sommers
URL:https://4horsemenpublications.com/event/galaxycon-raleigh-3/
LOCATION:Raleigh Convention Center\, 500 S Salisbury St.\, Raleigh\, FL\, 27601
CATEGORIES:Conventions,4 Horsemen Publications
ATTACH;FMTTYPE=image/webp:https://4horsemenpublications.com/wp-content/uploads/2024/07/galaxycon.webp
END:VEVENT
BEGIN:VEVENT
DTSTART;VALUE=DATE:20240724
DTEND;VALUE=DATE:20240728
DTSTAMP:20260425T195209
CREATED:20240112T020441Z
LAST-MODIFIED:20240112T020441Z
UID:6524-1721836800-1722182399@4horsemenpublications.com
SUMMARY:GalaxyCon Raleigh
DESCRIPTION:GalaxyCon Raleigh is a 4-Day FESTIVAL OF FANDOM with celebrities\, artists\, writers\, voice actors\, cosplayers\, entertainers\, creators\, wrestlers\, fan groups\, panelists\, and PEOPLE LIKE YOU! \nJoin fans from across the galaxy and celebrate Comic Books\, Pop Culture\, Sci-Fi\, Fantasy\, Anime\, Gaming\, Cosplay\, and more! \nAttending Authors: \n\nMegan Mackie\n\nPurchase Tickets Here: https://galaxycon.com/pages/galaxycon-raleigh-tickets
URL:https://4horsemenpublications.com/event/galaxycon-raleigh-2/
LOCATION:Raleigh Convention Center\, 500 S Salisbury St.\, Raleigh\, FL\, 27601
CATEGORIES:Conventions,Author Signing,4 Horsemen Publications
ATTACH;FMTTYPE=image/png:https://4horsemenpublications.com/wp-content/uploads/2024/01/Home_Page_Head.webp-2-Megan-Mackie.png
END:VEVENT
BEGIN:VEVENT
DTSTART;VALUE=DATE:20240719
DTEND;VALUE=DATE:20240721
DTSTAMP:20260425T195209
CREATED:20240702T024544Z
LAST-MODIFIED:20240702T024544Z
UID:8867-1721404800-1721577599@4horsemenpublications.com
SUMMARY:Sarasota Mystic Faire
DESCRIPTION:Psychics\, healers\, crystals… all things mystical and magical! \nAttending author: \n\nMaria DeVivo
URL:https://4horsemenpublications.com/event/sarasota-mystic-faire/
LOCATION:Sarasota Municipal Auditorium\, 801 N Tamiami Trail\, Sarasota\, FL\, United States
CATEGORIES:Author Signing,4 Horsemen Publications
ATTACH;FMTTYPE=image/jpeg:https://4horsemenpublications.com/wp-content/uploads/2024/07/Appearances-here-27-Maria-DeVivo.jpg
END:VEVENT
BEGIN:VEVENT
DTSTART;VALUE=DATE:20240716
DTEND;VALUE=DATE:20240721
DTSTAMP:20260425T195209
CREATED:20230920T042648Z
LAST-MODIFIED:20230920T042734Z
UID:6132-1721145600-1721577599@4horsemenpublications.com
SUMMARY:Literary Love 2024: After Dark
DESCRIPTION:Literary Love Savannah: After Dark. The longest running TRUE convention in romance literature. 4 days packed fill of programming\, panels\, parties\, signings and more! \nAttending Author: \n\nEskay Kabba\n\n \n  \n  \n  \n  \n  \nGet Tickets HERE!
URL:https://4horsemenpublications.com/event/literary-love-2024-after-dark/
LOCATION:Savannah Marriott Riverfront\, 100 General McIntosh Boulevard\, Savannah\, GA\, 31401\, United States
CATEGORIES:Conventions,Author Signing,4 Horsemen Publications
ATTACH;FMTTYPE=image/jpeg:https://4horsemenpublications.com/wp-content/uploads/2023/09/after-dark-1.jpg
END:VEVENT
BEGIN:VEVENT
DTSTART;TZID=America/New_York:20240713T030000
DTEND;TZID=America/New_York:20240713T070000
DTSTAMP:20260425T195209
CREATED:20240702T024051Z
LAST-MODIFIED:20240702T024051Z
UID:8864-1720839600-1720854000@4horsemenpublications.com
SUMMARY:Dragon's Den Books
DESCRIPTION:Book signing/meet and greet with 4 Horsemen Authors \n\nMaria DeVivo\nNick Savage
URL:https://4horsemenpublications.com/event/dragons-den-books/
LOCATION:Dragon’s Den Books\, 101 W. Oak St\, Arcadia\, FL\, 34266\, United States
CATEGORIES:Author Signing,4 Horsemen Publications
ATTACH;FMTTYPE=image/jpeg:https://4horsemenpublications.com/wp-content/uploads/2024/07/Appearances-here-26-Maria-DeVivo.jpg
END:VEVENT
BEGIN:VEVENT
DTSTART;TZID=America/New_York:20240706T020000
DTEND;TZID=America/New_York:20240706T090000
DTSTAMP:20260425T195209
CREATED:20240603T035321Z
LAST-MODIFIED:20240603T035321Z
UID:8529-1720231200-1720256400@4horsemenpublications.com
SUMMARY:Villicon
DESCRIPTION:Celebrate villains and all things strange! \nAttending Author: \n\nMaria DeVivo
URL:https://4horsemenpublications.com/event/villicon/
LOCATION:Oviedo Mall\, 1700 Oviedo Mall Blvd.\, Oviedo\, FL\, 32765\, United States
CATEGORIES:Conventions,Author Signing,4 Horsemen Publications
ATTACH;FMTTYPE=image/jpeg:https://4horsemenpublications.com/wp-content/uploads/2024/06/Appearances-here-25-Maria-DeVivo.jpg
END:VEVENT
BEGIN:VEVENT
DTSTART;VALUE=DATE:20240627
DTEND;VALUE=DATE:20240630
DTSTAMP:20260425T195209
CREATED:20240610T052419Z
LAST-MODIFIED:20240610T052419Z
UID:8626-1719504000-1719763199@4horsemenpublications.com
SUMMARY:Crypticon Kansas City
DESCRIPTION:Where all things symbolic in Film\, Television\, Anime\, fantasy\, Sci Fi\, Horror and/or just all around… family fun reside. The best and most unique in indie films from around the globe are shown in the Crypticon Indie Film Fest & Cryptic Awards. Come meet the Iconic with the best in celebrity guests to be gathered in one amazing setting and or event. Also unique vendors and artist from around the world with Toys\, Comics\, DVD\, Blu Ray\, VHS\, Posters\, Models\, Make Up\, Props\, Effects\, Art\, Magazines\, Apparel\, Jewelry\, Collectibles Galore and so much more. \nAttending Author: \n\nChelsea Burton Dunn\n\nTickets available HERE.
URL:https://4horsemenpublications.com/event/crypticon-kansas-city/
LOCATION:The Embassy Suites KCI\, 7640 NW Tiffany Springs Pkwy\, Kansas City\, MO\, 64153\, United States
CATEGORIES:Conventions,Author Signing,4 Horsemen Publications
ATTACH;FMTTYPE=image/png:https://4horsemenpublications.com/wp-content/uploads/2024/06/logo.png
END:VEVENT
BEGIN:VEVENT
DTSTART;VALUE=DATE:20240627
DTEND;VALUE=DATE:20240629
DTSTAMP:20260425T195209
CREATED:20231013T015048Z
LAST-MODIFIED:20231013T015048Z
UID:6268-1719504000-1719676799@4horsemenpublications.com
SUMMARY:Small Town Monster Fest 2024
DESCRIPTION:  \nCryptid\, paranormal\, and alien focused event. \nTickets Available Here: https://www.exploretock.com/small-town-monsters/event/421741/monster-fest-2024
URL:https://4horsemenpublications.com/event/small-town-monster-fest-2024/
LOCATION:DoubleTree by Hilton Canton Downtown\, 320 Market Avenue South\, Canton\, OH\, 44702\, United States
CATEGORIES:Festival,Eerie Travels
ATTACH;FMTTYPE=image/jpeg:https://4horsemenpublications.com/wp-content/uploads/2023/10/MF2_Banner_opt2-Mark-Muncy.jpeg
END:VEVENT
BEGIN:VEVENT
DTSTART;VALUE=DATE:20240627
DTEND;VALUE=DATE:20240629
DTSTAMP:20260425T195209
CREATED:20230707T022602Z
LAST-MODIFIED:20230804T020622Z
UID:5666-1719504000-1719676799@4horsemenpublications.com
SUMMARY:Monster Fest 2024
DESCRIPTION:Small Town Monsters is bringing Monster Fest back for a second year! The crypid themed event will be returning to the Double Tree by Hilton Downtown Canton. This year will see the return of vendors\, live podcasts\, speakers and the addition of demonstrations and workshops! Last year was a blast and year two will be a can’t miss event! \nAttending Authors:\nMark Muncy \nGet your tickets here: https://www.exploretock.com/small-town-monsters/event/421741/monster-fest-2024
URL:https://4horsemenpublications.com/event/monster-fest-2024/
LOCATION:DoubleTree by Hilton Canton Downtown\, 320 Market Avenue South\, Canton\, OH\, 44702\, United States
CATEGORIES:Conventions,Eerie Travels
ATTACH;FMTTYPE=image/jpeg:https://4horsemenpublications.com/wp-content/uploads/2023/07/MF2_Banner_opt2-Mark-Muncy.jpeg
END:VEVENT
BEGIN:VEVENT
DTSTART;VALUE=DATE:20240627
DTEND;VALUE=DATE:20240629
DTSTAMP:20260425T195209
CREATED:20240417T100403Z
LAST-MODIFIED:20240417T100403Z
UID:7900-1719504000-1719676799@4horsemenpublications.com
SUMMARY:Tampa Bay Screams
DESCRIPTION:Horror convention celebrating horror and sci-fi film\, authors\, and creatives.  \nAttending Authors: \n\nMaria De Vivo (only appearing Saturday 6/29)\nSteve Altier
URL:https://4horsemenpublications.com/event/tampa-bay-screams/
LOCATION:Pinellas Park Performing Arts Center\, 4951 78th Ave. N.\, Pinellas Park\, FL\, 33781\, United States
CATEGORIES:Conventions,4 Horsemen Publications
ATTACH;FMTTYPE=image/png:https://4horsemenpublications.com/wp-content/uploads/2024/04/tampa-bay-screams.png
END:VEVENT
BEGIN:VEVENT
DTSTART;VALUE=DATE:20240626
DTEND;VALUE=DATE:20240627
DTSTAMP:20260425T195209
CREATED:20240430T044110Z
LAST-MODIFIED:20240430T044110Z
UID:8147-1719417600-1719503999@4horsemenpublications.com
SUMMARY:After Party Meet and Greet
DESCRIPTION:Continuing the party with drinks and desserts at MONTANA BROTHERS \n 
URL:https://4horsemenpublications.com/event/after-party-meet-and-greet/
LOCATION:Montana Brothers\, 2162 Merrick Mall\, Merrick\, NY\, United States
CATEGORIES:Author Signing
ATTACH;FMTTYPE=image/jpeg:https://4horsemenpublications.com/wp-content/uploads/2024/04/Blue-and-Yellow-Book-Launch-Flyer-Maria-DeVivo.jpg
END:VEVENT
BEGIN:VEVENT
DTSTART;VALUE=DATE:20240626
DTEND;VALUE=DATE:20240627
DTSTAMP:20260425T195209
CREATED:20240430T043649Z
LAST-MODIFIED:20240430T043649Z
UID:8141-1719417600-1719503999@4horsemenpublications.com
SUMMARY:Barnes and Noble Book Signing
DESCRIPTION:Meet and Greet/Book Signing
URL:https://4horsemenpublications.com/event/barnes-and-noble-book-signing/
LOCATION:Barnes & Noble Manhasset\, 1542 Northern Blvd\, Manhasset\, NY\, 11030\, United States
CATEGORIES:Author Signing,4 Horsemen Publications
ATTACH;FMTTYPE=image/jpeg:https://4horsemenpublications.com/wp-content/uploads/2024/04/Appearances-here-24-Maria-DeVivo.jpg
END:VEVENT
BEGIN:VEVENT
DTSTART;VALUE=DATE:20240623
DTEND;VALUE=DATE:20240624
DTSTAMP:20260425T195209
CREATED:20230920T065446Z
LAST-MODIFIED:20240202T011045Z
UID:6145-1719158400-1719244799@4horsemenpublications.com
SUMMARY:Authors at the Armouries (UK)
DESCRIPTION:Experience A Book Fair Like No Other… \nONE DAY ONLY. Come and meet over 100 authors (including bestsellers) in the heart of vibrant Leeds and enjoy an unforgettable day of books and ballgowns. \nUNMISSABLE. Indulge your love of reading at one of Yorkshire’s biggest book fairs. This really is a must-attend event for book lovers of all genres. \nAMAZING LOCATION. Leeds Dock benefits from restaurants\, bars and hotels\, plus retail and leisure facilities. \nInspiring Talks (included with your ticket) \n\nEnjoy a fascinating talk with bestselling children’s author J A Browne. Plus\, entertaining late-afternoon panels with other popular writers. Perfect for aspiring authors.\n\nStunning Regency Ball & Dinner \n\nTransport yourself back in time. Be welcomed down the red carpet by the renowned Endymion String Quartet\, enjoy a complimentary drink and a delicious three-course meal\, then disco through to 1am. Best-dressed will win a bottle of Champagne and cash prize donated to a charity of your choice.\nRegency Dress optional. Our raffle at the evening ball will be raising money for MACMILLAN.\n\nTicket prices to be announced. \nLearn More: \nFacebook page http://facebook.com/smlbookevents\nFacebook group http://facebook.com/groups/smlevents\nInstagram http://instagram.com/authorsatthearmouries\nEmail smlpublishinguk@gmail.com\nWebsite http://smlevents.uk/aata (visit for full line-up)
URL:https://4horsemenpublications.com/event/authors-at-the-armouries-uk/
LOCATION:Royal Armouries Museum\, Leeds\, United Kingdom
CATEGORIES:Author Signing,4 Horsemen Publications
ATTACH;FMTTYPE=image/jpeg:https://4horsemenpublications.com/wp-content/uploads/2023/09/355143488_6036844189777297_4239082857449181623_n-T.S.-Simons.jpg
END:VEVENT
BEGIN:VEVENT
DTSTART;TZID=America/New_York:20240622T090000
DTEND;TZID=America/New_York:20240622T130000
DTSTAMP:20260425T195209
CREATED:20240610T051828Z
LAST-MODIFIED:20240610T051828Z
UID:8621-1719046800-1719061200@4horsemenpublications.com
SUMMARY:Local Author Showcase
DESCRIPTION:Join us at The Gilded Page Bookstore for an exclusive evening celebrating local literature and the talents behind it. \nAttending author: \n\nChelsea Burton Dunn
URL:https://4horsemenpublications.com/event/local-author-showcase/
LOCATION:The Gilded Page Kansas City\, 1280 Liberty St\, Kansas City\, MO\, 64102\, United States
CATEGORIES:Author Signing,4 Horsemen Publications
ATTACH;FMTTYPE=image/jpeg:https://4horsemenpublications.com/wp-content/uploads/2024/06/IMG_0516-1.jpg
END:VEVENT
BEGIN:VEVENT
DTSTART;TZID=America/New_York:20240622T030000
DTEND;TZID=America/New_York:20240622T090000
DTSTAMP:20260425T195209
CREATED:20240417T102647Z
LAST-MODIFIED:20240417T102647Z
UID:7910-1719025200-1719046800@4horsemenpublications.com
SUMMARY:Fan Girls Expo
DESCRIPTION:Get ready to dive into a world where fandom knows no bounds! It’s time to unleash your inner warrior\, channel your favorite characters\, and celebrate the awe-inspiring women who dominate our beloved universes. Welcome to the most epic gathering of all things fabulous and fierce: Fan Girls Expo! \n  \nAttending Author: \n\nMaria De Vivo\n\n 
URL:https://4horsemenpublications.com/event/fan-girls-expo/
LOCATION:Oviedo Mall\, 1700 Oviedo Mall Blvd.\, Oviedo\, FL\, 32765\, United States
CATEGORIES:Festival,4 Horsemen Publications
ATTACH;FMTTYPE=image/jpeg:https://4horsemenpublications.com/wp-content/uploads/2024/04/Appearances-here-22-Maria-DeVivo.jpg
END:VEVENT
BEGIN:VEVENT
DTSTART;TZID=America/New_York:20240622T030000
DTEND;TZID=America/New_York:20240622T050000
DTSTAMP:20260425T195209
CREATED:20240603T034713Z
LAST-MODIFIED:20240603T034713Z
UID:8524-1719025200-1719032400@4horsemenpublications.com
SUMMARY:Local Author Crawl
DESCRIPTION:4 Horsemen author\, Mimi Francis\, will be joining other local Arizona authors at Barnes & Noble where they will be signing books from 11:00 AM to 1:00 PM
URL:https://4horsemenpublications.com/event/local-author-crawl/
LOCATION:Barnes & Noble Chandler\, 3111 W. Chandler Blvd #2054\, Chandler\, AZ\, 85226\, United States
CATEGORIES:Author Signing,4 Horsemen Publications
ATTACH;FMTTYPE=image/png:https://4horsemenpublications.com/wp-content/uploads/2024/06/Untitled-design-Mimi-Francis.png
END:VEVENT
BEGIN:VEVENT
DTSTART;TZID=America/New_York:20240608T050000
DTEND;TZID=America/New_York:20240608T080000
DTSTAMP:20260425T195209
CREATED:20240525T013029Z
LAST-MODIFIED:20240525T013029Z
UID:8412-1717822800-1717833600@4horsemenpublications.com
SUMMARY:Barnes & Noble Book Signing
DESCRIPTION:Author CK Westbrook will be signing her books at Barnes & Noble!
URL:https://4horsemenpublications.com/event/barnes-noble-book-signing/
LOCATION:Barnes & Noble One Louden VA\, 20427 Exchange St\, Ashburn\, VA\, 20147\, United States
CATEGORIES:Author Signing,4 Horsemen Publications
ATTACH;FMTTYPE=image/jpeg:https://4horsemenpublications.com/wp-content/uploads/2024/05/I-will-be-signing-books-at-Barnes-Noble-on-Saturday-June-8-100-pm-4-00-pm-VAAshburnOne-Loudoun-VA-ADDRESS-20427-Exchange-St-Ashburn-VA-20147-CK-Westbrook.jpg
END:VEVENT
BEGIN:VEVENT
DTSTART;VALUE=DATE:20240607
DTEND;VALUE=DATE:20240608
DTSTAMP:20260425T195209
CREATED:20240402T045520Z
LAST-MODIFIED:20240417T101056Z
UID:7526-1717776000-1717862399@4horsemenpublications.com
SUMMARY:SRQ Con 2024
DESCRIPTION:Selby Library’s annual pop culture convention\, SRQCon\, returns again on Saturday\, June 8th! This all-ages event will feature panels\, demonstrations\, cosplay\, trivia\, gaming\, scavenger hunts\, crafts\, and much more. Show off your best cosplay and join our cosplay contest! \nAttending Author: \n\nSteve Altier\nMaria De Vivo
URL:https://4horsemenpublications.com/event/srq-con-2024/
LOCATION:Selby Public Library\, 1331 First St.\, Sarasota\, FL\, 34236\, United States
CATEGORIES:Conventions,4 Horsemen Publications
ATTACH;FMTTYPE=image/png:https://4horsemenpublications.com/wp-content/uploads/2024/04/SRQCon24-Logo-2.png
END:VEVENT
BEGIN:VEVENT
DTSTART;TZID=America/New_York:20240601T020000
DTEND;TZID=America/New_York:20240601T090000
DTSTAMP:20260425T195209
CREATED:20240322T004957Z
LAST-MODIFIED:20240322T004957Z
UID:7400-1717207200-1717232400@4horsemenpublications.com
SUMMARY:AugustaCon
DESCRIPTION:AugustaCon is a collectors’ mecca convention located in the beautiful City of Augusta\, Georgia. Striving to be Georgia’s best and truest comic convention featuring fandoms of multiple genres. As a long-time collector of comics and pop culture items the promoter brings Georgia an event that will satisfy any fandom! \nAttending Author: \n\nRobert J. Lewis\n\nPurchase Tickets HERE: https://form.jotform.com/221033274503140
URL:https://4horsemenpublications.com/event/augustacon/
LOCATION:HILTON DOUBLETREE HOTEL\, Augusta\, GA\, United States
CATEGORIES:Conventions,4 Horsemen Publications
ATTACH;FMTTYPE=image/jpeg:https://4horsemenpublications.com/wp-content/uploads/2024/03/image0.jpeg
END:VEVENT
BEGIN:VEVENT
DTSTART;TZID=America/New_York:20240527T133000
DTEND;TZID=America/New_York:20240527T133000
DTSTAMP:20260425T195209
CREATED:20240322T010225Z
LAST-MODIFIED:20240322T010225Z
UID:7409-1716816600-1716816600@4horsemenpublications.com
SUMMARY:Romantasy Reads
DESCRIPTION:Join Robert J. Lewis at 9:30 PM EST on TikTok Live!
URL:https://4horsemenpublications.com/event/romantasy-reads/
CATEGORIES:4 Horsemen Publications
ATTACH;FMTTYPE=image/jpeg:https://4horsemenpublications.com/wp-content/uploads/2024/03/image1.jpeg
END:VEVENT
BEGIN:VEVENT
DTSTART;VALUE=DATE:20240524
DTEND;VALUE=DATE:20240525
DTSTAMP:20260425T195209
CREATED:20240322T005836Z
LAST-MODIFIED:20240322T005836Z
UID:7404-1716566400-1716652799@4horsemenpublications.com
SUMMARY:Grabby Americas Award Show
DESCRIPTION:The Biggest Night on the Gay porn Calendar! Robert J. Lewis will be the first ever red carpet host with the top names in the gay adult film industry.
URL:https://4horsemenpublications.com/event/grabby-americas-award-show/
LOCATION:Metro Theatre\, 3730 N Clark St\, Chicago\, IL\, 60613\, United States
CATEGORIES:4 Horsemen Publications
ATTACH;FMTTYPE=image/jpeg:https://4horsemenpublications.com/wp-content/uploads/2024/03/image2.jpeg
END:VEVENT
BEGIN:VEVENT
DTSTART;VALUE=DATE:20240523
DTEND;VALUE=DATE:20240526
DTSTAMP:20260425T195209
CREATED:20240228T025329Z
LAST-MODIFIED:20240228T025329Z
UID:6808-1716480000-1716739199@4horsemenpublications.com
SUMMARY:GalaxyCon Oklahoma City
DESCRIPTION:A 3-Day FESTIVAL OF FANDOM with celebrities\, artists\, writers\, voice actors\, cosplayers\, entertainers\, creators\, wrestlers\, fan groups\, and panelists. \nJoin fans from across the galaxy and celebrate Comic Books\, Pop Culture\, Sci-Fi\, Fantasy\, Anime\, Gaming\, Cosplay\, and more! \nAttending Author: \n\nMegan Mackie
URL:https://4horsemenpublications.com/event/galaxycon-oklahoma-city/
LOCATION:Oklahoma City Convention Center\, 100 Mick Cornett Drive\, Oklahoma City\, OK\, 73109\, United States
CATEGORIES:Conventions,4 Horsemen Publications
ATTACH;FMTTYPE=image/png:https://4horsemenpublications.com/wp-content/uploads/2024/01/Home_Page_Head.webp-2-Megan-Mackie.png
END:VEVENT
BEGIN:VEVENT
DTSTART;TZID=America/New_York:20240518T050000
DTEND;TZID=America/New_York:20240518T080000
DTSTAMP:20260425T195209
CREATED:20240430T042639Z
LAST-MODIFIED:20240430T042639Z
UID:8136-1716008400-1716019200@4horsemenpublications.com
SUMMARY:The Gilded Page Bookstore
DESCRIPTION:Local Author Showcase \nJoin us as we welcome four local authors to the store for an informal Meet & Greet signing! No RSVP required; books will be available for purchase through the bookstore. \nAttending Author: \n\nSteve Altier
URL:https://4horsemenpublications.com/event/the-gilded-page-bookstore/
LOCATION:The Gilded Page Bookstore\, 123 E Court Street\, Tarpon Springs\, FL\, 34689\, United States
CATEGORIES:4 Horsemen Publications
ATTACH;FMTTYPE=image/jpeg:https://4horsemenpublications.com/wp-content/uploads/2024/04/The-gilded-page-Author-Steve-Altier.jpg
END:VEVENT
BEGIN:VEVENT
DTSTART;VALUE=DATE:20240517
DTEND;VALUE=DATE:20240518
DTSTAMP:20260425T195209
CREATED:20240402T043007Z
LAST-MODIFIED:20240402T043007Z
UID:7521-1715961600-1716047999@4horsemenpublications.com
SUMMARY:Lowcountry Author Showcase Book Fair
DESCRIPTION:Book fair to show case local authors and introduce readers to their next great read. \nAttending Authors: \n\nRobert Lewis
URL:https://4horsemenpublications.com/event/lowcountry-author-showcase-book-fair/
LOCATION:Striped Pig Distillery\, 2201 Old School Dr\, North Charleston\, SC\, 29405\, United States
CATEGORIES:Author Signing,4 Horsemen Publications
ATTACH;FMTTYPE=image/jpeg:https://4horsemenpublications.com/wp-content/uploads/2024/04/Chas-Robert-Lewis.jpg
END:VEVENT
BEGIN:VEVENT
DTSTART;TZID=America/New_York:20240511T000000
DTEND;TZID=America/New_York:20240512T090000
DTSTAMP:20260425T195209
CREATED:20240304T050932Z
LAST-MODIFIED:20240417T084758Z
UID:6857-1715385600-1715504400@4horsemenpublications.com
SUMMARY:Sunshine City Scare
DESCRIPTION:Sunshine City Scare beckons horror enthusiasts to a transcendent experience! \nAttending Authors: \n\nSarah Seado\nMaria DeVivo\nSteve Altier\n\nSarah and Maria will be on the panel Creating Badass Female Protagonists! \nPurchase tickets HERE!
URL:https://4horsemenpublications.com/event/sunshine-city-scare/
LOCATION:Coliseum\, 535 4th Ave N\, St. Petersburg\, FL\, 33701\, United States
CATEGORIES:Festival,Author Signing,4 Horsemen Publications
ATTACH;FMTTYPE=image/png:https://4horsemenpublications.com/wp-content/uploads/2024/03/Screen-Shot-2024-01-27-at-12.53.11-PM-Sarah-Seado.png
END:VEVENT
BEGIN:VEVENT
DTSTART;VALUE=DATE:20240510
DTEND;VALUE=DATE:20240512
DTSTAMP:20260425T195209
CREATED:20240308T125222Z
LAST-MODIFIED:20240308T125222Z
UID:7080-1715356800-1715529599@4horsemenpublications.com
SUMMARY:Savannah Comic-Con
DESCRIPTION:Join us for our 10th year anniversary as we continue to build the only locally owned comic convention Savannah Comic Convention into the premiere Pop Culture event of Southeast Georgia! \nAttending Author: \n\nSteve Altier\n\nPurchase tickets HERE!
URL:https://4horsemenpublications.com/event/savannah-comic-con/
LOCATION:Savannah Convention Center\, 1 International Dr.\, Savannah\, GA\, 31421\, United States
CATEGORIES:Conventions,4 Horsemen Publications
ATTACH;FMTTYPE=image/png:https://4horsemenpublications.com/wp-content/uploads/2024/03/BookBrushImage-2024-3-6-21-542-Author-Steve-Altier.png
END:VEVENT
BEGIN:VEVENT
DTSTART;VALUE=DATE:20240506
DTEND;VALUE=DATE:20240507
DTSTAMP:20260425T195209
CREATED:20240304T051813Z
LAST-MODIFIED:20240304T051813Z
UID:6866-1715011200-1715097599@4horsemenpublications.com
SUMMARY:AWOBA - A World of Bookish Adventures Podcast
DESCRIPTION:Interview with Author Steve Altier as we talk about his writing process.
URL:https://4horsemenpublications.com/event/awoba-a-world-of-bookish-adventures-podcast/
CATEGORIES:4 Horsemen Publications
ATTACH;FMTTYPE=image/png:https://4horsemenpublications.com/wp-content/uploads/2024/03/BookBrushImage-2024-3-3-18-5611-Author-Steve-Altier.png
END:VEVENT
BEGIN:VEVENT
DTSTART;TZID=America/New_York:20240427T110000
DTEND;TZID=America/New_York:20240427T153000
DTSTAMP:20260425T195209
CREATED:20240304T054126Z
LAST-MODIFIED:20240304T054126Z
UID:6877-1714215600-1714231800@4horsemenpublications.com
SUMMARY:Death Becomes Them 2
DESCRIPTION:A fully immersive horror cabaret! \nAttending author: \n\nMaria DeVivo
URL:https://4horsemenpublications.com/event/death-becomes-them-2/
LOCATION:Tampa’s Brass Mug\, 1450 Skipper Road\, Tampa\, FL\, United States
CATEGORIES:4 Horsemen Publications
ATTACH;FMTTYPE=image/jpeg:https://4horsemenpublications.com/wp-content/uploads/2024/03/Screenshot_20240304_092601_Canva-Maria-DeVivo.jpg
END:VEVENT
END:VCALENDAR