BEGIN:VCALENDAR
VERSION:2.0
PRODID:-//4 Horsemen Publications - ECPv6.15.20//NONSGML v1.0//EN
CALSCALE:GREGORIAN
METHOD:PUBLISH
X-ORIGINAL-URL:https://4horsemenpublications.com
X-WR-CALDESC:Events for 4 Horsemen Publications
REFRESH-INTERVAL;VALUE=DURATION:PT1H
X-Robots-Tag:noindex
X-PUBLISHED-TTL:PT1H
BEGIN:VTIMEZONE
TZID:America/New_York
BEGIN:DAYLIGHT
TZOFFSETFROM:-0500
TZOFFSETTO:-0400
TZNAME:EDT
DTSTART:20240310T070000
END:DAYLIGHT
BEGIN:STANDARD
TZOFFSETFROM:-0400
TZOFFSETTO:-0500
TZNAME:EST
DTSTART:20241103T060000
END:STANDARD
BEGIN:DAYLIGHT
TZOFFSETFROM:-0500
TZOFFSETTO:-0400
TZNAME:EDT
DTSTART:20250309T070000
END:DAYLIGHT
BEGIN:STANDARD
TZOFFSETFROM:-0400
TZOFFSETTO:-0500
TZNAME:EST
DTSTART:20251102T060000
END:STANDARD
BEGIN:DAYLIGHT
TZOFFSETFROM:-0500
TZOFFSETTO:-0400
TZNAME:EDT
DTSTART:20260308T070000
END:DAYLIGHT
BEGIN:STANDARD
TZOFFSETFROM:-0400
TZOFFSETTO:-0500
TZNAME:EST
DTSTART:20261101T060000
END:STANDARD
END:VTIMEZONE
BEGIN:VEVENT
DTSTART;TZID=America/New_York:20251108T030000
DTEND;TZID=America/New_York:20251108T060000
DTSTAMP:20260425T183710
CREATED:20251007T074019Z
LAST-MODIFIED:20251007T074019Z
UID:11632-1762570800-1762581600@4horsemenpublications.com
SUMMARY:Local Author Fair
DESCRIPTION:Join us for a fun filled day at the Local Author Fair\, where we shine a spotlight on the literary talent in our own backyard! This special event brings together a diverse group of local authors—ranging from debut writers to seasoned storytellers—who will share their work\, connect with readers\, and celebrate the power of storytelling. \nMeet & Greet over 80 local authors across genres including fiction\, nonfiction\, poetry\, memoir\, and children’s literature with opportunities to purchase signed copies directly from the authors. \nWhether you’re a passionate reader\, an aspiring writer\, or simply curious about the literary scene in your community\, the Local Author Fair offers something for everyone! \nEvent is from 11 am to 2 pm
URL:https://4horsemenpublications.com/event/local-author-fair/
LOCATION:Burton Barr Central Library\, 1221 N. Central Ave.\, Phoenix\, AZ\, 85004\, United States
CATEGORIES:Author Signing,Imprint,4 Horsemen Publications
ATTACH;FMTTYPE=image/jpeg:https://4horsemenpublications.com/wp-content/uploads/2025/10/Library-Book-Fair-Nov-8-Mimi-Francis.jpg
END:VEVENT
END:VCALENDAR