BEGIN:VCALENDAR
VERSION:2.0
PRODID:-//4 Horsemen Publications - ECPv6.15.20//NONSGML v1.0//EN
CALSCALE:GREGORIAN
METHOD:PUBLISH
X-ORIGINAL-URL:https://4horsemenpublications.com
X-WR-CALDESC:Events for 4 Horsemen Publications
REFRESH-INTERVAL;VALUE=DURATION:PT1H
X-Robots-Tag:noindex
X-PUBLISHED-TTL:PT1H
BEGIN:VTIMEZONE
TZID:America/New_York
BEGIN:DAYLIGHT
TZOFFSETFROM:-0500
TZOFFSETTO:-0400
TZNAME:EDT
DTSTART:20250309T070000
END:DAYLIGHT
BEGIN:STANDARD
TZOFFSETFROM:-0400
TZOFFSETTO:-0500
TZNAME:EST
DTSTART:20251102T060000
END:STANDARD
BEGIN:DAYLIGHT
TZOFFSETFROM:-0500
TZOFFSETTO:-0400
TZNAME:EDT
DTSTART:20260308T070000
END:DAYLIGHT
BEGIN:STANDARD
TZOFFSETFROM:-0400
TZOFFSETTO:-0500
TZNAME:EST
DTSTART:20261101T060000
END:STANDARD
BEGIN:DAYLIGHT
TZOFFSETFROM:-0500
TZOFFSETTO:-0400
TZNAME:EDT
DTSTART:20270314T070000
END:DAYLIGHT
BEGIN:STANDARD
TZOFFSETFROM:-0400
TZOFFSETTO:-0500
TZNAME:EST
DTSTART:20271107T060000
END:STANDARD
END:VTIMEZONE
BEGIN:VEVENT
DTSTART;VALUE=DATE:20260410
DTEND;VALUE=DATE:20260411
DTSTAMP:20260424T011720
CREATED:20260325T050316Z
LAST-MODIFIED:20260325T050316Z
UID:13259-1775836800-1775923199@4horsemenpublications.com
SUMMARY:Storyteller Summit
DESCRIPTION:Jackie Sonnenberg will be at the Oviedo Mall for another one of their book themed events!\nEvery story starts somewhere… and yours begins at Storyteller Summit! \nWhether you’re an aspiring novelist\, seasoned author\, or just fascinated by the magic of storytelling\, this event is your creative recharge. \nSpend the day learning from industry pros\, connecting with fellow writers\, and diving into all things story. Explore panels\, workshops\, and local author showcases that cover every chapter of the writing journey — from brainstorming your next bestseller to publishing it proudly. \nBecause stories aren’t just written… they’re shared. \nAdmission is free | Workshops\, vendors\, author meet & greets\, and more! \nLet’s write the next great story — together. \nAttending Authors: \n\nJackie Sonnenberg
URL:https://4horsemenpublications.com/event/storyteller-summit/
LOCATION:Oviedo Mall\, 1700 Oviedo Mall Blvd.\, Oviedo\, FL\, 32765\, United States
CATEGORIES:Festival,4 Horsemen Publications
ATTACH;FMTTYPE=image/png:https://4horsemenpublications.com/wp-content/uploads/2026/03/SS-Insta-Jackie-Sonnenberg.png
END:VEVENT
BEGIN:VEVENT
DTSTART;VALUE=DATE:20260410
DTEND;VALUE=DATE:20260411
DTSTAMP:20260424T011720
CREATED:20260325T050321Z
LAST-MODIFIED:20260325T050321Z
UID:13257-1775836800-1775923199@4horsemenpublications.com
SUMMARY:Ladysmith Spring Bookfest
DESCRIPTION:Much more than a book fair! An opportunity for readers to find a new favourite author\, and for writers to find new fans. Open to indie authors\, small press and publishing houses\, and independent book sellers. Free for readers to attend. Table 2 from 10am-3pm \nAttending Author: \n\nD. Lambert
URL:https://4horsemenpublications.com/event/ladysmith-spring-bookfest/
LOCATION:Eagles Hall\, 921 1st Ave.\, Ladysmith\, BC\, V9G 1A5\, Canada
CATEGORIES:Festival,4 Horsemen Publications
ATTACH;FMTTYPE=image/jpeg:https://4horsemenpublications.com/wp-content/uploads/2026/03/Inspire-Flyer-Nick-Smith.jpg
END:VEVENT
END:VCALENDAR