BEGIN:VCALENDAR
VERSION:2.0
PRODID:-//4 Horsemen Publications - ECPv6.15.20//NONSGML v1.0//EN
CALSCALE:GREGORIAN
METHOD:PUBLISH
X-WR-CALNAME:4 Horsemen Publications
X-ORIGINAL-URL:https://4horsemenpublications.com
X-WR-CALDESC:Events for 4 Horsemen Publications
REFRESH-INTERVAL;VALUE=DURATION:PT1H
X-Robots-Tag:noindex
X-PUBLISHED-TTL:PT1H
BEGIN:VTIMEZONE
TZID:America/New_York
BEGIN:DAYLIGHT
TZOFFSETFROM:-0500
TZOFFSETTO:-0400
TZNAME:EDT
DTSTART:20250309T070000
END:DAYLIGHT
BEGIN:STANDARD
TZOFFSETFROM:-0400
TZOFFSETTO:-0500
TZNAME:EST
DTSTART:20251102T060000
END:STANDARD
BEGIN:DAYLIGHT
TZOFFSETFROM:-0500
TZOFFSETTO:-0400
TZNAME:EDT
DTSTART:20260308T070000
END:DAYLIGHT
BEGIN:STANDARD
TZOFFSETFROM:-0400
TZOFFSETTO:-0500
TZNAME:EST
DTSTART:20261101T060000
END:STANDARD
BEGIN:DAYLIGHT
TZOFFSETFROM:-0500
TZOFFSETTO:-0400
TZNAME:EDT
DTSTART:20270314T070000
END:DAYLIGHT
BEGIN:STANDARD
TZOFFSETFROM:-0400
TZOFFSETTO:-0500
TZNAME:EST
DTSTART:20271107T060000
END:STANDARD
END:VTIMEZONE
BEGIN:VEVENT
DTSTART;VALUE=DATE:20260422
DTEND;VALUE=DATE:20260423
DTSTAMP:20260423T073642
CREATED:20260331T065950Z
LAST-MODIFIED:20260407T045511Z
UID:13325-1776873600-1776959999@4horsemenpublications.com
SUMMARY:Oxford Exchange Book Fair
DESCRIPTION:The 12th Annual Oxford Exchange (OE) Book Fair is scheduled for April 23\, 2026\, from 6:00 PM to 9:00 PM in Tampa\, FL. This event features over 70 local authors across various genres\, along with workshops and curated shopping\, providing a premier platform for local literary talent in the Tampa Bay community. \nAttending Authors: \n\nSteve Altier\nMaria DeVivo
URL:https://4horsemenpublications.com/event/oxford-exchange-book-fair/
LOCATION:Oxford Exchange\, 420 West Kennedy Blvd.\, Tampa\, FL\, 33606\, United States
CATEGORIES:Conventions,4 Horsemen Publications
ATTACH;FMTTYPE=image/png:https://4horsemenpublications.com/wp-content/uploads/2026/03/April-23-Author-Steve-Altier.png
END:VEVENT
BEGIN:VEVENT
DTSTART;VALUE=DATE:20260424
DTEND;VALUE=DATE:20260425
DTSTAMP:20260423T073642
CREATED:20260325T044815Z
LAST-MODIFIED:20260325T044815Z
UID:13240-1777046400-1777132799@4horsemenpublications.com
SUMMARY:Tarpon Springs Book Festival
DESCRIPTION:The festival will showcase local authors and talented artists\, giving you the chance to meet the minds behind the words and explore creative works inspired by the world of literature. \nAttending Author: \n\nSteve Altier
URL:https://4horsemenpublications.com/event/tarpon-springs-book-festival-2/
LOCATION:Tarpon Springs\, Tarpon Springs\, FL\, United States
CATEGORIES:Festival,4 Horsemen Publications
ATTACH;FMTTYPE=image/png:https://4horsemenpublications.com/wp-content/uploads/2026/03/April-25-1-Author-Steve-Altier.png
END:VEVENT
BEGIN:VEVENT
DTSTART;VALUE=DATE:20260424
DTEND;VALUE=DATE:20260425
DTSTAMP:20260423T073642
CREATED:20260325T050319Z
LAST-MODIFIED:20260325T050319Z
UID:13258-1777046400-1777132799@4horsemenpublications.com
SUMMARY:Write + Inspiration 2026
DESCRIPTION:Join us for a one of a kind writers’ conference and book fair Write + Inspiration 2026. \nWe will begin our day with a series of inspiring conversations and ‘how to’ sessions custom made for your success in literature. You will learn to write query letters\, sales pitches\, set up a book tour\, find an agent\, get your book into stores\, secure online sales\, create sales events\, and learn the secrets to finding a publisher who loves your book! \nThen\, we will present a massive book fair where you can meet dozens of authors and purchase signed books from all genres! \nFor book vendors we will have a large sales area for dozens of authors. If you are looking to get the word out about their novels or poems there will be hundreds of readers hungry for books passing through the mall. \nSee you at Write + Inspiration 2026 \nAttending Author: \n\nNick Smith
URL:https://4horsemenpublications.com/event/write-inspiration-2026/
LOCATION:McKinley Mall\, 3701 McKinley Pkwy.\, Blasdell\, NY\, 14219\, United States
CATEGORIES:Conventions,4 Horsemen Publications
ATTACH;FMTTYPE=image/jpeg:https://4horsemenpublications.com/wp-content/uploads/2026/03/623372812_1811524446447195_7326856663833887269_n-Dee-Lambert.jpg
END:VEVENT
BEGIN:VEVENT
DTSTART;VALUE=DATE:20260507
DTEND;VALUE=DATE:20260510
DTSTAMP:20260423T073642
CREATED:20260325T044824Z
LAST-MODIFIED:20260325T044824Z
UID:13243-1778169600-1778428799@4horsemenpublications.com
SUMMARY:Indy PopCon 2026
DESCRIPTION:PopCon Indy is excited to announce the detailed show schedule will be available for attendees\, ensuring you take advantage of every moment of the action! The schedule will include specific times for celebrity panels\, cosplay contests\, gaming tournaments\, workshops\, and other exciting events. This comprehensive guide will help you plan your weekend and maximize your PopCon experience. Stay tuned to the official PopCon Indy website for updates and to download your copy of the event schedule as the dates approach. \nAttending Author: \n\nValerie Willis
URL:https://4horsemenpublications.com/event/indy-popcon-2026/
LOCATION:Indiana Convention Center\, 100 S Capitol Ave.\, Indianapolis\, IN\, 46225
CATEGORIES:Conventions,4 Horsemen Publications
ATTACH;FMTTYPE=image/avif:https://4horsemenpublications.com/wp-content/uploads/2026/03/afd77f_9f812c5d72224d2289648b29b653f87emv2-Author-Valerie-Willis.avif
END:VEVENT
BEGIN:VEVENT
DTSTART;TZID=America/New_York:20260516T040000
DTEND;TZID=America/New_York:20260516T090000
DTSTAMP:20260423T073642
CREATED:20260407T050626Z
LAST-MODIFIED:20260407T050626Z
UID:13376-1778904000-1778922000@4horsemenpublications.com
SUMMARY:Front Paige Media Book Fair
DESCRIPTION:Book Fair from 12 PM To 5 PM with local authors \nFront Paige Media brings books\, small businesses\, and good vibes together through outdoor vendor markets with a nostalgic book fair twist. Imagine the excitement of your childhood book fair\, but with local authors\, handmade goods\, and a vibrant\, community-driven atmosphere. Our events are all about discovering new stories\, supporting independent creators\, and celebrating a love for books and creativity.
URL:https://4horsemenpublications.com/event/front-paige-media-book-fair/
LOCATION:New Realm Brewing Co.\, 880 Island Park Drive\, Charleston\, SC\, 29492\, United States
CATEGORIES:Festival,4 Horsemen Publications
ATTACH;FMTTYPE=image/jpeg:https://4horsemenpublications.com/wp-content/uploads/2026/04/IMG_8738-Robert-Lewis.jpg
END:VEVENT
BEGIN:VEVENT
DTSTART;VALUE=DATE:20260523
DTEND;VALUE=DATE:20260524
DTSTAMP:20260423T073642
CREATED:20260325T044821Z
LAST-MODIFIED:20260325T044821Z
UID:13242-1779552000-1779638399@4horsemenpublications.com
SUMMARY:4 Horsemen Book Signing at Barnes & Noble UTC
DESCRIPTION:4 Horsemen Authors will be Signing at Barnes and Noble University Town Center Sarasota. Meet Steve Altier\, Maria DeVivo\, Morgan DeVivo\, Jackie Sonnenberg\, and Nick Savage\n \nAttending Author: \n\nSteve Altier\nMaria DeVivo\nMorgan DeVivo\nJackie Sonnenberg\nNick Savage
URL:https://4horsemenpublications.com/event/4-horsemen-book-signing-at-barnes-noble-utc/
LOCATION:Barnes & Noble Sarasota at University Town Center\, FL\, 200 N Cattlemen Rd.\, Sarasota\, FL\, 34243\, United States
CATEGORIES:Author Signing,4 Horsemen Publications
END:VEVENT
BEGIN:VEVENT
DTSTART;VALUE=DATE:20260605
DTEND;VALUE=DATE:20260606
DTSTAMP:20260423T073642
CREATED:20260325T044818Z
LAST-MODIFIED:20260325T044818Z
UID:13241-1780675200-1780761599@4horsemenpublications.com
SUMMARY:Sarasota Library SRQ Con
DESCRIPTION:Authors and panels along with other bookish vendors. \nAttending Author: \n\nSteve Altier
URL:https://4horsemenpublications.com/event/sarasota-library-srq-con/
LOCATION:Selby Public Library\, 1331 First St.\, Sarasota\, FL\, 34236\, United States
CATEGORIES:Conventions,4 Horsemen Publications
ATTACH;FMTTYPE=image/png:https://4horsemenpublications.com/wp-content/uploads/2026/03/SRQ-Con-Author-Steve-Altier.png
END:VEVENT
BEGIN:VEVENT
DTSTART;VALUE=DATE:20260605
DTEND;VALUE=DATE:20260606
DTSTAMP:20260423T073642
CREATED:20260325T044826Z
LAST-MODIFIED:20260325T044826Z
UID:13244-1780675200-1780761599@4horsemenpublications.com
SUMMARY:Summer Lovin': A Romantic Book Fair
DESCRIPTION:Grab your sunnies and your paperbacks — it’s getting steamy at Oviedo Mall! \nThe Summer Lovin’ Book Festival is your ticket to the hottest reads of the season. Celebrate the romance genre in all its forms — from sweet beachside love stories to heart-racing passion and everything in between. \nMeet romance authors\, snag new signed reads\, shop local bookish vendors\, and soak up the love with themed photo ops\, giveaways\, and more. Whether you’re Team HEA or a sucker for a good tearjerker\, this is the summer event for book lovers! \n💋 Come for the books. Stay for the chemistry. \nAttending Author: \n\nValerie Willis
URL:https://4horsemenpublications.com/event/summer-lovin-a-romantic-book-fair/
LOCATION:Oviedo Mall\, 1700 Oviedo Mall Blvd.\, Oviedo\, FL\, 32765\, United States
CATEGORIES:Festival,4 Horsemen Publications
END:VEVENT
BEGIN:VEVENT
DTSTART;VALUE=DATE:20260612
DTEND;VALUE=DATE:20260613
DTSTAMP:20260423T073642
CREATED:20260331T065953Z
LAST-MODIFIED:20260331T065953Z
UID:13326-1781280000-1781366399@4horsemenpublications.com
SUMMARY:Dragon's Den Bookstore Signing
DESCRIPTION:All Genre
URL:https://4horsemenpublications.com/event/dragons-den-bookstore-signing/
LOCATION:Dragon’s Den Books\, 101 W. Oak St\, Arcadia\, FL\, 34266\, United States
CATEGORIES:Author Signing,4 Horsemen Publications
ATTACH;FMTTYPE=image/jpeg:https://4horsemenpublications.com/wp-content/uploads/2026/03/Capture-Author-Steve-Altier.jpg
END:VEVENT
BEGIN:VEVENT
DTSTART;VALUE=DATE:20260807
DTEND;VALUE=DATE:20260808
DTSTAMP:20260423T073642
CREATED:20260325T050324Z
LAST-MODIFIED:20260325T050324Z
UID:13256-1786118400-1786204799@4horsemenpublications.com
SUMMARY:Flirty in Tampa 2026
DESCRIPTION:Flirty in Tampa (formerly T.I.A.B.C.) is a one-day romance book convention featuring over 70 multi-genre authors. It offers fans opportunities to meet authors\, get books signed\, and purchase swag. The event focuses on romance\, fantasy\, and thriller genres. \nAttending Author: \n\nValerie Willis
URL:https://4horsemenpublications.com/event/flirty-in-tampa-2026/
LOCATION:Westshore Hotel\, 5308 Avion Park Dr\, \, FL \, USA\, Tampa\, FL\, 33607\, United States
CATEGORIES:Conventions,4 Horsemen Publications
ATTACH;FMTTYPE=image/jpeg:https://4horsemenpublications.com/wp-content/uploads/2026/03/630646132_25945150911761069_4689277415609233702_n-Author-Valerie-Willis.jpeg
END:VEVENT
END:VCALENDAR