BEGIN:VCALENDAR
VERSION:2.0
PRODID:-//4 Horsemen Publications - ECPv6.15.20//NONSGML v1.0//EN
CALSCALE:GREGORIAN
METHOD:PUBLISH
X-WR-CALNAME:4 Horsemen Publications
X-ORIGINAL-URL:https://4horsemenpublications.com
X-WR-CALDESC:Events for 4 Horsemen Publications
REFRESH-INTERVAL;VALUE=DURATION:PT1H
X-Robots-Tag:noindex
X-PUBLISHED-TTL:PT1H
BEGIN:VTIMEZONE
TZID:America/New_York
BEGIN:DAYLIGHT
TZOFFSETFROM:-0500
TZOFFSETTO:-0400
TZNAME:EDT
DTSTART:20250309T070000
END:DAYLIGHT
BEGIN:STANDARD
TZOFFSETFROM:-0400
TZOFFSETTO:-0500
TZNAME:EST
DTSTART:20251102T060000
END:STANDARD
BEGIN:DAYLIGHT
TZOFFSETFROM:-0500
TZOFFSETTO:-0400
TZNAME:EDT
DTSTART:20260308T070000
END:DAYLIGHT
BEGIN:STANDARD
TZOFFSETFROM:-0400
TZOFFSETTO:-0500
TZNAME:EST
DTSTART:20261101T060000
END:STANDARD
BEGIN:DAYLIGHT
TZOFFSETFROM:-0500
TZOFFSETTO:-0400
TZNAME:EDT
DTSTART:20270314T070000
END:DAYLIGHT
BEGIN:STANDARD
TZOFFSETFROM:-0400
TZOFFSETTO:-0500
TZNAME:EST
DTSTART:20271107T060000
END:STANDARD
END:VTIMEZONE
BEGIN:VEVENT
DTSTART;VALUE=DATE:20260326
DTEND;VALUE=DATE:20260327
DTSTAMP:20260424T062109
CREATED:20260205T092017Z
LAST-MODIFIED:20260319T051146Z
UID:12931-1774540800-1774627199@4horsemenpublications.com
SUMMARY:Planet Comicon
DESCRIPTION:Planet Comicon Kansas City is the largest comic book and pop culture convention not just in the Kansas City area\, but within this entire region of the Midwest. At the core of Planet Comicon Kansas City is our commitment to provide a safe and welcoming venue where fans may enjoy their particular niche of fandom without judgment. Planet has always made it a priority to be inclusive. No matter what fandom you celebrate\, everyone is welcome at our event. \nIt has a 27 year history\, with the first Planet Comicon Kansas City being held in Overland Park\, KS in March 1999. The 2026 show is our 27th Anniversary show and will be held at the Kansas City Convention Center in downtown Kansas City. We will be adding information as the show approaches to help you find out more about what is offered at Planet Comicon Kansas City. \nChelsea will be in attendance\, selling books and merchandise while happily chatting with anyone who loves dark romance!
URL:https://4horsemenpublications.com/event/planet-comicon-2/
LOCATION:Kansas City Convention Center\, 301 West 13th Street\, Kansas City\, MO\, 64105\, United States
CATEGORIES:Conventions,4 Horsemen Publications
ATTACH;FMTTYPE=image/png:https://4horsemenpublications.com/wp-content/uploads/2026/02/1-Chelsea-Burton-Dunn.png
END:VEVENT
END:VCALENDAR