BEGIN:VCALENDAR
VERSION:2.0
PRODID:-//4 Horsemen Publications - ECPv6.15.20//NONSGML v1.0//EN
CALSCALE:GREGORIAN
METHOD:PUBLISH
X-ORIGINAL-URL:https://4horsemenpublications.com
X-WR-CALDESC:Events for 4 Horsemen Publications
REFRESH-INTERVAL;VALUE=DURATION:PT1H
X-Robots-Tag:noindex
X-PUBLISHED-TTL:PT1H
BEGIN:VTIMEZONE
TZID:America/New_York
BEGIN:DAYLIGHT
TZOFFSETFROM:-0500
TZOFFSETTO:-0400
TZNAME:EDT
DTSTART:20250309T070000
END:DAYLIGHT
BEGIN:STANDARD
TZOFFSETFROM:-0400
TZOFFSETTO:-0500
TZNAME:EST
DTSTART:20251102T060000
END:STANDARD
BEGIN:DAYLIGHT
TZOFFSETFROM:-0500
TZOFFSETTO:-0400
TZNAME:EDT
DTSTART:20260308T070000
END:DAYLIGHT
BEGIN:STANDARD
TZOFFSETFROM:-0400
TZOFFSETTO:-0500
TZNAME:EST
DTSTART:20261101T060000
END:STANDARD
BEGIN:DAYLIGHT
TZOFFSETFROM:-0500
TZOFFSETTO:-0400
TZNAME:EDT
DTSTART:20270314T070000
END:DAYLIGHT
BEGIN:STANDARD
TZOFFSETFROM:-0400
TZOFFSETTO:-0500
TZNAME:EST
DTSTART:20271107T060000
END:STANDARD
END:VTIMEZONE
BEGIN:VEVENT
DTSTART;VALUE=DATE:20260410
DTEND;VALUE=DATE:20260411
DTSTAMP:20260423T232821
CREATED:20260205T092224Z
LAST-MODIFIED:20260325T042737Z
UID:12933-1775836800-1775923199@4horsemenpublications.com
SUMMARY:Tampa Oddities & Art Market
DESCRIPTION:The Oddities & Art Market is creeping into our 2nd annual show in Tampa for a one-of-a-kind experience you won’t want to miss. \nStep into a fully indoor\, all-ages marketplace featuring 100+ incredible artist & vendors offering oddities\, crystals & gems\, handcrafted art\, unique gifts\, taxidermy\, fossils\, jewelry\, and so much more from talented local artists and creators. Explore the mystical with psychics and tarot readers\, indulge in delicious bites from food vendors\, and enjoy a truly immersive\, weird-in-the-best-way experience. \n​TICKETS HERE: https://www.accessartfl.org/tampaoddities \n100% of all proceeds go directly to Access Art\, helping fund programs and scholarships that provide underprivileged youth with access to the arts. \nCome shop weird\, support art\, and make a difference. \nAttending Authors: \n\nValerie Willis\nMaria DeVivo
URL:https://4horsemenpublications.com/event/tampa-oddities-art-market/
LOCATION:Florida State Fairgrounds Tampa\, 4800 US-301\, Tampa\, FL\, 33610\, United States
CATEGORIES:Festival,4 Horsemen Publications
ATTACH;FMTTYPE=image/avif:https://4horsemenpublications.com/wp-content/uploads/2026/02/TampaOddities-Author-Valerie-Willis.avif
END:VEVENT
END:VCALENDAR