BEGIN:VCALENDAR
VERSION:2.0
PRODID:-//4 Horsemen Publications - ECPv6.15.20//NONSGML v1.0//EN
CALSCALE:GREGORIAN
METHOD:PUBLISH
X-ORIGINAL-URL:https://4horsemenpublications.com
X-WR-CALDESC:Events for 4 Horsemen Publications
REFRESH-INTERVAL;VALUE=DURATION:PT1H
X-Robots-Tag:noindex
X-PUBLISHED-TTL:PT1H
BEGIN:VTIMEZONE
TZID:America/New_York
BEGIN:DAYLIGHT
TZOFFSETFROM:-0500
TZOFFSETTO:-0400
TZNAME:EDT
DTSTART:20240310T070000
END:DAYLIGHT
BEGIN:STANDARD
TZOFFSETFROM:-0400
TZOFFSETTO:-0500
TZNAME:EST
DTSTART:20241103T060000
END:STANDARD
BEGIN:DAYLIGHT
TZOFFSETFROM:-0500
TZOFFSETTO:-0400
TZNAME:EDT
DTSTART:20250309T070000
END:DAYLIGHT
BEGIN:STANDARD
TZOFFSETFROM:-0400
TZOFFSETTO:-0500
TZNAME:EST
DTSTART:20251102T060000
END:STANDARD
BEGIN:DAYLIGHT
TZOFFSETFROM:-0500
TZOFFSETTO:-0400
TZNAME:EDT
DTSTART:20260308T070000
END:DAYLIGHT
BEGIN:STANDARD
TZOFFSETFROM:-0400
TZOFFSETTO:-0500
TZNAME:EST
DTSTART:20261101T060000
END:STANDARD
END:VTIMEZONE
BEGIN:VEVENT
DTSTART;TZID=America/New_York:20251108T040000
DTEND;TZID=America/New_York:20251108T080000
DTSTAMP:20260424T140700
CREATED:20251006T035123Z
LAST-MODIFIED:20251006T035137Z
UID:11601-1762574400-1762588800@4horsemenpublications.com
SUMMARY:A Bookish Affair
DESCRIPTION:We are bringing a small author signing event to the Poconos on November 8th from 12 to 4pm at Signature Event Center in Broadheadsville\, PA! Please join us for a day celebrating books with local (and surrounding) authors\, vendors\, food\, and drinks. This is a FREE event to attend. \nAttending authors: \n\nLeslie and Janice Sommers
URL:https://4horsemenpublications.com/event/a-bookish-affair/
LOCATION:Signature Event Center\, 133 Erin Ln\, Brodheadsville\, PA\, 18322\, United States
CATEGORIES:Author Signing,Imprint,4 Horsemen Publications
ATTACH;FMTTYPE=image/jpeg:https://4horsemenpublications.com/wp-content/uploads/2025/10/A-Bookish-Affair.jpg
END:VEVENT
END:VCALENDAR