BEGIN:VCALENDAR
VERSION:2.0
PRODID:-//4 Horsemen Publications - ECPv6.15.20//NONSGML v1.0//EN
CALSCALE:GREGORIAN
METHOD:PUBLISH
X-WR-CALNAME:4 Horsemen Publications
X-ORIGINAL-URL:https://4horsemenpublications.com
X-WR-CALDESC:Events for 4 Horsemen Publications
REFRESH-INTERVAL;VALUE=DURATION:PT1H
X-Robots-Tag:noindex
X-PUBLISHED-TTL:PT1H
BEGIN:VTIMEZONE
TZID:America/New_York
BEGIN:DAYLIGHT
TZOFFSETFROM:-0500
TZOFFSETTO:-0400
TZNAME:EDT
DTSTART:20240310T070000
END:DAYLIGHT
BEGIN:STANDARD
TZOFFSETFROM:-0400
TZOFFSETTO:-0500
TZNAME:EST
DTSTART:20241103T060000
END:STANDARD
BEGIN:DAYLIGHT
TZOFFSETFROM:-0500
TZOFFSETTO:-0400
TZNAME:EDT
DTSTART:20250309T070000
END:DAYLIGHT
BEGIN:STANDARD
TZOFFSETFROM:-0400
TZOFFSETTO:-0500
TZNAME:EST
DTSTART:20251102T060000
END:STANDARD
BEGIN:DAYLIGHT
TZOFFSETFROM:-0500
TZOFFSETTO:-0400
TZNAME:EDT
DTSTART:20260308T070000
END:DAYLIGHT
BEGIN:STANDARD
TZOFFSETFROM:-0400
TZOFFSETTO:-0500
TZNAME:EST
DTSTART:20261101T060000
END:STANDARD
END:VTIMEZONE
BEGIN:VEVENT
DTSTART;VALUE=DATE:20250911
DTEND;VALUE=DATE:20250914
DTSTAMP:20260425T201053
CREATED:20250902T110718Z
LAST-MODIFIED:20250902T110718Z
UID:11381-1757606400-1757865599@4horsemenpublications.com
SUMMARY:Ancient City Con
DESCRIPTION:St. Augustine\, FL at the Renaissance World Golf Village Resort \nAttending Author: \n\nNick Savage
URL:https://4horsemenpublications.com/event/ancient-city-con-4/
LOCATION:World Golf Village Renaissance St. Augustine Resort\, 500 S Legacy Trail\, St. Augustine\, FL\, 32092
CATEGORIES:Conventions,Author Signing,4 Horsemen Publications
ATTACH;FMTTYPE=image/jpeg:https://4horsemenpublications.com/wp-content/uploads/2025/09/acc-Nick-Savage.jpg
END:VEVENT
BEGIN:VEVENT
DTSTART;VALUE=DATE:20250918
DTEND;VALUE=DATE:20250921
DTSTAMP:20260425T201053
CREATED:20250902T111049Z
LAST-MODIFIED:20250902T111049Z
UID:11384-1758211200-1758470399@4horsemenpublications.com
SUMMARY:UltraCon Comic Con
DESCRIPTION:UltraCon of South Florida is September 19-21 at the South Florida Expo Center. The long-running\, multi-genre events features comics\, anime\, gaming\, and more. Booth number yet unknown. \nAttending Author: \n\nNick Savage
URL:https://4horsemenpublications.com/event/ultracon-comic-con/
LOCATION:Expo Center at the South Florida Fairgrounds\, 9067 Southern Blvd\,\, West Palm Beach\, FL\, 33411
CATEGORIES:Conventions,Author Signing,4 Horsemen Publications
ATTACH;FMTTYPE=image/webp:https://4horsemenpublications.com/wp-content/uploads/2025/09/UC-LOGO-Con_1692222421-Nick-Savage.webp
END:VEVENT
END:VCALENDAR