BEGIN:VCALENDAR
VERSION:2.0
PRODID:-//4 Horsemen Publications - ECPv6.15.20//NONSGML v1.0//EN
CALSCALE:GREGORIAN
METHOD:PUBLISH
X-ORIGINAL-URL:https://4horsemenpublications.com
X-WR-CALDESC:Events for 4 Horsemen Publications
REFRESH-INTERVAL;VALUE=DURATION:PT1H
X-Robots-Tag:noindex
X-PUBLISHED-TTL:PT1H
BEGIN:VTIMEZONE
TZID:America/New_York
BEGIN:DAYLIGHT
TZOFFSETFROM:-0500
TZOFFSETTO:-0400
TZNAME:EDT
DTSTART:20250309T070000
END:DAYLIGHT
BEGIN:STANDARD
TZOFFSETFROM:-0400
TZOFFSETTO:-0500
TZNAME:EST
DTSTART:20251102T060000
END:STANDARD
BEGIN:DAYLIGHT
TZOFFSETFROM:-0500
TZOFFSETTO:-0400
TZNAME:EDT
DTSTART:20260308T070000
END:DAYLIGHT
BEGIN:STANDARD
TZOFFSETFROM:-0400
TZOFFSETTO:-0500
TZNAME:EST
DTSTART:20261101T060000
END:STANDARD
BEGIN:DAYLIGHT
TZOFFSETFROM:-0500
TZOFFSETTO:-0400
TZNAME:EDT
DTSTART:20270314T070000
END:DAYLIGHT
BEGIN:STANDARD
TZOFFSETFROM:-0400
TZOFFSETTO:-0500
TZNAME:EST
DTSTART:20271107T060000
END:STANDARD
END:VTIMEZONE
BEGIN:VEVENT
DTSTART;VALUE=DATE:20260326
DTEND;VALUE=DATE:20260329
DTSTAMP:20260423T234414
CREATED:20260226T074210Z
LAST-MODIFIED:20260319T051138Z
UID:13119-1774540800-1774799999@4horsemenpublications.com
SUMMARY:Read Freely Fest
DESCRIPTION:Read Freely Fest is South Carolina’s newest book festival\, celebrating stories and ideas with bestselling author talks\, panels featuring fresh voices\, performances and interactive activities. Each spring at Richland Library Main in downtown Columbia\, you can meet favorite authors\, discover new reads and connect with readers and writers who share inspiring perspectives. Author meet and greet March 28\, 2026 from 1:00 PM to 1:30 PM \nAttending Author: \n\nRobert J. Lewis
URL:https://4horsemenpublications.com/event/read-freely-fest-2/
LOCATION:Richland Library\, 1431 Assembly Street\, Columbia\, SC\, 29201\, United States
CATEGORIES:Festival,4 Horsemen Publications
ATTACH;FMTTYPE=image/jpeg:https://4horsemenpublications.com/wp-content/uploads/2026/02/IMG_8720-Robert-Lewis.jpg
END:VEVENT
END:VCALENDAR