BEGIN:VCALENDAR
VERSION:2.0
PRODID:-//4 Horsemen Publications - ECPv6.15.20//NONSGML v1.0//EN
CALSCALE:GREGORIAN
METHOD:PUBLISH
X-ORIGINAL-URL:https://4horsemenpublications.com
X-WR-CALDESC:Events for 4 Horsemen Publications
REFRESH-INTERVAL;VALUE=DURATION:PT1H
X-Robots-Tag:noindex
X-PUBLISHED-TTL:PT1H
BEGIN:VTIMEZONE
TZID:America/New_York
BEGIN:DAYLIGHT
TZOFFSETFROM:-0500
TZOFFSETTO:-0400
TZNAME:EDT
DTSTART:20250309T070000
END:DAYLIGHT
BEGIN:STANDARD
TZOFFSETFROM:-0400
TZOFFSETTO:-0500
TZNAME:EST
DTSTART:20251102T060000
END:STANDARD
BEGIN:DAYLIGHT
TZOFFSETFROM:-0500
TZOFFSETTO:-0400
TZNAME:EDT
DTSTART:20260308T070000
END:DAYLIGHT
BEGIN:STANDARD
TZOFFSETFROM:-0400
TZOFFSETTO:-0500
TZNAME:EST
DTSTART:20261101T060000
END:STANDARD
BEGIN:DAYLIGHT
TZOFFSETFROM:-0500
TZOFFSETTO:-0400
TZNAME:EDT
DTSTART:20270314T070000
END:DAYLIGHT
BEGIN:STANDARD
TZOFFSETFROM:-0400
TZOFFSETTO:-0500
TZNAME:EST
DTSTART:20271107T060000
END:STANDARD
END:VTIMEZONE
BEGIN:VEVENT
DTSTART;TZID=America/New_York:20260321T050000
DTEND;TZID=America/New_York:20260321T100000
DTSTAMP:20260424T102645
CREATED:20260130T110731Z
LAST-MODIFIED:20260319T051148Z
UID:12897-1774069200-1774087200@4horsemenpublications.com
SUMMARY:Barnes & Noble Book Signing
DESCRIPTION:Book Signing from 1 pm to 6 pm at Barnes and Noble Lakeland\, FL. \nAttending Author: \n\nSteve Altier
URL:https://4horsemenpublications.com/event/barnes-noble-book-signing-3/
LOCATION:Barnes & Noble – Lakeland\, FL\, 3615 S. Florida Ave.\, Lakeland\, FL\, 33803\, United States
CATEGORIES:Author Signing,4 Horsemen Publications
ATTACH;FMTTYPE=image/png:https://4horsemenpublications.com/wp-content/uploads/2026/01/BN-March-21-Author-Steve-Altier.png
END:VEVENT
END:VCALENDAR