BEGIN:VCALENDAR
VERSION:2.0
PRODID:-//4 Horsemen Publications - ECPv6.15.20//NONSGML v1.0//EN
CALSCALE:GREGORIAN
METHOD:PUBLISH
X-ORIGINAL-URL:https://4horsemenpublications.com
X-WR-CALDESC:Events for 4 Horsemen Publications
REFRESH-INTERVAL;VALUE=DURATION:PT1H
X-Robots-Tag:noindex
X-PUBLISHED-TTL:PT1H
BEGIN:VTIMEZONE
TZID:America/New_York
BEGIN:DAYLIGHT
TZOFFSETFROM:-0500
TZOFFSETTO:-0400
TZNAME:EDT
DTSTART:20250309T070000
END:DAYLIGHT
BEGIN:STANDARD
TZOFFSETFROM:-0400
TZOFFSETTO:-0500
TZNAME:EST
DTSTART:20251102T060000
END:STANDARD
BEGIN:DAYLIGHT
TZOFFSETFROM:-0500
TZOFFSETTO:-0400
TZNAME:EDT
DTSTART:20260308T070000
END:DAYLIGHT
BEGIN:STANDARD
TZOFFSETFROM:-0400
TZOFFSETTO:-0500
TZNAME:EST
DTSTART:20261101T060000
END:STANDARD
BEGIN:DAYLIGHT
TZOFFSETFROM:-0500
TZOFFSETTO:-0400
TZNAME:EDT
DTSTART:20270314T070000
END:DAYLIGHT
BEGIN:STANDARD
TZOFFSETFROM:-0400
TZOFFSETTO:-0500
TZNAME:EST
DTSTART:20271107T060000
END:STANDARD
END:VTIMEZONE
BEGIN:VEVENT
DTSTART;VALUE=DATE:20260207
DTEND;VALUE=DATE:20260208
DTSTAMP:20260425T102708
CREATED:20260205T092105Z
LAST-MODIFIED:20260205T092105Z
UID:12932-1770480000-1770566399@4horsemenpublications.com
SUMMARY:Henry's Depot February Market
DESCRIPTION:Step into Sanford’s favorite market event at Henry’s Depot! Shop unique creations from local artists\, makers\, and small businesses\, all in one vibrant space. Enjoy a lively atmosphere\, connect with the creative community\, and discover one-of-a-kind finds. Whether you’re looking for art\, crafts\, or specialty goods\, this event is the perfect place to mingle and support Central Florida’s talented vendors. Don’t miss out—reserve your tickets and be part of a memorable day celebrating local talent!
URL:https://4horsemenpublications.com/event/henrys-depot-february-market/
LOCATION:Henry’s Depot\, 212 W 1st St.\, Sanford\, FL\, 32771\, United States
CATEGORIES:Festival,4 Horsemen Publications
ATTACH;FMTTYPE=image/avif:https://4horsemenpublications.com/wp-content/uploads/2026/02/HenryDepot-Author-Valerie-Willis.avif
END:VEVENT
END:VCALENDAR